Workbook
Name Options_Ducts: informatieblad!$A$37:$A$41
Name Options_flanges: informatieblad!$A$2:$A$8
Name Tstukken: #REF!
Name Tstukken_rond: #REF!

Sheet Total
A1: SO nummer | E1: Version 5.0 (verkoop)
A2: PO nummer
A3: Lever datum
A4: Project
A5: Omschrijving
B7: Artikelcode | C7: aantal kanalen | D7: Luka m2 totaal | E7: Bruto verkoopprijs Totaal
G8: https://www.econox.nl/nl_NL/page/1873/rechthoekige-luchtkanalen/
A9: =informatieblad!D12 -> Rechte Kanalen (RctD)
A10: ='Rechte Kanalen'!I17 -> None | B10: ='Rechte Kanalen'!E22 -> -RctD------Options None | C10: ='Rechte Kanalen'!C23 -> 0 | D10: ='Rechte Kanalen'!O23*'Rechte Kanalen'!C23 -> 0 | E10: ='Rechte Kanalen'!S23 -> 0
A11: ='Rechte Kanalen'!I21 -> None | B11: ='Rechte Kanalen'!E26 -> -RctD------Options None | C11: ='Rechte Kanalen'!C27 -> 0 | D11: ='Rechte Kanalen'!O27*'Rechte Kanalen'!C27 -> 0 | E11: ='Rechte Kanalen'!S27 -> 0
A12: ='Rechte Kanalen'!I25 -> None | B12: ='Rechte Kanalen'!E30 -> -RctD------Options None | C12: ='Rechte Kanalen'!C31 -> 0 | D12: ='Rechte Kanalen'!O31*'Rechte Kanalen'!C31 -> 0 | E12: ='Rechte Kanalen'!S31 -> 0
A13: ='Rechte Kanalen'!I29 -> None | B13: ='Rechte Kanalen'!E34 -> -RctD------Options None | C13: ='Rechte Kanalen'!C35 -> 0 | D13: ='Rechte Kanalen'!O35*'Rechte Kanalen'!C35 -> 0 | E13: ='Rechte Kanalen'!S35 -> 0
A14: ='Rechte Kanalen'!I33 -> None | B14: ='Rechte Kanalen'!E38 -> -RctD------Options None | C14: ='Rechte Kanalen'!C39 -> 0 | D14: ='Rechte Kanalen'!O39*'Rechte Kanalen'!C39 -> 0 | E14: ='Rechte Kanalen'!S39 -> 0
A15: ='Rechte Kanalen'!I25 -> None | B15: ='Rechte Kanalen'!E42 -> -RctD------Options None | C15: ='Rechte Kanalen'!C43 -> 0 | D15: ='Rechte Kanalen'!O43*'Rechte Kanalen'!C43 -> 0 | E15: ='Rechte Kanalen'!S43 -> 0
A16: ='Rechte Kanalen'!I37 -> None | B16: ='Rechte Kanalen'!E46 -> -RctD------Options None | C16: ='Rechte Kanalen'!C47 -> 0 | D16: ='Rechte Kanalen'!O47*'Rechte Kanalen'!C47 -> 0 | E16: ='Rechte Kanalen'!S47 -> 0
A17: ='Rechte Kanalen'!I41 -> None | B17: ='Rechte Kanalen'!E50 -> -RctD------Options None | C17: ='Rechte Kanalen'!C51 -> 0 | D17: ='Rechte Kanalen'!O51*'Rechte Kanalen'!C51 -> 0 | E17: ='Rechte Kanalen'!S51 -> 0
A18: ='Rechte Kanalen'!I45 -> None | B18: ='Rechte Kanalen'!E54 -> -RctD------Options None | C18: ='Rechte Kanalen'!C55 -> 0 | D18: ='Rechte Kanalen'!O55*'Rechte Kanalen'!C55 -> 0 | E18: ='Rechte Kanalen'!S55 -> 0
A19: ='Rechte Kanalen'!I49 -> None | B19: ='Rechte Kanalen'!E58 -> -RctD------Options None | C19: ='Rechte Kanalen'!C59 -> 0 | D19: ='Rechte Kanalen'!O59*'Rechte Kanalen'!C59 -> 0 | E19: ='Rechte Kanalen'!S59 -> 0
A20: ='Rechte Kanalen'!I53 -> None | B20: ='Rechte Kanalen'!E62 -> -RctD------Options None | C20: ='Rechte Kanalen'!C63 -> 0 | D20: ='Rechte Kanalen'!O63*'Rechte Kanalen'!C63 -> 0 | E20: ='Rechte Kanalen'!S63 -> 0
A21: ='Rechte Kanalen'!I57 -> None | B21: ='Rechte Kanalen'!E66 -> -RctD------Options None | C21: ='Rechte Kanalen'!C67 -> 0 | D21: ='Rechte Kanalen'!O67*'Rechte Kanalen'!C67 -> 0 | E21: ='Rechte Kanalen'!S67 -> 0
A22: ='Rechte Kanalen'!I61 -> None | B22: ='Rechte Kanalen'!E70 -> -RctD------Options None | C22: ='Rechte Kanalen'!C71 -> 0 | D22: ='Rechte Kanalen'!O71*'Rechte Kanalen'!C71 -> 0 | E22: ='Rechte Kanalen'!S71 -> 0
A23: ='Rechte Kanalen'!I65 -> None | B23: ='Rechte Kanalen'!E74 -> -RctD------Options None | C23: ='Rechte Kanalen'!C75 -> 0 | D23: ='Rechte Kanalen'!O75*'Rechte Kanalen'!C75 -> 0 | E23: ='Rechte Kanalen'!S75 -> 0
A24: ='Rechte Kanalen'!I69 -> None | B24: ='Rechte Kanalen'!E78 -> -RctD------Options None | C24: ='Rechte Kanalen'!C79 -> 0 | D24: ='Rechte Kanalen'!O79*'Rechte Kanalen'!C79 -> 0 | E24: ='Rechte Kanalen'!S79 -> 0
A25: ='Rechte Kanalen'!I73 -> None | B25: ='Rechte Kanalen'!E82 -> -RctD------Options None | C25: ='Rechte Kanalen'!C83 -> 0 | D25: ='Rechte Kanalen'!O83*'Rechte Kanalen'!C83 -> 0 | E25: ='Rechte Kanalen'!S83 -> 0
A26: ='Rechte Kanalen'!I77 -> None | B26: ='Rechte Kanalen'!E86 -> -RctD------Options None | C26: ='Rechte Kanalen'!C87 -> 0 | D26: ='Rechte Kanalen'!O87*'Rechte Kanalen'!C87 -> 0 | E26: ='Rechte Kanalen'!S87 -> 0
A27: ='Rechte Kanalen'!I81 -> None | B27: ='Rechte Kanalen'!E90 -> -RctD------Options None | C27: ='Rechte Kanalen'!C91 -> 0 | D27: ='Rechte Kanalen'!O91*'Rechte Kanalen'!C91 -> 0 | E27: ='Rechte Kanalen'!S91 -> 0
A28: ='Rechte Kanalen'!I85 -> None | B28: ='Rechte Kanalen'!E94 -> -RctD------Options None | C28: ='Rechte Kanalen'!C95 -> 0 | D28: ='Rechte Kanalen'!O95*'Rechte Kanalen'!C95 -> 0 | E28: ='Rechte Kanalen'!S95 -> 0
A29: ='Rechte Kanalen'!I89 -> None | B29: ='Rechte Kanalen'!E98 -> -RctD------Options None | C29: ='Rechte Kanalen'!C99 -> 0 | D29: ='Rechte Kanalen'!O99*'Rechte Kanalen'!C99 -> 0 | E29: ='Rechte Kanalen'!S99 -> 0
A30: ='Rechte Kanalen'!I93 -> None | B30: ='Rechte Kanalen'!E102 -> -RctD------Options None | C30: ='Rechte Kanalen'!C103 -> 0 | D30: ='Rechte Kanalen'!O103*'Rechte Kanalen'!C103 -> 0 | E30: ='Rechte Kanalen'!S103 -> 0
A31: ='Rechte Kanalen'!I97 -> None | B31: ='Rechte Kanalen'!E106 -> -RctD------Options None | C31: ='Rechte Kanalen'!C107 -> 0 | D31: ='Rechte Kanalen'!O107*'Rechte Kanalen'!C107 -> 0 | E31: ='Rechte Kanalen'!S107 -> 0
A32: ='Rechte Kanalen'!I101 -> None | B32: ='Rechte Kanalen'!E110 -> -RctD------Options None | C32: ='Rechte Kanalen'!C111 -> 0 | D32: ='Rechte Kanalen'!O111*'Rechte Kanalen'!C111 -> 0 | E32: ='Rechte Kanalen'!S111 -> 0
A33: ='Rechte Kanalen'!I105 -> None | B33: ='Rechte Kanalen'!E114 -> -RctD------Options None | C33: ='Rechte Kanalen'!C115 -> 0 | D33: ='Rechte Kanalen'!O115*'Rechte Kanalen'!C115 -> 0 | E33: ='Rechte Kanalen'!S115 -> 0
A34: ='Rechte Kanalen'!I109 -> None | B34: ='Rechte Kanalen'!E118 -> -RctD------Options None | C34: ='Rechte Kanalen'!C119 -> 0 | D34: ='Rechte Kanalen'!O119*'Rechte Kanalen'!C119 -> 0 | E34: ='Rechte Kanalen'!S119 -> 0
A35: ='Rechte Kanalen'!I113 -> None | B35: ='Rechte Kanalen'!E122 -> -RctD------Options None | C35: ='Rechte Kanalen'!C123 -> 0 | D35: ='Rechte Kanalen'!O123*'Rechte Kanalen'!C123 -> 0 | E35: ='Rechte Kanalen'!S123 -> 0
A36: ='Rechte Kanalen'!I117 -> None | B36: ='Rechte Kanalen'!E126 -> -RctD------Options None | C36: ='Rechte Kanalen'!C127 -> 0 | D36: ='Rechte Kanalen'!O127*'Rechte Kanalen'!C127 -> 0 | E36: ='Rechte Kanalen'!S127 -> 0
A37: ='Rechte Kanalen'!I121 -> None | B37: ='Rechte Kanalen'!E130 -> -RctD------Options None | C37: ='Rechte Kanalen'!C131 -> 0 | D37: ='Rechte Kanalen'!O131*'Rechte Kanalen'!C131 -> 0 | E37: ='Rechte Kanalen'!S131 -> 0
A38: ='Rechte Kanalen'!I125 -> None | B38: ='Rechte Kanalen'!E134 -> -RctD------Options None | C38: ='Rechte Kanalen'!C135 -> 0 | D38: ='Rechte Kanalen'!O135*'Rechte Kanalen'!C135 -> 0 | E38: ='Rechte Kanalen'!S135 -> 0
A39: ='Rechte Kanalen'!I129 -> None | B39: ='Rechte Kanalen'!E138 -> -RctD------Options None | C39: ='Rechte Kanalen'!C139 -> 0 | D39: ='Rechte Kanalen'!O139*'Rechte Kanalen'!C139 -> 0 | E39: ='Rechte Kanalen'!S139 -> 0
A40: =informatieblad!D13 -> Verloopstukken (RctR)
A41: =Verloopstukken!K20 -> None | B41: =Verloopstukken!F21 -> -RctR-----0-0-0-0---Options None | C41: =Verloopstukken!C22 -> 0 | D41: =Verloopstukken!Q22*Verloopstukken!C22 -> 0 | E41: =Verloopstukken!U22 -> 0
A42: =Verloopstukken!K24 -> None | B42: =Verloopstukken!F25 -> -RctR-----0-0-0-0---Options None | C42: =Verloopstukken!C26 -> 0 | D42: =Verloopstukken!Q26*Verloopstukken!C26 -> 0 | E42: =Verloopstukken!U26 -> 0
A43: =Verloopstukken!K28 -> None | B43: =Verloopstukken!F29 -> -RctR-----0-0-0-0---Options None | C43: =Verloopstukken!C30 -> 0 | D43: =Verloopstukken!Q30*Verloopstukken!C30 -> 0 | E43: =Verloopstukken!U30 -> 0
A44: =Verloopstukken!K32 -> None | B44: =Verloopstukken!F33 -> -RctR-----0-0-0-0---Options None | C44: =Verloopstukken!C34 -> 0 | D44: =Verloopstukken!Q34*Verloopstukken!C34 -> 0 | E44: =Verloopstukken!U34 -> 0
A45: =Verloopstukken!K36 -> None | B45: =Verloopstukken!F37 -> -RctR-----0-0-0-0---Options None | C45: =Verloopstukken!C38 -> 0 | D45: =Verloopstukken!Q38*Verloopstukken!C38 -> 0 | E45: =Verloopstukken!U38 -> 0
A46: =Verloopstukken!K40 -> None | B46: =Verloopstukken!F41 -> -RctR-----0-0-0-0---Options None | C46: =Verloopstukken!C42 -> 0 | D46: =Verloopstukken!Q42*Verloopstukken!C42 -> 0 | E46: =Verloopstukken!U42 -> 0
A47: =Verloopstukken!K44 -> None | B47: =Verloopstukken!F45 -> -RctR-----0-0-0-0---Options None | C47: =Verloopstukken!C46 -> 0 | D47: =Verloopstukken!Q46*Verloopstukken!C46 -> 0 | E47: =Verloopstukken!U46 -> 0
A48: =Verloopstukken!K48 -> None | B48: =Verloopstukken!F49 -> -RctR-----0-0-0-0---Options None | C48: =Verloopstukken!C50 -> 0 | D48: =Verloopstukken!Q50*Verloopstukken!C50 -> 0 | E48: =Verloopstukken!U50 -> 0
A49: =Verloopstukken!K52 -> None | B49: =Verloopstukken!F53 -> -RctR-----0-0-0-0---Options None | C49: =Verloopstukken!C54 -> 0 | D49: =Verloopstukken!Q54*Verloopstukken!C54 -> 0 | E49: =Verloopstukken!U54 -> 0
A50: =Verloopstukken!K56 -> None | B50: =Verloopstukken!F57 -> -RctR-----0-0-0-0---Options None | C50: =Verloopstukken!C58 -> 0 | D50: =Verloopstukken!Q58*Verloopstukken!C58 -> 0 | E50: =Verloopstukken!U58 -> 0
A51: =Verloopstukken!K60 -> None | B51: =Verloopstukken!F61 -> -RctR-----0-0-0-0---Options None | C51: =Verloopstukken!C62 -> 0 | D51: =Verloopstukken!Q62*Verloopstukken!C62 -> 0 | E51: =Verloopstukken!U62 -> 0
A52: =Verloopstukken!K64 -> None | B52: =Verloopstukken!F65 -> -RctR-----0-0-0-0---Options None | C52: =Verloopstukken!C66 -> 0 | D52: =Verloopstukken!Q66*Verloopstukken!C66 -> 0 | E52: =Verloopstukken!U66 -> 0
A53: =Verloopstukken!K68 -> None | B53: =Verloopstukken!F69 -> -RctR-----0-0-0-0---Options None | C53: =Verloopstukken!C70 -> 0 | D53: =Verloopstukken!Q70*Verloopstukken!C70 -> 0 | E53: =Verloopstukken!U70 -> 0
A54: =Verloopstukken!K72 -> None | B54: =Verloopstukken!F73 -> -RctR-----0-0-0-0---Options None | C54: =Verloopstukken!C74 -> 0 | D54: =Verloopstukken!Q74*Verloopstukken!C74 -> 0 | E54: =Verloopstukken!U74 -> 0
A55: =Verloopstukken!K76 -> None | B55: =Verloopstukken!F77 -> -RctR-----0-0-0-0---Options None | C55: =Verloopstukken!C78 -> 0 | D55: =Verloopstukken!Q78*Verloopstukken!C78 -> 0 | E55: =Verloopstukken!U78 -> 0
A56: =Verloopstukken!K80 -> None | B56: =Verloopstukken!F81 -> -RctR-----0-0-0-0---Options None | C56: =Verloopstukken!C82 -> 0 | D56: =Verloopstukken!Q82*Verloopstukken!C82 -> 0 | E56: =Verloopstukken!U82 -> 0
A57: =Verloopstukken!K84 -> None | B57: =Verloopstukken!F85 -> -RctR-----0-0-0-0---Options None | C57: =Verloopstukken!C86 -> 0 | D57: =Verloopstukken!Q86*Verloopstukken!C86 -> 0 | E57: =Verloopstukken!U86 -> 0
A58: =Verloopstukken!K88 -> None | B58: =Verloopstukken!F89 -> -RctR-----0-0-0-0---Options None | C58: =Verloopstukken!C90 -> 0 | D58: =Verloopstukken!Q90*Verloopstukken!C90 -> 0 | E58: =Verloopstukken!U90 -> 0
A59: =Verloopstukken!K92 -> None | B59: =Verloopstukken!F93 -> -RctR-----0-0-0-0---Options None | C59: =Verloopstukken!C94 -> 0 | D59: =Verloopstukken!Q94*Verloopstukken!C94 -> 0 | E59: =Verloopstukken!U94 -> 0
A60: =Verloopstukken!K96 -> None | B60: =Verloopstukken!F97 -> -RctR-----0-0-0-0---Options None | C60: =Verloopstukken!C98 -> 0 | D60: =Verloopstukken!Q98*Verloopstukken!C98 -> 0 | E60: =Verloopstukken!U98 -> 0
A61: =Verloopstukken!K100 -> None | B61: =Verloopstukken!F101 -> -RctR-----0-0-0-0---Options None | C61: =Verloopstukken!C102 -> 0 | D61: =Verloopstukken!Q102*Verloopstukken!C102 -> 0 | E61: =Verloopstukken!U102 -> 0
A62: =Verloopstukken!K104 -> None | B62: =Verloopstukken!F105 -> -RctR-----0-0-0-0---Options None | C62: =Verloopstukken!C106 -> 0 | D62: =Verloopstukken!Q106*Verloopstukken!C106 -> 0 | E62: =Verloopstukken!U106 -> 0
A63: =Verloopstukken!K108 -> None | B63: =Verloopstukken!F109 -> -RctR-----0-0-0-0---Options None | C63: =Verloopstukken!C110 -> 0 | D63: =Verloopstukken!Q110*Verloopstukken!C110 -> 0 | E63: =Verloopstukken!U110 -> 0
A64: =Verloopstukken!K112 -> None | B64: =Verloopstukken!F113 -> -RctR-----0-0-0-0---Options None | C64: =Verloopstukken!C114 -> 0 | D64: =Verloopstukken!Q114*Verloopstukken!C114 -> 0 | E64: =Verloopstukken!U114 -> 0
A65: =Verloopstukken!K116 -> None | B65: =Verloopstukken!F117 -> -RctR-----0-0-0-0---Options None | C65: =Verloopstukken!C118 -> 0 | D65: =Verloopstukken!Q118*Verloopstukken!C118 -> 0 | E65: =Verloopstukken!U118 -> 0
A66: =Verloopstukken!K120 -> None | B66: =Verloopstukken!F121 -> -RctR-----0-0-0-0---Options None | C66: =Verloopstukken!C122 -> 0 | D66: =Verloopstukken!Q122*Verloopstukken!C122 -> 0 | E66: =Verloopstukken!U122 -> 0
A67: =Verloopstukken!K124 -> None | B67: =Verloopstukken!F125 -> -RctR-----0-0-0-0---Options None | C67: =Verloopstukken!C126 -> 0 | D67: =Verloopstukken!Q126*Verloopstukken!C126 -> 0 | E67: =Verloopstukken!U126 -> 0
A68: =Verloopstukken!K128 -> None | B68: =Verloopstukken!F129 -> -RctR-----0-0-0-0---Options None | C68: =Verloopstukken!C130 -> 0 | D68: =Verloopstukken!Q130*Verloopstukken!C130 -> 0 | E68: =Verloopstukken!U130 -> 0
A69: =Verloopstukken!K132 -> None | B69: =Verloopstukken!F133 -> -RctR-----0-0-0-0---Options None | C69: =Verloopstukken!C134 -> 0 | D69: =Verloopstukken!Q134*Verloopstukken!C134 -> 0 | E69: =Verloopstukken!U134 -> 0
A70: =Verloopstukken!K136 -> None | B70: =Verloopstukken!F137 -> -RctR-----0-0-0-0---Options None | C70: =Verloopstukken!C138 -> 0 | D70: =Verloopstukken!Q138*Verloopstukken!C138 -> 0 | E70: =Verloopstukken!U138 -> 0
A71: =informatieblad!D14 -> Bochten (RctB)
A72: =Bochten!J21 -> None | B72: =Bochten!F22 -> -RctB----0-0-0-0----Options None | C72: =Bochten!C23 -> 0 | D72: =Bochten!N23*Bochten!C23 -> 0 | E72: =Bochten!R23 -> 0
A73: =Bochten!J25 -> None | B73: =Bochten!F26 -> -RctB----0-0-0-0----Options None | C73: =Bochten!C27 -> 0 | D73: =Bochten!N27*Bochten!C27 -> 0 | E73: =Bochten!R27 -> 0
A74: =Bochten!J29 -> None | B74: =Bochten!F30 -> -RctB----0-0-0-0----Options None | C74: =Bochten!C31 -> 0 | D74: =Bochten!N31*Bochten!C31 -> 0 | E74: =Bochten!R31 -> 0
A75: =Bochten!J33 -> None | B75: =Bochten!F34 -> -RctB----0-0-0-0----Options None | C75: =Bochten!C35 -> 0 | D75: =Bochten!N35*Bochten!C35 -> 0 | E75: =Bochten!R35 -> 0
A76: =Bochten!J37 -> None | B76: =Bochten!F38 -> -RctB----0-0-0-0----Options None | C76: =Bochten!C39 -> 0 | D76: =Bochten!N39*Bochten!C39 -> 0 | E76: =Bochten!R39 -> 0
A77: =Bochten!J41 -> None | B77: =Bochten!F42 -> -RctB----0-0-0-0----Options None | C77: =Bochten!C43 -> 0 | D77: =Bochten!N43*Bochten!C43 -> 0 | E77: =Bochten!R43 -> 0
A78: =Bochten!J45 -> None | B78: =Bochten!F46 -> -RctB----0-0-0-0----Options None | C78: =Bochten!C47 -> 0 | D78: =Bochten!N47*Bochten!C47 -> 0 | E78: =Bochten!R47 -> 0
A79: =Bochten!J49 -> None | B79: =Bochten!F50 -> -RctB----0-0-0-0----Options None | C79: =Bochten!C51 -> 0 | D79: =Bochten!N51*Bochten!C51 -> 0 | E79: =Bochten!R51 -> 0
A80: =Bochten!J53 -> None | B80: =Bochten!F54 -> -RctB----0-0-0-0----Options None | C80: =Bochten!C55 -> 0 | D80: =Bochten!N55*Bochten!C55 -> 0 | E80: =Bochten!R55 -> 0
A81: =Bochten!J57 -> None | B81: =Bochten!F58 -> -RctB----0-0-0-0----Options None | C81: =Bochten!C59 -> 0 | D81: =Bochten!N59*Bochten!C59 -> 0 | E81: =Bochten!R59 -> 0
A82: =Bochten!J61 -> None | B82: =Bochten!F62 -> -RctB----0-0-0-0----Options None | C82: =Bochten!C63 -> 0 | D82: =Bochten!N63*Bochten!C63 -> 0 | E82: =Bochten!R63 -> 0
A83: =Bochten!J65 -> None | B83: =Bochten!F66 -> -RctB----0-0-0-0----Options None | C83: =Bochten!C67 -> 0 | D83: =Bochten!N67*Bochten!C67 -> 0 | E83: =Bochten!R67 -> 0
A84: =Bochten!J69 -> None | B84: =Bochten!F70 -> -RctB----0-0-0-0----Options None | C84: =Bochten!C71 -> 0 | D84: =Bochten!N71*Bochten!C71 -> 0 | E84: =Bochten!R71 -> 0
A85: =Bochten!J73 -> None | B85: =Bochten!F74 -> -RctB----0-0-0-0----Options None | C85: =Bochten!C75 -> 0 | D85: =Bochten!N75*Bochten!C75 -> 0 | E85: =Bochten!R75 -> 0
A86: =Bochten!J77 -> None | B86: =Bochten!F78 -> -RctB----0-0-0-0----Options None | C86: =Bochten!C79 -> 0 | D86: =Bochten!N79*Bochten!C79 -> 0 | E86: =Bochten!R79 -> 0
A87: =Bochten!J81 -> None | B87: =Bochten!F82 -> -RctB----0-0-0-0----Options None | C87: =Bochten!C83 -> 0 | D87: =Bochten!N83*Bochten!C83 -> 0 | E87: =Bochten!R83 -> 0
A88: =Bochten!J85 -> None | B88: =Bochten!F86 -> -RctB----0-0-0-0----Options None | C88: =Bochten!C87 -> 0 | D88: =Bochten!N87*Bochten!C87 -> 0 | E88: =Bochten!R87 -> 0
A89: =Bochten!J89 -> None | B89: =Bochten!F90 -> -RctB----0-0-0-0----Options None | C89: =Bochten!C91 -> 0 | D89: =Bochten!N91*Bochten!C91 -> 0 | E89: =Bochten!R91 -> 0
A90: =Bochten!J93 -> None | B90: =Bochten!F94 -> -RctB----0-0-0-0----Options None | C90: =Bochten!C95 -> 0 | D90: =Bochten!N95*Bochten!C95 -> 0 | E90: =Bochten!R95 -> 0
A91: =Bochten!J97 -> None | B91: =Bochten!F98 -> -RctB----0-0-0-0----Options None | C91: =Bochten!C99 -> 0 | D91: =Bochten!N99*Bochten!C99 -> 0 | E91: =Bochten!R99 -> 0
A92: =Bochten!J101 -> None | B92: =Bochten!F102 -> -RctB----0-0-0-0----Options None | C92: =Bochten!C103 -> 0 | D92: =Bochten!N103*Bochten!C103 -> 0 | E92: =Bochten!R103 -> 0
A93: =Bochten!J105 -> None | B93: =Bochten!F106 -> -RctB----0-0-0-0----Options None | C93: =Bochten!C107 -> 0 | D93: =Bochten!N107*Bochten!C107 -> 0 | E93: =Bochten!R107 -> 0
A94: =Bochten!J109 -> None | B94: =Bochten!F110 -> -RctB----0-0-0-0----Options None | C94: =Bochten!C111 -> 0 | D94: =Bochten!N111*Bochten!C111 -> 0 | E94: =Bochten!R111 -> 0
A95: =Bochten!J113 -> None | B95: =Bochten!F114 -> -RctB----0-0-0-0----Options None | C95: =Bochten!C115 -> 0 | D95: =Bochten!N115*Bochten!C115 -> 0 | E95: =Bochten!R115 -> 0
A96: =Bochten!J117 -> None | B96: =Bochten!F118 -> -RctB----0-0-0-0----Options None | C96: =Bochten!C119 -> 0 | D96: =Bochten!N119*Bochten!C119 -> 0 | E96: =Bochten!R119 -> 0
A97: =Bochten!J121 -> None | B97: =Bochten!F122 -> -RctB----0-0-0-0----Options None | C97: =Bochten!C123 -> 0 | D97: =Bochten!N123*Bochten!C123 -> 0 | E97: =Bochten!R123 -> 0
A98: =Bochten!J125 -> None | B98: =Bochten!F126 -> -RctB----0-0-0-0----Options None | C98: =Bochten!C127 -> 0 | D98: =Bochten!N127*Bochten!C127 -> 0 | E98: =Bochten!R127 -> 0
A99: =Bochten!J129 -> None | B99: =Bochten!F130 -> -RctB----0-0-0-0----Options None | C99: =Bochten!C131 -> 0 | D99: =Bochten!N131*Bochten!C131 -> 0 | E99: =Bochten!R131 -> 0
A100: =Bochten!J133 -> None | B100: =Bochten!F134 -> -RctB----0-0-0-0----Options None | C100: =Bochten!C135 -> 0 | D100: =Bochten!N135*Bochten!C135 -> 0 | E100: =Bochten!R135 -> 0
A101: =Bochten!J137 -> None | B101: =Bochten!F138 -> -RctB----0-0-0-0----Options None | C101: =Bochten!C139 -> 0 | D101: =Bochten!N139*Bochten!C139 -> 0 | E101: =Bochten!R139 -> 0
...

Sheet Rechte Kanalen
M1: =informatieblad!F12&" "&informatieblad!D12 -> Total aantal of Rechte Kanalen (RctD) | R1: =C23+C27+C31+C35+C39+C43+C47+C51+C55+C59+C61+C65+C69+C75+C79+C83+C87+C91+C95+C99+C103+C107+C111+C115+C119+C123+C127+C131+C135+C139 -> 0
M2: =informatieblad!F13 -> Total purchase price | R2: =R23+R27+R31+R35+R39+R43+R47+R51+R55+R59+R63+R67+R71+R75+R79+R83+R87+R91+R95+R99+R103+R107+R111+R115+R119+R123+R127+R131+R135+R139 -> 0
M3: =informatieblad!F14 -> Total sales price | R3: =S23+S27+S35+S39+S43+S47+S51+S55+S59+S63+S67+S71+S75+S79+S83+S87+S91+S95+S99+S103+S107+S111+S115+S119+S123+S127+S131+S135+S139 -> 0
H4: =informatieblad!D12 -> Rechte Kanalen (RctD)
F9: Minimale Lengte 100mm
F10: Maximale Lengte 1500mm
A16: Nr. | B16: A | C16: B | D16: Lengte | I16: Opmerkingen
A17: VB. | B17: 1000 | C17: 250 | D17: 1000 | I17: None
B18: FL30 | C18: FL30 | E18: VB.-RctD-1000-250-1000-FL30-FL30-Options None
B19: aantal | C19: 1 | D19: 2.5 | E19: m2 | F19: Options None
I21: None | N21: m2/pcs | O21: rounded m2/pcs | P21: m2/pcs | Q21: rounded m2/pcs | R21: Purchase price total | S21: Sales price total | T21: Options Duct | W21: price /m2 | X21: price /m2 | Z21: biggest size | AA21: plate thickness | AB21: price /m2 | AC21: price /m2 | AD21: price /m2 | AE21: price /m2 | AF21: kg/m2 | AG21: kg/pcs | AI21: =informatieblad!$A$6 -> FL20 | AK21: =informatieblad!$A$7 -> FL30 | AM21: =informatieblad!$A$8 -> FL40 | AO21: =informatieblad!$A$5 -> none | AR21: Lengte | AU21: width | AW21: bolt & nuts | AY21: =informatieblad!$B$3 -> 0 | AZ21: =informatieblad!$B$3 -> 0 | BA21: =informatieblad!$B$4 -> 0 | BB21: =informatieblad!$B$4 -> 0
B22: =IF($C23>0,IF(MAX(B21:C21)<informatieblad!$Q$4,informatieblad!$P$3,IF(MAX(B21:C21)>informatieblad!$R$4,informatieblad!$P$5,informatieblad!$P$4)),"") | C22: =IF($C23>0,IF(MAX(B21:C21)<informatieblad!$Q$4,informatieblad!$P$3,IF(MAX(B21:C21)>informatieblad!$R$4,informatieblad!$P$5,informatieblad!$P$4)),"") | E22: =A21&"-"&informatieblad!$B$12&"-"&B21&"-"&C21&"-"&D21&"-"&B22&"-"&C22&"-"&F23 -> -RctD------Options None | M22: =A21 -> 0 | N22: Luka | O22: Luka | P22: purchase | Q22: purchase | R22: purchase | T22: m2/pcs | U22: purchase | V22: sales | W22: sales fittings | X22: purchase ducts | Z22: A1-A2-A3-B | AB22: purchase fittings | AC22: sales fittings | AD22: purchase ducts | AE22: sales ducts | AI22: =informatieblad!$A$2 -> FL20 loose | AK22: =informatieblad!$A$3 -> FL30 loose | AM22: =informatieblad!$A$4 -> FL40 loose | AT22: ='UC mounting materials '!$B$10 -> Rail 30x15 | AU22: =IF(Z23<1000,(Z23+100),0)*C23 -> 0 | AW22: type | AX22: type | AY22: aantal | AZ22: aantal | BA22: aantal | BB22: aantal
B23: aantal | D23: =C23*O23 -> 0 | E23: m2 | F23: Options None | N23: =(((2*(B21+C21))*D21)/1000000) -> 0 | O23: =((IF(N23<=informatieblad!$I$12,informatieblad!$I$12,IF(N23>=informatieblad!$I$12,N23)))) -> 0.5 | P23: =(((2*B21)+(2*C21))*D21)/1000000 -> 0 | Q23: =((IF(P23<=informatieblad!$H$12,informatieblad!$H$12,IF(P23>=informatieblad!$H$12,P23)))) -> 0 | R23: =((Q23*X23)+(Q23*U23))*C23 -> 0 | S23: =((O23*W23)+(O23*V23))*C23 -> 0 | T23: =F23 -> Options None | U23: =VLOOKUP(F23,informatieblad!$A$37:$D$41,2,FALSE) -> 0 | V23: =VLOOKUP(F23,informatieblad!$A$37:$D$41,4,FALSE) -> 0 | W23: =((IF(D21<=900,AC23,IF(D21>=900,AE23)))) -> 45.1248 | X23: =((IF(D21<=900,AB23,IF(D21>=900,AD23)))) -> 0 | Z23: =(MAX(B21:C21)) -> 0 | AA23: =LOOKUP(Z23,informatieblad!$C$27:$C$32,informatieblad!$A$27:$A$32) -> 0.5 | AB23: =VLOOKUP(AA23,informatieblad!$A$27:$M$32,6,FALSE) -> 0 | AC23: =VLOOKUP(AA23,informatieblad!$A$27:$M$32,8,FALSE) -> 45.1248 | AD23: =VLOOKUP(AA23,informatieblad!$A$27:$M$32,9,FALSE) -> 0 | AE23: =VLOOKUP(AA23,informatieblad!$A$27:$M$32,11,FALSE) -> 32.4632 | AF23: =VLOOKUP(AA23,informatieblad!$A$27:$M$32,13,FALSE) -> 4 | AG23: =ROUND((AF23*P23),1) -> 0 | AI23: =(IF(B22=AI21,((2*B21)+(2*C21)),IF(B22=AI22,((2*B21)+(2*C21)),0)))*C23 -> 0 | AJ23: =(IF(C22=AI21,((2*B21)+(2*C21)),IF(C22=AI22,((2*B21)+(2*C21)),0)))*C23 -> 0 | AK23: =(IF(B22=AK21,((2*B21)+(2*C21)),IF(B22=AK22,((2*B21)+(2*C21)),0)))*C23 -> 0 | AL23: =(IF(C22=AK21,((2*B21)+(2*C21)),IF(C22=AK22,((2*B21)+(2*C21)),0)))*C23 -> 0 | AM23: =(IF(B22=AM21,((2*B21)+(2*C21)),IF(B22=AM22,((2*B21)+(2*C21)),0)))*C23 -> 0 | AN23: =(IF(C22=AM21,((2*B21)+(2*C21)),IF(C22=AM22,((2*B21)+(2*C21)),0)))*C23 -> 0 | AO23: =(IF(B22=AO21,((2*B21)+(2*C21)),0))*C23 -> 0 | AP23: =(IF(C22=AO21,((2*B21)+(2*C21)),0))*C23 -> 0 | AR23: =D21*C23 -> 0 | AT23: ='UC mounting materials '!$B$11 -> Rail 41x41 | AU23: =IF(Z23>999,(Z23+100),0)*C23 -> 0 | AW23: =IF(B22=informatieblad!$A$6,informatieblad!$B$6,IF(B22=informatieblad!$A$7,informatieblad!$B$7,IF(B22=informatieblad!$A$8,informatieblad!$B$8,IF(B22=informatieblad!$A$2,informatieblad!$B$2,IF(B22=informatieblad!$A$3,informatieblad!$B$3,IF(B22=informatieblad!$A$4,informatieblad!$B$4,IF(B22=informatieblad!$A$5,informatieblad!$B$5,""))))))) | AX23: =IF(C22=informatieblad!$A$6,informatieblad!$B$6,IF(C22=informatieblad!$A$7,informatieblad!$B$7,IF(C22=informatieblad!$A$8,informatieblad!$B$8,IF(C22=informatieblad!$A$2,informatieblad!$B$2,IF(C22=informatieblad!$A$3,informatieblad!$B$3,IF(C22=informatieblad!$A$4,informatieblad!$B$4,IF(C22=informatieblad!$A$5,informatieblad!$B$5,""))))))) | AY23: =IF(AW23=AY21,(4*C23),0) -> 0 | AZ23: =IF(AX23=AY21,(4*C23),0) -> 0 | BA23: =IF(AW23=BA21,(4*C23),0) -> 0 | BB23: =IF(AX23=BA21,(4*C23),0) -> 0
I25: None | M25: Nr. | N25: m2/pcs | O25: rounded m2/pcs | P25: m2/pcs | Q25: rounded m2/pcs | R25: Purchase price total | S25: Sales price total | T25: Options Duct | W25: price /m2 | X25: price /m2 | Z25: biggest size | AA25: plate thickness | AB25: price /m2 | AC25: price /m2 | AD25: price /m2 | AE25: price /m2 | AF25: kg/m2 | AG25: kg/pcs | AI25: =informatieblad!$A$6 -> FL20 | AK25: =informatieblad!$A$7 -> FL30 | AM25: =informatieblad!$A$8 -> FL40 | AO25: =informatieblad!$A$5 -> none | AR25: Lengte | AU25: width | AW25: bolt & nuts | AY25: =informatieblad!$B$3 -> 0 | AZ25: =informatieblad!$B$3 -> 0 | BA25: =informatieblad!$B$4 -> 0 | BB25: =informatieblad!$B$4 -> 0
B26: =IF($C27>0,IF(MAX(B25:C25)<informatieblad!$Q$4,informatieblad!$P$3,IF(MAX(B25:C25)>informatieblad!$R$4,informatieblad!$P$5,informatieblad!$P$4)),"") | C26: =IF($C27>0,IF(MAX(B25:C25)<informatieblad!$Q$4,informatieblad!$P$3,IF(MAX(B25:C25)>informatieblad!$R$4,informatieblad!$P$5,informatieblad!$P$4)),"") | E26: =A25&"-"&informatieblad!$B$12&"-"&B25&"-"&C25&"-"&D25&"-"&B26&"-"&C26&"-"&F27 -> -RctD------Options None | M26: =A25 -> 0 | N26: Luka | O26: Luka | P26: purchase | Q26: purchase | R26: purchase | T26: m2/pcs | U26: purchase | V26: sales | W26: sales fittings | X26: purchase ducts | Z26: A1-A2-A3-B | AB26: purchase fittings | AC26: sales fittings | AD26: purchase ducts | AE26: sales ducts | AI26: =informatieblad!$A$2 -> FL20 loose | AK26: =informatieblad!$A$3 -> FL30 loose | AM26: =informatieblad!$A$4 -> FL40 loose | AT26: ='UC mounting materials '!$B$10 -> Rail 30x15 | AU26: =IF(Z27<1000,(Z27+100),0)*C27 -> 0 | AW26: type | AX26: type | AY26: aantal | AZ26: aantal | BA26: aantal | BB26: aantal
B27: aantal | D27: =C27*O27 -> 0 | E27: m2 | F27: Options None | N27: =(((2*(B25+C25))*D25)/1000000) -> 0 | O27: =((IF(N27<=informatieblad!$I$12,informatieblad!$I$12,IF(N27>=informatieblad!$I$12,N27)))) -> 0.5 | P27: =(((2*B25)+(2*C25))*D25)/1000000 -> 0 | Q27: =((IF(P27<=informatieblad!$H$12,informatieblad!$H$12,IF(P27>=informatieblad!$H$12,P27)))) -> 0 | R27: =((Q27*X27)+(Q27*U27))*C27 -> 0 | S27: =((O27*W27)+(O27*V27))*C27 -> 0 | T27: =F27 -> Options None | U27: =VLOOKUP(F27,informatieblad!$A$37:$D$41,2,FALSE) -> 0 | V27: =VLOOKUP(F27,informatieblad!$A$37:$D$41,4,FALSE) -> 0 | W27: =((IF(D25<=900,AC27,IF(D25>=900,AE27)))) -> 45.1248 | X27: =((IF(D25<=900,AB27,IF(D25>=900,AD27)))) -> 0 | Z27: =(MAX(B25:C25)) -> 0 | AA27: =LOOKUP(Z27,informatieblad!$C$27:$C$32,informatieblad!$A$27:$A$32) -> 0.5 | AB27: =VLOOKUP(AA27,informatieblad!$A$27:$M$32,6,FALSE) -> 0 | AC27: =VLOOKUP(AA27,informatieblad!$A$27:$M$32,8,FALSE) -> 45.1248 | AD27: =VLOOKUP(AA27,informatieblad!$A$27:$M$32,9,FALSE) -> 0 | AE27: =VLOOKUP(AA27,informatieblad!$A$27:$M$32,11,FALSE) -> 32.4632 | AF27: =VLOOKUP(AA27,informatieblad!$A$27:$M$32,13,FALSE) -> 4 | AG27: =ROUND((AF27*P27),1) -> 0 | AI27: =(IF(B26=AI25,((2*B25)+(2*C25)),IF(B26=AI26,((2*B25)+(2*C25)),0)))*C27 -> 0 | AJ27: =(IF(C26=AI25,((2*B25)+(2*C25)),IF(C26=AI26,((2*B25)+(2*C25)),0)))*C27 -> 0 | AK27: =(IF(B26=AK25,((2*B25)+(2*C25)),IF(B26=AK26,((2*B25)+(2*C25)),0)))*C27 -> 0 | AL27: =(IF(C26=AK25,((2*B25)+(2*C25)),IF(C26=AK26,((2*B25)+(2*C25)),0)))*C27 -> 0 | AM27: =(IF(B26=AM25,((2*B25)+(2*C25)),IF(B26=AM26,((2*B25)+(2*C25)),0)))*C27 -> 0 | AN27: =(IF(C26=AM25,((2*B25)+(2*C25)),IF(C26=AM26,((2*B25)+(2*C25)),0)))*C27 -> 0 | AO27: =(IF(B26=AO25,((2*B25)+(2*C25)),0))*C27 -> 0 | AP27: =(IF(C26=AO25,((2*B25)+(2*C25)),0))*C27 -> 0 | AR27: =D25*C27 -> 0 | AT27: ='UC mounting materials '!$B$11 -> Rail 41x41 | AU27: =IF(Z27>999,(Z27+100),0)*C27 -> 0 | AW27: =IF(B26=informatieblad!$A$6,informatieblad!$B$6,IF(B26=informatieblad!$A$7,informatieblad!$B$7,IF(B26=informatieblad!$A$8,informatieblad!$B$8,IF(B26=informatieblad!$A$2,informatieblad!$B$2,IF(B26=informatieblad!$A$3,informatieblad!$B$3,IF(B26=informatieblad!$A$4,informatieblad!$B$4,IF(B26=informatieblad!$A$5,informatieblad!$B$5,""))))))) | AX27: =IF(C26=informatieblad!$A$6,informatieblad!$B$6,IF(C26=informatieblad!$A$7,informatieblad!$B$7,IF(C26=informatieblad!$A$8,informatieblad!$B$8,IF(C26=informatieblad!$A$2,informatieblad!$B$2,IF(C26=informatieblad!$A$3,informatieblad!$B$3,IF(C26=informatieblad!$A$4,informatieblad!$B$4,IF(C26=informatieblad!$A$5,informatieblad!$B$5,""))))))) | AY27: =IF(AW27=AY25,(4*C27),0) -> 0 | AZ27: =IF(AX27=AY25,(4*C27),0) -> 0 | BA27: =IF(AW27=BA25,(4*C27),0) -> 0 | BB27: =IF(AX27=BA25,(4*C27),0) -> 0
I29: None | M29: Nr. | N29: m2/pcs | O29: rounded m2/pcs | P29: m2/pcs | Q29: rounded m2/pcs | R29: Purchase price total | S29: Sales price total | T29: Options Duct | W29: price /m2 | X29: price /m2 | Z29: biggest size | AA29: plate thickness | AB29: price /m2 | AC29: price /m2 | AD29: price /m2 | AE29: price /m2 | AF29: kg/m2 | AG29: kg/pcs | AI29: =informatieblad!$A$6 -> FL20 | AK29: =informatieblad!$A$7 -> FL30 | AM29: =informatieblad!$A$8 -> FL40 | AO29: =informatieblad!$A$5 -> none | AR29: Lengte | AU29: width | AW29: bolt & nuts | AY29: =informatieblad!$B$3 -> 0 | AZ29: =informatieblad!$B$3 -> 0 | BA29: =informatieblad!$B$4 -> 0 | BB29: =informatieblad!$B$4 -> 0
B30: =IF($C31>0,IF(MAX(B29:C29)<informatieblad!$Q$4,informatieblad!$P$3,IF(MAX(B29:C29)>informatieblad!$R$4,informatieblad!$P$5,informatieblad!$P$4)),"") | C30: =IF($C31>0,IF(MAX(B29:C29)<informatieblad!$Q$4,informatieblad!$P$3,IF(MAX(B29:C29)>informatieblad!$R$4,informatieblad!$P$5,informatieblad!$P$4)),"") | E30: =A29&"-"&informatieblad!$B$12&"-"&B29&"-"&C29&"-"&D29&"-"&B30&"-"&C30&"-"&F31 -> -RctD------Options None | M30: =A29 -> 0 | N30: Luka | O30: Luka | P30: purchase | Q30: purchase | R30: purchase | T30: m2/pcs | U30: purchase | V30: sales | W30: sales fittings | X30: purchase ducts | Z30: A1-A2-A3-B | AB30: purchase fittings | AC30: sales fittings | AD30: purchase ducts | AE30: sales ducts | AI30: =informatieblad!$A$2 -> FL20 loose | AK30: =informatieblad!$A$3 -> FL30 loose | AM30: =informatieblad!$A$4 -> FL40 loose | AT30: ='UC mounting materials '!$B$10 -> Rail 30x15 | AU30: =IF(Z31<1000,(Z31+100),0)*C31 -> 0 | AW30: type | AX30: type | AY30: aantal | AZ30: aantal | BA30: aantal | BB30: aantal
B31: aantal | D31: =C31*O31 -> 0 | E31: m2 | F31: Options None | N31: =(((2*(B29+C29))*D29)/1000000) -> 0 | O31: =((IF(N31<=informatieblad!$I$12,informatieblad!$I$12,IF(N31>=informatieblad!$I$12,N31)))) -> 0.5 | P31: =(((2*B29)+(2*C29))*D29)/1000000 -> 0 | Q31: =((IF(P31<=informatieblad!$H$12,informatieblad!$H$12,IF(P31>=informatieblad!$H$12,P31)))) -> 0 | R31: =((Q31*X31)+(Q31*U31))*C31 -> 0 | S31: =((O31*W31)+(O31*V31))*C31 -> 0 | T31: =F31 -> Options None | U31: =VLOOKUP(F31,informatieblad!$A$37:$D$41,2,FALSE) -> 0 | V31: =VLOOKUP(F31,informatieblad!$A$37:$D$41,4,FALSE) -> 0 | W31: =((IF(D29<=900,AC31,IF(D29>=900,AE31)))) -> 45.1248 | X31: =((IF(D29<=900,AB31,IF(D29>=900,AD31)))) -> 0 | Z31: =(MAX(B29:C29)) -> 0 | AA31: =LOOKUP(Z31,informatieblad!$C$27:$C$32,informatieblad!$A$27:$A$32) -> 0.5 | AB31: =VLOOKUP(AA31,informatieblad!$A$27:$M$32,6,FALSE) -> 0 | AC31: =VLOOKUP(AA31,informatieblad!$A$27:$M$32,8,FALSE) -> 45.1248 | AD31: =VLOOKUP(AA31,informatieblad!$A$27:$M$32,9,FALSE) -> 0 | AE31: =VLOOKUP(AA31,informatieblad!$A$27:$M$32,11,FALSE) -> 32.4632 | AF31: =VLOOKUP(AA31,informatieblad!$A$27:$M$32,13,FALSE) -> 4 | AG31: =ROUND((AF31*P31),1) -> 0 | AI31: =(IF(B30=AI29,((2*B29)+(2*C29)),IF(B30=AI30,((2*B29)+(2*C29)),0)))*C31 -> 0 | AJ31: =(IF(C30=AI29,((2*B29)+(2*C29)),IF(C30=AI30,((2*B29)+(2*C29)),0)))*C31 -> 0 | AK31: =(IF(B30=AK29,((2*B29)+(2*C29)),IF(B30=AK30,((2*B29)+(2*C29)),0)))*C31 -> 0 | AL31: =(IF(C30=AK29,((2*B29)+(2*C29)),IF(C30=AK30,((2*B29)+(2*C29)),0)))*C31 -> 0 | AM31: =(IF(B30=AM29,((2*B29)+(2*C29)),IF(B30=AM30,((2*B29)+(2*C29)),0)))*C31 -> 0 | AN31: =(IF(C30=AM29,((2*B29)+(2*C29)),IF(C30=AM30,((2*B29)+(2*C29)),0)))*C31 -> 0 | AO31: =(IF(B30=AO29,((2*B29)+(2*C29)),0))*C31 -> 0 | AP31: =(IF(C30=AO29,((2*B29)+(2*C29)),0))*C31 -> 0 | AR31: =D29*C31 -> 0 | AT31: ='UC mounting materials '!$B$11 -> Rail 41x41 | AU31: =IF(Z31>999,(Z31+100),0)*C31 -> 0 | AW31: =IF(B30=informatieblad!$A$6,informatieblad!$B$6,IF(B30=informatieblad!$A$7,informatieblad!$B$7,IF(B30=informatieblad!$A$8,informatieblad!$B$8,IF(B30=informatieblad!$A$2,informatieblad!$B$2,IF(B30=informatieblad!$A$3,informatieblad!$B$3,IF(B30=informatieblad!$A$4,informatieblad!$B$4,IF(B30=informatieblad!$A$5,informatieblad!$B$5,""))))))) | AX31: =IF(C30=informatieblad!$A$6,informatieblad!$B$6,IF(C30=informatieblad!$A$7,informatieblad!$B$7,IF(C30=informatieblad!$A$8,informatieblad!$B$8,IF(C30=informatieblad!$A$2,informatieblad!$B$2,IF(C30=informatieblad!$A$3,informatieblad!$B$3,IF(C30=informatieblad!$A$4,informatieblad!$B$4,IF(C30=informatieblad!$A$5,informatieblad!$B$5,""))))))) | AY31: =IF(AW31=AY29,(4*C31),0) -> 0 | AZ31: =IF(AX31=AY29,(4*C31),0) -> 0 | BA31: =IF(AW31=BA29,(4*C31),0) -> 0 | BB31: =IF(AX31=BA29,(4*C31),0) -> 0
I33: None | M33: Nr. | N33: m2/pcs | O33: rounded m2/pcs | P33: m2/pcs | Q33: rounded m2/pcs | R33: Purchase price total | S33: Sales price total | T33: Options Duct | W33: price /m2 | X33: price /m2 | Z33: biggest size | AA33: plate thickness | AB33: price /m2 | AC33: price /m2 | AD33: price /m2 | AE33: price /m2 | AF33: kg/m2 | AG33: kg/pcs | AI33: =informatieblad!$A$6 -> FL20 | AK33: =informatieblad!$A$7 -> FL30 | AM33: =informatieblad!$A$8 -> FL40 | AO33: =informatieblad!$A$5 -> none | AR33: Lengte | AU33: width | AW33: bolt & nuts | AY33: =informatieblad!$B$3 -> 0 | AZ33: =informatieblad!$B$3 -> 0 | BA33: =informatieblad!$B$4 -> 0 | BB33: =informatieblad!$B$4 -> 0
B34: =IF($C35>0,IF(MAX(B33:C33)<informatieblad!$Q$4,informatieblad!$P$3,IF(MAX(B33:C33)>informatieblad!$R$4,informatieblad!$P$5,informatieblad!$P$4)),"") | C34: =IF($C35>0,IF(MAX(B33:C33)<informatieblad!$Q$4,informatieblad!$P$3,IF(MAX(B33:C33)>informatieblad!$R$4,informatieblad!$P$5,informatieblad!$P$4)),"") | E34: =A33&"-"&informatieblad!$B$12&"-"&B33&"-"&C33&"-"&D33&"-"&B34&"-"&C34&"-"&F35 -> -RctD------Options None | M34: =A33 -> 0 | N34: Luka | O34: Luka | P34: purchase | Q34: purchase | R34: purchase | T34: m2/pcs | U34: purchase | V34: sales | W34: sales fittings | X34: purchase ducts | Z34: A1-A2-A3-B | AB34: purchase fittings | AC34: sales fittings | AD34: purchase ducts | AE34: sales ducts | AI34: =informatieblad!$A$2 -> FL20 loose | AK34: =informatieblad!$A$3 -> FL30 loose | AM34: =informatieblad!$A$4 -> FL40 loose | AT34: ='UC mounting materials '!$B$10 -> Rail 30x15 | AU34: =IF(Z35<1000,(Z35+100),0)*C35 -> 0 | AW34: type | AX34: type | AY34: aantal | AZ34: aantal | BA34: aantal | BB34: aantal
B35: aantal | D35: =C35*O35 -> 0 | E35: m2 | F35: Options None | N35: =(((2*(B33+C33))*D33)/1000000) -> 0 | O35: =((IF(N35<=informatieblad!$I$12,informatieblad!$I$12,IF(N35>=informatieblad!$I$12,N35)))) -> 0.5 | P35: =(((2*B33)+(2*C33))*D33)/1000000 -> 0 | Q35: =((IF(P35<=informatieblad!$H$12,informatieblad!$H$12,IF(P35>=informatieblad!$H$12,P35)))) -> 0 | R35: =((Q35*X35)+(Q35*U35))*C35 -> 0 | S35: =((O35*W35)+(O35*V35))*C35 -> 0 | T35: =F35 -> Options None | U35: =VLOOKUP(F35,informatieblad!$A$37:$D$41,2,FALSE) -> 0 | V35: =VLOOKUP(F35,informatieblad!$A$37:$D$41,4,FALSE) -> 0 | W35: =((IF(D33<=900,AC35,IF(D33>=900,AE35)))) -> 45.1248 | X35: =((IF(D33<=900,AB35,IF(D33>=900,AD35)))) -> 0 | Z35: =(MAX(B33:C33)) -> 0 | AA35: =LOOKUP(Z35,informatieblad!$C$27:$C$32,informatieblad!$A$27:$A$32) -> 0.5 | AB35: =VLOOKUP(AA35,informatieblad!$A$27:$M$32,6,FALSE) -> 0 | AC35: =VLOOKUP(AA35,informatieblad!$A$27:$M$32,8,FALSE) -> 45.1248 | AD35: =VLOOKUP(AA35,informatieblad!$A$27:$M$32,9,FALSE) -> 0 | AE35: =VLOOKUP(AA35,informatieblad!$A$27:$M$32,11,FALSE) -> 32.4632 | AF35: =VLOOKUP(AA35,informatieblad!$A$27:$M$32,13,FALSE) -> 4 | AG35: =ROUND((AF35*P35),1) -> 0 | AI35: =(IF(B34=AI33,((2*B33)+(2*C33)),IF(B34=AI34,((2*B33)+(2*C33)),0)))*C35 -> 0 | AJ35: =(IF(C34=AI33,((2*B33)+(2*C33)),IF(C34=AI34,((2*B33)+(2*C33)),0)))*C35 -> 0 | AK35: =(IF(B34=AK33,((2*B33)+(2*C33)),IF(B34=AK34,((2*B33)+(2*C33)),0)))*C35 -> 0 | AL35: =(IF(C34=AK33,((2*B33)+(2*C33)),IF(C34=AK34,((2*B33)+(2*C33)),0)))*C35 -> 0 | AM35: =(IF(B34=AM33,((2*B33)+(2*C33)),IF(B34=AM34,((2*B33)+(2*C33)),0)))*C35 -> 0 | AN35: =(IF(C34=AM33,((2*B33)+(2*C33)),IF(C34=AM34,((2*B33)+(2*C33)),0)))*C35 -> 0 | AO35: =(IF(B34=AO33,((2*B33)+(2*C33)),0))*C35 -> 0 | AP35: =(IF(C34=AO33,((2*B33)+(2*C33)),0))*C35 -> 0 | AR35: =D33*C35 -> 0 | AT35: ='UC mounting materials '!$B$11 -> Rail 41x41 | AU35: =IF(Z35>999,(Z35+100),0)*C35 -> 0 | AW35: =IF(B34=informatieblad!$A$6,informatieblad!$B$6,IF(B34=informatieblad!$A$7,informatieblad!$B$7,IF(B34=informatieblad!$A$8,informatieblad!$B$8,IF(B34=informatieblad!$A$2,informatieblad!$B$2,IF(B34=informatieblad!$A$3,informatieblad!$B$3,IF(B34=informatieblad!$A$4,informatieblad!$B$4,IF(B34=informatieblad!$A$5,informatieblad!$B$5,""))))))) | AX35: =IF(C34=informatieblad!$A$6,informatieblad!$B$6,IF(C34=informatieblad!$A$7,informatieblad!$B$7,IF(C34=informatieblad!$A$8,informatieblad!$B$8,IF(C34=informatieblad!$A$2,informatieblad!$B$2,IF(C34=informatieblad!$A$3,informatieblad!$B$3,IF(C34=informatieblad!$A$4,informatieblad!$B$4,IF(C34=informatieblad!$A$5,informatieblad!$B$5,""))))))) | AY35: =IF(AW35=AY33,(4*C35),0) -> 0 | AZ35: =IF(AX35=AY33,(4*C35),0) -> 0 | BA35: =IF(AW35=BA33,(4*C35),0) -> 0 | BB35: =IF(AX35=BA33,(4*C35),0) -> 0
I37: None | M37: Nr. | N37: m2/pcs | O37: rounded m2/pcs | P37: m2/pcs | Q37: rounded m2/pcs | R37: Purchase price total | S37: Sales price total | T37: Options Duct | W37: price /m2 | X37: price /m2 | Z37: biggest size | AA37: plate thickness | AB37: price /m2 | AC37: price /m2 | AD37: price /m2 | AE37: price /m2 | AF37: kg/m2 | AG37: kg/pcs | AI37: =informatieblad!$A$6 -> FL20 | AK37: =informatieblad!$A$7 -> FL30 | AM37: =informatieblad!$A$8 -> FL40 | AO37: =informatieblad!$A$5 -> none | AR37: Lengte | AU37: width | AW37: bolt & nuts | AY37: =informatieblad!$B$3 -> 0 | AZ37: =informatieblad!$B$3 -> 0 | BA37: =informatieblad!$B$4 -> 0 | BB37: =informatieblad!$B$4 -> 0
B38: =IF($C39>0,IF(MAX(B37:C37)<informatieblad!$Q$4,informatieblad!$P$3,IF(MAX(B37:C37)>informatieblad!$R$4,informatieblad!$P$5,informatieblad!$P$4)),"") | C38: =IF($C39>0,IF(MAX(B37:C37)<informatieblad!$Q$4,informatieblad!$P$3,IF(MAX(B37:C37)>informatieblad!$R$4,informatieblad!$P$5,informatieblad!$P$4)),"") | E38: =A37&"-"&informatieblad!$B$12&"-"&B37&"-"&C37&"-"&D37&"-"&B38&"-"&C38&"-"&F39 -> -RctD------Options None | M38: =A37 -> 0 | N38: Luka | O38: Luka | P38: purchase | Q38: purchase | R38: purchase | T38: m2/pcs | U38: purchase | V38: sales | W38: sales fittings | X38: purchase ducts | Z38: A1-A2-A3-B | AB38: purchase fittings | AC38: sales fittings | AD38: purchase ducts | AE38: sales ducts | AI38: =informatieblad!$A$2 -> FL20 loose | AK38: =informatieblad!$A$3 -> FL30 loose | AM38: =informatieblad!$A$4 -> FL40 loose | AT38: ='UC mounting materials '!$B$10 -> Rail 30x15 | AU38: =IF(Z39<1000,(Z39+100),0)*C39 -> 0 | AW38: type | AX38: type | AY38: aantal | AZ38: aantal | BA38: aantal | BB38: aantal
B39: aantal | D39: =C39*O39 -> 0 | E39: m2 | F39: Options None | N39: =(((2*(B37+C37))*D37)/1000000) -> 0 | O39: =((IF(N39<=informatieblad!$I$12,informatieblad!$I$12,IF(N39>=informatieblad!$I$12,N39)))) -> 0.5 | P39: =(((2*B37)+(2*C37))*D37)/1000000 -> 0 | Q39: =((IF(P39<=informatieblad!$H$12,informatieblad!$H$12,IF(P39>=informatieblad!$H$12,P39)))) -> 0 | R39: =((Q39*X39)+(Q39*U39))*C39 -> 0 | S39: =((O39*W39)+(O39*V39))*C39 -> 0 | T39: =F39 -> Options None | U39: =VLOOKUP(F39,informatieblad!$A$37:$D$41,2,FALSE) -> 0 | V39: =VLOOKUP(F39,informatieblad!$A$37:$D$41,4,FALSE) -> 0 | W39: =((IF(D37<=900,AC39,IF(D37>=900,AE39)))) -> 45.1248 | X39: =((IF(D37<=900,AB39,IF(D37>=900,AD39)))) -> 0 | Z39: =(MAX(B37:C37)) -> 0 | AA39: =LOOKUP(Z39,informatieblad!$C$27:$C$32,informatieblad!$A$27:$A$32) -> 0.5 | AB39: =VLOOKUP(AA39,informatieblad!$A$27:$M$32,6,FALSE) -> 0 | AC39: =VLOOKUP(AA39,informatieblad!$A$27:$M$32,8,FALSE) -> 45.1248 | AD39: =VLOOKUP(AA39,informatieblad!$A$27:$M$32,9,FALSE) -> 0 | AE39: =VLOOKUP(AA39,informatieblad!$A$27:$M$32,11,FALSE) -> 32.4632 | AF39: =VLOOKUP(AA39,informatieblad!$A$27:$M$32,13,FALSE) -> 4 | AG39: =ROUND((AF39*P39),1) -> 0 | AI39: =(IF(B38=AI37,((2*B37)+(2*C37)),IF(B38=AI38,((2*B37)+(2*C37)),0)))*C39 -> 0 | AJ39: =(IF(C38=AI37,((2*B37)+(2*C37)),IF(C38=AI38,((2*B37)+(2*C37)),0)))*C39 -> 0 | AK39: =(IF(B38=AK37,((2*B37)+(2*C37)),IF(B38=AK38,((2*B37)+(2*C37)),0)))*C39 -> 0 | AL39: =(IF(C38=AK37,((2*B37)+(2*C37)),IF(C38=AK38,((2*B37)+(2*C37)),0)))*C39 -> 0 | AM39: =(IF(B38=AM37,((2*B37)+(2*C37)),IF(B38=AM38,((2*B37)+(2*C37)),0)))*C39 -> 0 | AN39: =(IF(C38=AM37,((2*B37)+(2*C37)),IF(C38=AM38,((2*B37)+(2*C37)),0)))*C39 -> 0 | AO39: =(IF(B38=AO37,((2*B37)+(2*C37)),0))*C39 -> 0 | AP39: =(IF(C38=AO37,((2*B37)+(2*C37)),0))*C39 -> 0 | AR39: =D37*C39 -> 0 | AT39: ='UC mounting materials '!$B$11 -> Rail 41x41 | AU39: =IF(Z39>999,(Z39+100),0)*C39 -> 0 | AW39: =IF(B38=informatieblad!$A$6,informatieblad!$B$6,IF(B38=informatieblad!$A$7,informatieblad!$B$7,IF(B38=informatieblad!$A$8,informatieblad!$B$8,IF(B38=informatieblad!$A$2,informatieblad!$B$2,IF(B38=informatieblad!$A$3,informatieblad!$B$3,IF(B38=informatieblad!$A$4,informatieblad!$B$4,IF(B38=informatieblad!$A$5,informatieblad!$B$5,""))))))) | AX39: =IF(C38=informatieblad!$A$6,informatieblad!$B$6,IF(C38=informatieblad!$A$7,informatieblad!$B$7,IF(C38=informatieblad!$A$8,informatieblad!$B$8,IF(C38=informatieblad!$A$2,informatieblad!$B$2,IF(C38=informatieblad!$A$3,informatieblad!$B$3,IF(C38=informatieblad!$A$4,informatieblad!$B$4,IF(C38=informatieblad!$A$5,informatieblad!$B$5,""))))))) | AY39: =IF(AW39=AY37,(4*C39),0) -> 0 | AZ39: =IF(AX39=AY37,(4*C39),0) -> 0 | BA39: =IF(AW39=BA37,(4*C39),0) -> 0 | BB39: =IF(AX39=BA37,(4*C39),0) -> 0
I41: None | M41: Nr. | N41: m2/pcs | O41: rounded m2/pcs | P41: m2/pcs | Q41: rounded m2/pcs | R41: Purchase price total | S41: Sales price total | T41: Options Duct | W41: price /m2 | X41: price /m2 | Z41: biggest size | AA41: plate thickness | AB41: price /m2 | AC41: price /m2 | AD41: price /m2 | AE41: price /m2 | AF41: kg/m2 | AG41: kg/pcs | AI41: =informatieblad!$A$6 -> FL20 | AK41: =informatieblad!$A$7 -> FL30 | AM41: =informatieblad!$A$8 -> FL40 | AO41: =informatieblad!$A$5 -> none | AR41: Lengte | AU41: width | AW41: bolt & nuts | AY41: =informatieblad!$B$3 -> 0 | AZ41: =informatieblad!$B$3 -> 0 | BA41: =informatieblad!$B$4 -> 0 | BB41: =informatieblad!$B$4 -> 0
B42: =IF($C43>0,IF(MAX(B41:C41)<informatieblad!$Q$4,informatieblad!$P$3,IF(MAX(B41:C41)>informatieblad!$R$4,informatieblad!$P$5,informatieblad!$P$4)),"") | C42: =IF($C43>0,IF(MAX(B41:C41)<informatieblad!$Q$4,informatieblad!$P$3,IF(MAX(B41:C41)>informatieblad!$R$4,informatieblad!$P$5,informatieblad!$P$4)),"") | E42: =A41&"-"&informatieblad!$B$12&"-"&B41&"-"&C41&"-"&D41&"-"&B42&"-"&C42&"-"&F43 -> -RctD------Options None | M42: =A41 -> 0 | N42: Luka | O42: Luka | P42: purchase | Q42: purchase | R42: purchase | T42: m2/pcs | U42: purchase | V42: sales | W42: sales fittings | X42: purchase ducts | Z42: A1-A2-A3-B | AB42: purchase fittings | AC42: sales fittings | AD42: purchase ducts | AE42: sales ducts | AI42: =informatieblad!$A$2 -> FL20 loose | AK42: =informatieblad!$A$3 -> FL30 loose | AM42: =informatieblad!$A$4 -> FL40 loose | AT42: ='UC mounting materials '!$B$10 -> Rail 30x15 | AU42: =IF(Z43<1000,(Z43+100),0)*C43 -> 0 | AW42: type | AX42: type | AY42: aantal | AZ42: aantal | BA42: aantal | BB42: aantal
B43: aantal | D43: =C43*O43 -> 0 | E43: m2 | F43: Options None | N43: =(((2*(B41+C41))*D41)/1000000) -> 0 | O43: =((IF(N43<=informatieblad!$I$12,informatieblad!$I$12,IF(N43>=informatieblad!$I$12,N43)))) -> 0.5 | P43: =(((2*B41)+(2*C41))*D41)/1000000 -> 0 | Q43: =((IF(P43<=informatieblad!$H$12,informatieblad!$H$12,IF(P43>=informatieblad!$H$12,P43)))) -> 0 | R43: =((Q43*X43)+(Q43*U43))*C43 -> 0 | S43: =((O43*W43)+(O43*V43))*C43 -> 0 | T43: =F43 -> Options None | U43: =VLOOKUP(F43,informatieblad!$A$37:$D$41,2,FALSE) -> 0 | V43: =VLOOKUP(F43,informatieblad!$A$37:$D$41,4,FALSE) -> 0 | W43: =((IF(D41<=900,AC43,IF(D41>=900,AE43)))) -> 45.1248 | X43: =((IF(D41<=900,AB43,IF(D41>=900,AD43)))) -> 0 | Z43: =(MAX(B41:C41)) -> 0 | AA43: =LOOKUP(Z43,informatieblad!$C$27:$C$32,informatieblad!$A$27:$A$32) -> 0.5 | AB43: =VLOOKUP(AA43,informatieblad!$A$27:$M$32,6,FALSE) -> 0 | AC43: =VLOOKUP(AA43,informatieblad!$A$27:$M$32,8,FALSE) -> 45.1248 | AD43: =VLOOKUP(AA43,informatieblad!$A$27:$M$32,9,FALSE) -> 0 | AE43: =VLOOKUP(AA43,informatieblad!$A$27:$M$32,11,FALSE) -> 32.4632 | AF43: =VLOOKUP(AA43,informatieblad!$A$27:$M$32,13,FALSE) -> 4 | AG43: =ROUND((AF43*P43),1) -> 0 | AI43: =(IF(B42=AI41,((2*B41)+(2*C41)),IF(B42=AI42,((2*B41)+(2*C41)),0)))*C43 -> 0 | AJ43: =(IF(C42=AI41,((2*B41)+(2*C41)),IF(C42=AI42,((2*B41)+(2*C41)),0)))*C43 -> 0 | AK43: =(IF(B42=AK41,((2*B41)+(2*C41)),IF(B42=AK42,((2*B41)+(2*C41)),0)))*C43 -> 0 | AL43: =(IF(C42=AK41,((2*B41)+(2*C41)),IF(C42=AK42,((2*B41)+(2*C41)),0)))*C43 -> 0 | AM43: =(IF(B42=AM41,((2*B41)+(2*C41)),IF(B42=AM42,((2*B41)+(2*C41)),0)))*C43 -> 0 | AN43: =(IF(C42=AM41,((2*B41)+(2*C41)),IF(C42=AM42,((2*B41)+(2*C41)),0)))*C43 -> 0 | AO43: =(IF(B42=AO41,((2*B41)+(2*C41)),0))*C43 -> 0 | AP43: =(IF(C42=AO41,((2*B41)+(2*C41)),0))*C43 -> 0 | AR43: =D41*C43 -> 0 | AT43: ='UC mounting materials '!$B$11 -> Rail 41x41 | AU43: =IF(Z43>999,(Z43+100),0)*C43 -> 0 | AW43: =IF(B42=informatieblad!$A$6,informatieblad!$B$6,IF(B42=informatieblad!$A$7,informatieblad!$B$7,IF(B42=informatieblad!$A$8,informatieblad!$B$8,IF(B42=informatieblad!$A$2,informatieblad!$B$2,IF(B42=informatieblad!$A$3,informatieblad!$B$3,IF(B42=informatieblad!$A$4,informatieblad!$B$4,IF(B42=informatieblad!$A$5,informatieblad!$B$5,""))))))) | AX43: =IF(C42=informatieblad!$A$6,informatieblad!$B$6,IF(C42=informatieblad!$A$7,informatieblad!$B$7,IF(C42=informatieblad!$A$8,informatieblad!$B$8,IF(C42=informatieblad!$A$2,informatieblad!$B$2,IF(C42=informatieblad!$A$3,informatieblad!$B$3,IF(C42=informatieblad!$A$4,informatieblad!$B$4,IF(C42=informatieblad!$A$5,informatieblad!$B$5,""))))))) | AY43: =IF(AW43=AY41,(4*C43),0) -> 0 | AZ43: =IF(AX43=AY41,(4*C43),0) -> 0 | BA43: =IF(AW43=BA41,(4*C43),0) -> 0 | BB43: =IF(AX43=BA41,(4*C43),0) -> 0
I45: None | M45: Nr. | N45: m2/pcs | O45: rounded m2/pcs | P45: m2/pcs | Q45: rounded m2/pcs | R45: Purchase price total | S45: Sales price total | T45: Options Duct | W45: price /m2 | X45: price /m2 | Z45: biggest size | AA45: plate thickness | AB45: price /m2 | AC45: price /m2 | AD45: price /m2 | AE45: price /m2 | AF45: kg/m2 | AG45: kg/pcs | AI45: =informatieblad!$A$6 -> FL20 | AK45: =informatieblad!$A$7 -> FL30 | AM45: =informatieblad!$A$8 -> FL40 | AO45: =informatieblad!$A$5 -> none | AR45: Lengte | AU45: width | AW45: bolt & nuts | AY45: =informatieblad!$B$3 -> 0 | AZ45: =informatieblad!$B$3 -> 0 | BA45: =informatieblad!$B$4 -> 0 | BB45: =informatieblad!$B$4 -> 0
B46: =IF($C47>0,IF(MAX(B45:C45)<informatieblad!$Q$4,informatieblad!$P$3,IF(MAX(B45:C45)>informatieblad!$R$4,informatieblad!$P$5,informatieblad!$P$4)),"") | C46: =IF($C47>0,IF(MAX(B45:C45)<informatieblad!$Q$4,informatieblad!$P$3,IF(MAX(B45:C45)>informatieblad!$R$4,informatieblad!$P$5,informatieblad!$P$4)),"") | E46: =A45&"-"&informatieblad!$B$12&"-"&B45&"-"&C45&"-"&D45&"-"&B46&"-"&C46&"-"&F47 -> -RctD------Options None | M46: =A45 -> 0 | N46: Luka | O46: Luka | P46: purchase | Q46: purchase | R46: purchase | T46: m2/pcs | U46: purchase | V46: sales | W46: sales fittings | X46: purchase ducts | Z46: A1-A2-A3-B | AB46: purchase fittings | AC46: sales fittings | AD46: purchase ducts | AE46: sales ducts | AI46: =informatieblad!$A$2 -> FL20 loose | AK46: =informatieblad!$A$3 -> FL30 loose | AM46: =informatieblad!$A$4 -> FL40 loose | AT46: ='UC mounting materials '!$B$10 -> Rail 30x15 | AU46: =IF(Z47<1000,(Z47+100),0)*C47 -> 0 | AW46: type | AX46: type | AY46: aantal | AZ46: aantal | BA46: aantal | BB46: aantal
B47: aantal | D47: =C47*O47 -> 0 | E47: m2 | F47: Options None | N47: =(((2*(B45+C45))*D45)/1000000) -> 0 | O47: =((IF(N47<=informatieblad!$I$12,informatieblad!$I$12,IF(N47>=informatieblad!$I$12,N47)))) -> 0.5 | P47: =(((2*B45)+(2*C45))*D45)/1000000 -> 0 | Q47: =((IF(P47<=informatieblad!$H$12,informatieblad!$H$12,IF(P47>=informatieblad!$H$12,P47)))) -> 0 | R47: =((Q47*X47)+(Q47*U47))*C47 -> 0 | S47: =((O47*W47)+(O47*V47))*C47 -> 0 | T47: =F47 -> Options None | U47: =VLOOKUP(F47,informatieblad!$A$37:$D$41,2,FALSE) -> 0 | V47: =VLOOKUP(F47,informatieblad!$A$37:$D$41,4,FALSE) -> 0 | W47: =((IF(D45<=900,AC47,IF(D45>=900,AE47)))) -> 45.1248 | X47: =((IF(D45<=900,AB47,IF(D45>=900,AD47)))) -> 0 | Z47: =(MAX(B45:C45)) -> 0 | AA47: =LOOKUP(Z47,informatieblad!$C$27:$C$32,informatieblad!$A$27:$A$32) -> 0.5 | AB47: =VLOOKUP(AA47,informatieblad!$A$27:$M$32,6,FALSE) -> 0 | AC47: =VLOOKUP(AA47,informatieblad!$A$27:$M$32,8,FALSE) -> 45.1248 | AD47: =VLOOKUP(AA47,informatieblad!$A$27:$M$32,9,FALSE) -> 0 | AE47: =VLOOKUP(AA47,informatieblad!$A$27:$M$32,11,FALSE) -> 32.4632 | AF47: =VLOOKUP(AA47,informatieblad!$A$27:$M$32,13,FALSE) -> 4 | AG47: =ROUND((AF47*P47),1) -> 0 | AI47: =(IF(B46=AI45,((2*B45)+(2*C45)),IF(B46=AI46,((2*B45)+(2*C45)),0)))*C47 -> 0 | AJ47: =(IF(C46=AI45,((2*B45)+(2*C45)),IF(C46=AI46,((2*B45)+(2*C45)),0)))*C47 -> 0 | AK47: =(IF(B46=AK45,((2*B45)+(2*C45)),IF(B46=AK46,((2*B45)+(2*C45)),0)))*C47 -> 0 | AL47: =(IF(C46=AK45,((2*B45)+(2*C45)),IF(C46=AK46,((2*B45)+(2*C45)),0)))*C47 -> 0 | AM47: =(IF(B46=AM45,((2*B45)+(2*C45)),IF(B46=AM46,((2*B45)+(2*C45)),0)))*C47 -> 0 | AN47: =(IF(C46=AM45,((2*B45)+(2*C45)),IF(C46=AM46,((2*B45)+(2*C45)),0)))*C47 -> 0 | AO47: =(IF(B46=AO45,((2*B45)+(2*C45)),0))*C47 -> 0 | AP47: =(IF(C46=AO45,((2*B45)+(2*C45)),0))*C47 -> 0 | AR47: =D45*C47 -> 0 | AT47: ='UC mounting materials '!$B$11 -> Rail 41x41 | AU47: =IF(Z47>999,(Z47+100),0)*C47 -> 0 | AW47: =IF(B46=informatieblad!$A$6,informatieblad!$B$6,IF(B46=informatieblad!$A$7,informatieblad!$B$7,IF(B46=informatieblad!$A$8,informatieblad!$B$8,IF(B46=informatieblad!$A$2,informatieblad!$B$2,IF(B46=informatieblad!$A$3,informatieblad!$B$3,IF(B46=informatieblad!$A$4,informatieblad!$B$4,IF(B46=informatieblad!$A$5,informatieblad!$B$5,""))))))) | AX47: =IF(C46=informatieblad!$A$6,informatieblad!$B$6,IF(C46=informatieblad!$A$7,informatieblad!$B$7,IF(C46=informatieblad!$A$8,informatieblad!$B$8,IF(C46=informatieblad!$A$2,informatieblad!$B$2,IF(C46=informatieblad!$A$3,informatieblad!$B$3,IF(C46=informatieblad!$A$4,informatieblad!$B$4,IF(C46=informatieblad!$A$5,informatieblad!$B$5,""))))))) | AY47: =IF(AW47=AY45,(4*C47),0) -> 0 | AZ47: =IF(AX47=AY45,(4*C47),0) -> 0 | BA47: =IF(AW47=BA45,(4*C47),0) -> 0 | BB47: =IF(AX47=BA45,(4*C47),0) -> 0
I49: None | M49: Nr. | N49: m2/pcs | O49: rounded m2/pcs | P49: m2/pcs | Q49: rounded m2/pcs | R49: Purchase price total | S49: Sales price total | T49: Options Duct | W49: price /m2 | X49: price /m2 | Z49: biggest size | AA49: plate thickness | AB49: price /m2 | AC49: price /m2 | AD49: price /m2 | AE49: price /m2 | AF49: kg/m2 | AG49: kg/pcs | AI49: =informatieblad!$A$6 -> FL20 | AK49: =informatieblad!$A$7 -> FL30 | AM49: =informatieblad!$A$8 -> FL40 | AO49: =informatieblad!$A$5 -> none | AR49: Lengte | AU49: width | AW49: bolt & nuts | AY49: =informatieblad!$B$3 -> 0 | AZ49: =informatieblad!$B$3 -> 0 | BA49: =informatieblad!$B$4 -> 0 | BB49: =informatieblad!$B$4 -> 0
B50: =IF($C51>0,IF(MAX(B49:C49)<informatieblad!$Q$4,informatieblad!$P$3,IF(MAX(B49:C49)>informatieblad!$R$4,informatieblad!$P$5,informatieblad!$P$4)),"") | C50: =IF($C51>0,IF(MAX(B49:C49)<informatieblad!$Q$4,informatieblad!$P$3,IF(MAX(B49:C49)>informatieblad!$R$4,informatieblad!$P$5,informatieblad!$P$4)),"") | E50: =A49&"-"&informatieblad!$B$12&"-"&B49&"-"&C49&"-"&D49&"-"&B50&"-"&C50&"-"&F51 -> -RctD------Options None | M50: =A49 -> 0 | N50: Luka | O50: Luka | P50: purchase | Q50: purchase | R50: purchase | T50: m2/pcs | U50: purchase | V50: sales | W50: sales fittings | X50: purchase ducts | Z50: A1-A2-A3-B | AB50: purchase fittings | AC50: sales fittings | AD50: purchase ducts | AE50: sales ducts | AI50: =informatieblad!$A$2 -> FL20 loose | AK50: =informatieblad!$A$3 -> FL30 loose | AM50: =informatieblad!$A$4 -> FL40 loose | AT50: ='UC mounting materials '!$B$10 -> Rail 30x15 | AU50: =IF(Z51<1000,(Z51+100),0)*C51 -> 0 | AW50: type | AX50: type | AY50: aantal | AZ50: aantal | BA50: aantal | BB50: aantal
B51: aantal | D51: =C51*O51 -> 0 | E51: m2 | F51: Options None | N51: =(((2*(B49+C49))*D49)/1000000) -> 0 | O51: =((IF(N51<=informatieblad!$I$12,informatieblad!$I$12,IF(N51>=informatieblad!$I$12,N51)))) -> 0.5 | P51: =(((2*B49)+(2*C49))*D49)/1000000 -> 0 | Q51: =((IF(P51<=informatieblad!$H$12,informatieblad!$H$12,IF(P51>=informatieblad!$H$12,P51)))) -> 0 | R51: =((Q51*X51)+(Q51*U51))*C51 -> 0 | S51: =((O51*W51)+(O51*V51))*C51 -> 0 | T51: =F51 -> Options None | U51: =VLOOKUP(F51,informatieblad!$A$37:$D$41,2,FALSE) -> 0 | V51: =VLOOKUP(F51,informatieblad!$A$37:$D$41,4,FALSE) -> 0 | W51: =((IF(D49<=900,AC51,IF(D49>=900,AE51)))) -> 45.1248 | X51: =((IF(D49<=900,AB51,IF(D49>=900,AD51)))) -> 0 | Z51: =(MAX(B49:C49)) -> 0 | AA51: =LOOKUP(Z51,informatieblad!$C$27:$C$32,informatieblad!$A$27:$A$32) -> 0.5 | AB51: =VLOOKUP(AA51,informatieblad!$A$27:$M$32,6,FALSE) -> 0 | AC51: =VLOOKUP(AA51,informatieblad!$A$27:$M$32,8,FALSE) -> 45.1248 | AD51: =VLOOKUP(AA51,informatieblad!$A$27:$M$32,9,FALSE) -> 0 | AE51: =VLOOKUP(AA51,informatieblad!$A$27:$M$32,11,FALSE) -> 32.4632 | AF51: =VLOOKUP(AA51,informatieblad!$A$27:$M$32,13,FALSE) -> 4 | AG51: =ROUND((AF51*P51),1) -> 0 | AI51: =(IF(B50=AI49,((2*B49)+(2*C49)),IF(B50=AI50,((2*B49)+(2*C49)),0)))*C51 -> 0 | AJ51: =(IF(C50=AI49,((2*B49)+(2*C49)),IF(C50=AI50,((2*B49)+(2*C49)),0)))*C51 -> 0 | AK51: =(IF(B50=AK49,((2*B49)+(2*C49)),IF(B50=AK50,((2*B49)+(2*C49)),0)))*C51 -> 0 | AL51: =(IF(C50=AK49,((2*B49)+(2*C49)),IF(C50=AK50,((2*B49)+(2*C49)),0)))*C51 -> 0 | AM51: =(IF(B50=AM49,((2*B49)+(2*C49)),IF(B50=AM50,((2*B49)+(2*C49)),0)))*C51 -> 0 | AN51: =(IF(C50=AM49,((2*B49)+(2*C49)),IF(C50=AM50,((2*B49)+(2*C49)),0)))*C51 -> 0 | AO51: =(IF(B50=AO49,((2*B49)+(2*C49)),0))*C51 -> 0 | AP51: =(IF(C50=AO49,((2*B49)+(2*C49)),0))*C51 -> 0 | AR51: =D49*C51 -> 0 | AT51: ='UC mounting materials '!$B$11 -> Rail 41x41 | AU51: =IF(Z51>999,(Z51+100),0)*C51 -> 0 | AW51: =IF(B50=informatieblad!$A$6,informatieblad!$B$6,IF(B50=informatieblad!$A$7,informatieblad!$B$7,IF(B50=informatieblad!$A$8,informatieblad!$B$8,IF(B50=informatieblad!$A$2,informatieblad!$B$2,IF(B50=informatieblad!$A$3,informatieblad!$B$3,IF(B50=informatieblad!$A$4,informatieblad!$B$4,IF(B50=informatieblad!$A$5,informatieblad!$B$5,""))))))) | AX51: =IF(C50=informatieblad!$A$6,informatieblad!$B$6,IF(C50=informatieblad!$A$7,informatieblad!$B$7,IF(C50=informatieblad!$A$8,informatieblad!$B$8,IF(C50=informatieblad!$A$2,informatieblad!$B$2,IF(C50=informatieblad!$A$3,informatieblad!$B$3,IF(C50=informatieblad!$A$4,informatieblad!$B$4,IF(C50=informatieblad!$A$5,informatieblad!$B$5,""))))))) | AY51: =IF(AW51=AY49,(4*C51),0) -> 0 | AZ51: =IF(AX51=AY49,(4*C51),0) -> 0 | BA51: =IF(AW51=BA49,(4*C51),0) -> 0 | BB51: =IF(AX51=BA49,(4*C51),0) -> 0
I53: None | M53: Nr. | N53: m2/pcs | O53: rounded m2/pcs | P53: m2/pcs | Q53: rounded m2/pcs | R53: Purchase price total | S53: Sales price total | T53: Options Duct | W53: price /m2 | X53: price /m2 | Z53: biggest size | AA53: plate thickness | AB53: price /m2 | AC53: price /m2 | AD53: price /m2 | AE53: price /m2 | AF53: kg/m2 | AG53: kg/pcs | AI53: =informatieblad!$A$6 -> FL20 | AK53: =informatieblad!$A$7 -> FL30 | AM53: =informatieblad!$A$8 -> FL40 | AO53: =informatieblad!$A$5 -> none | AR53: Lengte | AU53: width | AW53: bolt & nuts | AY53: =informatieblad!$B$3 -> 0 | AZ53: =informatieblad!$B$3 -> 0 | BA53: =informatieblad!$B$4 -> 0 | BB53: =informatieblad!$B$4 -> 0
B54: =IF($C55>0,IF(MAX(B53:C53)<informatieblad!$Q$4,informatieblad!$P$3,IF(MAX(B53:C53)>informatieblad!$R$4,informatieblad!$P$5,informatieblad!$P$4)),"") | C54: =IF($C55>0,IF(MAX(B53:C53)<informatieblad!$Q$4,informatieblad!$P$3,IF(MAX(B53:C53)>informatieblad!$R$4,informatieblad!$P$5,informatieblad!$P$4)),"") | E54: =A53&"-"&informatieblad!$B$12&"-"&B53&"-"&C53&"-"&D53&"-"&B54&"-"&C54&"-"&F55 -> -RctD------Options None | M54: =A53 -> 0 | N54: Luka | O54: Luka | P54: purchase | Q54: purchase | R54: purchase | T54: m2/pcs | U54: purchase | V54: sales | W54: sales fittings | X54: purchase ducts | Z54: A1-A2-A3-B | AB54: purchase fittings | AC54: sales fittings | AD54: purchase ducts | AE54: sales ducts | AI54: =informatieblad!$A$2 -> FL20 loose | AK54: =informatieblad!$A$3 -> FL30 loose | AM54: =informatieblad!$A$4 -> FL40 loose | AT54: ='UC mounting materials '!$B$10 -> Rail 30x15 | AU54: =IF(Z55<1000,(Z55+100),0)*C55 -> 0 | AW54: type | AX54: type | AY54: aantal | AZ54: aantal | BA54: aantal | BB54: aantal
B55: aantal | D55: =C55*O55 -> 0 | E55: m2 | F55: Options None | N55: =(((2*(B53+C53))*D53)/1000000) -> 0 | O55: =((IF(N55<=informatieblad!$I$12,informatieblad!$I$12,IF(N55>=informatieblad!$I$12,N55)))) -> 0.5 | P55: =(((2*B53)+(2*C53))*D53)/1000000 -> 0 | Q55: =((IF(P55<=informatieblad!$H$12,informatieblad!$H$12,IF(P55>=informatieblad!$H$12,P55)))) -> 0 | R55: =((Q55*X55)+(Q55*U55))*C55 -> 0 | S55: =((O55*W55)+(O55*V55))*C55 -> 0 | T55: =F55 -> Options None | U55: =VLOOKUP(F55,informatieblad!$A$37:$D$41,2,FALSE) -> 0 | V55: =VLOOKUP(F55,informatieblad!$A$37:$D$41,4,FALSE) -> 0 | W55: =((IF(D53<=900,AC55,IF(D53>=900,AE55)))) -> 45.1248 | X55: =((IF(D53<=900,AB55,IF(D53>=900,AD55)))) -> 0 | Z55: =(MAX(B53:C53)) -> 0 | AA55: =LOOKUP(Z55,informatieblad!$C$27:$C$32,informatieblad!$A$27:$A$32) -> 0.5 | AB55: =VLOOKUP(AA55,informatieblad!$A$27:$M$32,6,FALSE) -> 0 | AC55: =VLOOKUP(AA55,informatieblad!$A$27:$M$32,8,FALSE) -> 45.1248 | AD55: =VLOOKUP(AA55,informatieblad!$A$27:$M$32,9,FALSE) -> 0 | AE55: =VLOOKUP(AA55,informatieblad!$A$27:$M$32,11,FALSE) -> 32.4632 | AF55: =VLOOKUP(AA55,informatieblad!$A$27:$M$32,13,FALSE) -> 4 | AG55: =ROUND((AF55*P55),1) -> 0 | AI55: =(IF(B54=AI53,((2*B53)+(2*C53)),IF(B54=AI54,((2*B53)+(2*C53)),0)))*C55 -> 0 | AJ55: =(IF(C54=AI53,((2*B53)+(2*C53)),IF(C54=AI54,((2*B53)+(2*C53)),0)))*C55 -> 0 | AK55: =(IF(B54=AK53,((2*B53)+(2*C53)),IF(B54=AK54,((2*B53)+(2*C53)),0)))*C55 -> 0 | AL55: =(IF(C54=AK53,((2*B53)+(2*C53)),IF(C54=AK54,((2*B53)+(2*C53)),0)))*C55 -> 0 | AM55: =(IF(B54=AM53,((2*B53)+(2*C53)),IF(B54=AM54,((2*B53)+(2*C53)),0)))*C55 -> 0 | AN55: =(IF(C54=AM53,((2*B53)+(2*C53)),IF(C54=AM54,((2*B53)+(2*C53)),0)))*C55 -> 0 | AO55: =(IF(B54=AO53,((2*B53)+(2*C53)),0))*C55 -> 0 | AP55: =(IF(C54=AO53,((2*B53)+(2*C53)),0))*C55 -> 0 | AR55: =D53*C55 -> 0 | AT55: ='UC mounting materials '!$B$11 -> Rail 41x41 | AU55: =IF(Z55>999,(Z55+100),0)*C55 -> 0 | AW55: =IF(B54=informatieblad!$A$6,informatieblad!$B$6,IF(B54=informatieblad!$A$7,informatieblad!$B$7,IF(B54=informatieblad!$A$8,informatieblad!$B$8,IF(B54=informatieblad!$A$2,informatieblad!$B$2,IF(B54=informatieblad!$A$3,informatieblad!$B$3,IF(B54=informatieblad!$A$4,informatieblad!$B$4,IF(B54=informatieblad!$A$5,informatieblad!$B$5,""))))))) | AX55: =IF(C54=informatieblad!$A$6,informatieblad!$B$6,IF(C54=informatieblad!$A$7,informatieblad!$B$7,IF(C54=informatieblad!$A$8,informatieblad!$B$8,IF(C54=informatieblad!$A$2,informatieblad!$B$2,IF(C54=informatieblad!$A$3,informatieblad!$B$3,IF(C54=informatieblad!$A$4,informatieblad!$B$4,IF(C54=informatieblad!$A$5,informatieblad!$B$5,""))))))) | AY55: =IF(AW55=AY53,(4*C55),0) -> 0 | AZ55: =IF(AX55=AY53,(4*C55),0) -> 0 | BA55: =IF(AW55=BA53,(4*C55),0) -> 0 | BB55: =IF(AX55=BA53,(4*C55),0) -> 0
I57: None | M57: Nr. | N57: m2/pcs | O57: rounded m2/pcs | P57: m2/pcs | Q57: rounded m2/pcs | R57: Purchase price total | S57: Sales price total | T57: Options Duct | W57: price /m2 | X57: price /m2 | Z57: biggest size | AA57: plate thickness | AB57: price /m2 | AC57: price /m2 | AD57: price /m2 | AE57: price /m2 | AF57: kg/m2 | AG57: kg/pcs | AI57: =informatieblad!$A$6 -> FL20 | AK57: =informatieblad!$A$7 -> FL30 | AM57: =informatieblad!$A$8 -> FL40 | AO57: =informatieblad!$A$5 -> none | AR57: Lengte | AU57: width | AW57: bolt & nuts | AY57: =informatieblad!$B$3 -> 0 | AZ57: =informatieblad!$B$3 -> 0 | BA57: =informatieblad!$B$4 -> 0 | BB57: =informatieblad!$B$4 -> 0
B58: =IF($C59>0,IF(MAX(B57:C57)<informatieblad!$Q$4,informatieblad!$P$3,IF(MAX(B57:C57)>informatieblad!$R$4,informatieblad!$P$5,informatieblad!$P$4)),"") | C58: =IF($C59>0,IF(MAX(B57:C57)<informatieblad!$Q$4,informatieblad!$P$3,IF(MAX(B57:C57)>informatieblad!$R$4,informatieblad!$P$5,informatieblad!$P$4)),"") | E58: =A57&"-"&informatieblad!$B$12&"-"&B57&"-"&C57&"-"&D57&"-"&B58&"-"&C58&"-"&F59 -> -RctD------Options None | M58: =A57 -> 0 | N58: Luka | O58: Luka | P58: purchase | Q58: purchase | R58: purchase | T58: m2/pcs | U58: purchase | V58: sales | W58: sales fittings | X58: purchase ducts | Z58: A1-A2-A3-B | AB58: purchase fittings | AC58: sales fittings | AD58: purchase ducts | AE58: sales ducts | AI58: =informatieblad!$A$2 -> FL20 loose | AK58: =informatieblad!$A$3 -> FL30 loose | AM58: =informatieblad!$A$4 -> FL40 loose | AT58: ='UC mounting materials '!$B$10 -> Rail 30x15 | AU58: =IF(Z59<1000,(Z59+100),0)*C59 -> 0 | AW58: type | AX58: type | AY58: aantal | AZ58: aantal | BA58: aantal | BB58: aantal
B59: aantal | D59: =C59*O59 -> 0 | E59: m2 | F59: Options None | N59: =(((2*(B57+C57))*D57)/1000000) -> 0 | O59: =((IF(N59<=informatieblad!$I$12,informatieblad!$I$12,IF(N59>=informatieblad!$I$12,N59)))) -> 0.5 | P59: =(((2*B57)+(2*C57))*D57)/1000000 -> 0 | Q59: =((IF(P59<=informatieblad!$H$12,informatieblad!$H$12,IF(P59>=informatieblad!$H$12,P59)))) -> 0 | R59: =((Q59*X59)+(Q59*U59))*C59 -> 0 | S59: =((O59*W59)+(O59*V59))*C59 -> 0 | T59: =F59 -> Options None | U59: =VLOOKUP(F59,informatieblad!$A$37:$D$41,2,FALSE) -> 0 | V59: =VLOOKUP(F59,informatieblad!$A$37:$D$41,4,FALSE) -> 0 | W59: =((IF(D57<=900,AC59,IF(D57>=900,AE59)))) -> 45.1248 | X59: =((IF(D57<=900,AB59,IF(D57>=900,AD59)))) -> 0 | Z59: =(MAX(B57:C57)) -> 0 | AA59: =LOOKUP(Z59,informatieblad!$C$27:$C$32,informatieblad!$A$27:$A$32) -> 0.5 | AB59: =VLOOKUP(AA59,informatieblad!$A$27:$M$32,6,FALSE) -> 0 | AC59: =VLOOKUP(AA59,informatieblad!$A$27:$M$32,8,FALSE) -> 45.1248 | AD59: =VLOOKUP(AA59,informatieblad!$A$27:$M$32,9,FALSE) -> 0 | AE59: =VLOOKUP(AA59,informatieblad!$A$27:$M$32,11,FALSE) -> 32.4632 | AF59: =VLOOKUP(AA59,informatieblad!$A$27:$M$32,13,FALSE) -> 4 | AG59: =ROUND((AF59*P59),1) -> 0 | AI59: =(IF(B58=AI57,((2*B57)+(2*C57)),IF(B58=AI58,((2*B57)+(2*C57)),0)))*C59 -> 0 | AJ59: =(IF(C58=AI57,((2*B57)+(2*C57)),IF(C58=AI58,((2*B57)+(2*C57)),0)))*C59 -> 0 | AK59: =(IF(B58=AK57,((2*B57)+(2*C57)),IF(B58=AK58,((2*B57)+(2*C57)),0)))*C59 -> 0 | AL59: =(IF(C58=AK57,((2*B57)+(2*C57)),IF(C58=AK58,((2*B57)+(2*C57)),0)))*C59 -> 0 | AM59: =(IF(B58=AM57,((2*B57)+(2*C57)),IF(B58=AM58,((2*B57)+(2*C57)),0)))*C59 -> 0 | AN59: =(IF(C58=AM57,((2*B57)+(2*C57)),IF(C58=AM58,((2*B57)+(2*C57)),0)))*C59 -> 0 | AO59: =(IF(B58=AO57,((2*B57)+(2*C57)),0))*C59 -> 0 | AP59: =(IF(C58=AO57,((2*B57)+(2*C57)),0))*C59 -> 0 | AR59: =D57*C59 -> 0 | AT59: ='UC mounting materials '!$B$11 -> Rail 41x41 | AU59: =IF(Z59>999,(Z59+100),0)*C59 -> 0 | AW59: =IF(B58=informatieblad!$A$6,informatieblad!$B$6,IF(B58=informatieblad!$A$7,informatieblad!$B$7,IF(B58=informatieblad!$A$8,informatieblad!$B$8,IF(B58=informatieblad!$A$2,informatieblad!$B$2,IF(B58=informatieblad!$A$3,informatieblad!$B$3,IF(B58=informatieblad!$A$4,informatieblad!$B$4,IF(B58=informatieblad!$A$5,informatieblad!$B$5,""))))))) | AX59: =IF(C58=informatieblad!$A$6,informatieblad!$B$6,IF(C58=informatieblad!$A$7,informatieblad!$B$7,IF(C58=informatieblad!$A$8,informatieblad!$B$8,IF(C58=informatieblad!$A$2,informatieblad!$B$2,IF(C58=informatieblad!$A$3,informatieblad!$B$3,IF(C58=informatieblad!$A$4,informatieblad!$B$4,IF(C58=informatieblad!$A$5,informatieblad!$B$5,""))))))) | AY59: =IF(AW59=AY57,(4*C59),0) -> 0 | AZ59: =IF(AX59=AY57,(4*C59),0) -> 0 | BA59: =IF(AW59=BA57,(4*C59),0) -> 0 | BB59: =IF(AX59=BA57,(4*C59),0) -> 0
I61: None | M61: Nr. | N61: m2/pcs | O61: rounded m2/pcs | P61: m2/pcs | Q61: rounded m2/pcs | R61: Purchase price total | S61: Sales price total | T61: Options Duct | W61: price /m2 | X61: price /m2 | Z61: biggest size | AA61: plate thickness | AB61: price /m2 | AC61: price /m2 | AD61: price /m2 | AE61: price /m2 | AF61: kg/m2 | AG61: kg/pcs | AI61: =informatieblad!$A$6 -> FL20 | AK61: =informatieblad!$A$7 -> FL30 | AM61: =informatieblad!$A$8 -> FL40 | AO61: =informatieblad!$A$5 -> none | AR61: Lengte | AU61: width | AW61: bolt & nuts | AY61: =informatieblad!$B$3 -> 0 | AZ61: =informatieblad!$B$3 -> 0 | BA61: =informatieblad!$B$4 -> 0 | BB61: =informatieblad!$B$4 -> 0
B62: =IF($C63>0,IF(MAX(B61:C61)<informatieblad!$Q$4,informatieblad!$P$3,IF(MAX(B61:C61)>informatieblad!$R$4,informatieblad!$P$5,informatieblad!$P$4)),"") | C62: =IF($C63>0,IF(MAX(B61:C61)<informatieblad!$Q$4,informatieblad!$P$3,IF(MAX(B61:C61)>informatieblad!$R$4,informatieblad!$P$5,informatieblad!$P$4)),"") | E62: =A61&"-"&informatieblad!$B$12&"-"&B61&"-"&C61&"-"&D61&"-"&B62&"-"&C62&"-"&F63 -> -RctD------Options None | M62: =A61 -> 0 | N62: Luka | O62: Luka | P62: purchase | Q62: purchase | R62: purchase | T62: m2/pcs | U62: purchase | V62: sales | W62: sales fittings | X62: purchase ducts | Z62: A1-A2-A3-B | AB62: purchase fittings | AC62: sales fittings | AD62: purchase ducts | AE62: sales ducts | AI62: =informatieblad!$A$2 -> FL20 loose | AK62: =informatieblad!$A$3 -> FL30 loose | AM62: =informatieblad!$A$4 -> FL40 loose | AT62: ='UC mounting materials '!$B$10 -> Rail 30x15 | AU62: =IF(Z63<1000,(Z63+100),0)*C63 -> 0 | AW62: type | AX62: type | AY62: aantal | AZ62: aantal | BA62: aantal | BB62: aantal
B63: aantal | D63: =C63*O63 -> 0 | E63: m2 | F63: Options None | N63: =(((2*(B61+C61))*D61)/1000000) -> 0 | O63: =((IF(N63<=informatieblad!$I$12,informatieblad!$I$12,IF(N63>=informatieblad!$I$12,N63)))) -> 0.5 | P63: =(((2*B61)+(2*C61))*D61)/1000000 -> 0 | Q63: =((IF(P63<=informatieblad!$H$12,informatieblad!$H$12,IF(P63>=informatieblad!$H$12,P63)))) -> 0 | R63: =((Q63*X63)+(Q63*U63))*C63 -> 0 | S63: =((O63*W63)+(O63*V63))*C63 -> 0 | T63: =F63 -> Options None | U63: =VLOOKUP(F63,informatieblad!$A$37:$D$41,2,FALSE) -> 0 | V63: =VLOOKUP(F63,informatieblad!$A$37:$D$41,4,FALSE) -> 0 | W63: =((IF(D61<=900,AC63,IF(D61>=900,AE63)))) -> 45.1248 | X63: =((IF(D61<=900,AB63,IF(D61>=900,AD63)))) -> 0 | Z63: =(MAX(B61:C61)) -> 0 | AA63: =LOOKUP(Z63,informatieblad!$C$27:$C$32,informatieblad!$A$27:$A$32) -> 0.5 | AB63: =VLOOKUP(AA63,informatieblad!$A$27:$M$32,6,FALSE) -> 0 | AC63: =VLOOKUP(AA63,informatieblad!$A$27:$M$32,8,FALSE) -> 45.1248 | AD63: =VLOOKUP(AA63,informatieblad!$A$27:$M$32,9,FALSE) -> 0 | AE63: =VLOOKUP(AA63,informatieblad!$A$27:$M$32,11,FALSE) -> 32.4632 | AF63: =VLOOKUP(AA63,informatieblad!$A$27:$M$32,13,FALSE) -> 4 | AG63: =ROUND((AF63*P63),1) -> 0 | AI63: =(IF(B62=AI61,((2*B61)+(2*C61)),IF(B62=AI62,((2*B61)+(2*C61)),0)))*C63 -> 0 | AJ63: =(IF(C62=AI61,((2*B61)+(2*C61)),IF(C62=AI62,((2*B61)+(2*C61)),0)))*C63 -> 0 | AK63: =(IF(B62=AK61,((2*B61)+(2*C61)),IF(B62=AK62,((2*B61)+(2*C61)),0)))*C63 -> 0 | AL63: =(IF(C62=AK61,((2*B61)+(2*C61)),IF(C62=AK62,((2*B61)+(2*C61)),0)))*C63 -> 0 | AM63: =(IF(B62=AM61,((2*B61)+(2*C61)),IF(B62=AM62,((2*B61)+(2*C61)),0)))*C63 -> 0 | AN63: =(IF(C62=AM61,((2*B61)+(2*C61)),IF(C62=AM62,((2*B61)+(2*C61)),0)))*C63 -> 0 | AO63: =(IF(B62=AO61,((2*B61)+(2*C61)),0))*C63 -> 0 | AP63: =(IF(C62=AO61,((2*B61)+(2*C61)),0))*C63 -> 0 | AR63: =D61*C63 -> 0 | AT63: ='UC mounting materials '!$B$11 -> Rail 41x41 | AU63: =IF(Z63>999,(Z63+100),0)*C63 -> 0 | AW63: =IF(B62=informatieblad!$A$6,informatieblad!$B$6,IF(B62=informatieblad!$A$7,informatieblad!$B$7,IF(B62=informatieblad!$A$8,informatieblad!$B$8,IF(B62=informatieblad!$A$2,informatieblad!$B$2,IF(B62=informatieblad!$A$3,informatieblad!$B$3,IF(B62=informatieblad!$A$4,informatieblad!$B$4,IF(B62=informatieblad!$A$5,informatieblad!$B$5,""))))))) | AX63: =IF(C62=informatieblad!$A$6,informatieblad!$B$6,IF(C62=informatieblad!$A$7,informatieblad!$B$7,IF(C62=informatieblad!$A$8,informatieblad!$B$8,IF(C62=informatieblad!$A$2,informatieblad!$B$2,IF(C62=informatieblad!$A$3,informatieblad!$B$3,IF(C62=informatieblad!$A$4,informatieblad!$B$4,IF(C62=informatieblad!$A$5,informatieblad!$B$5,""))))))) | AY63: =IF(AW63=AY61,(4*C63),0) -> 0 | AZ63: =IF(AX63=AY61,(4*C63),0) -> 0 | BA63: =IF(AW63=BA61,(4*C63),0) -> 0 | BB63: =IF(AX63=BA61,(4*C63),0) -> 0
I65: None | M65: Nr. | N65: m2/pcs | O65: rounded m2/pcs | P65: m2/pcs | Q65: rounded m2/pcs | R65: Purchase price total | S65: Sales price total | T65: Options Duct | W65: price /m2 | X65: price /m2 | Z65: biggest size | AA65: plate thickness | AB65: price /m2 | AC65: price /m2 | AD65: price /m2 | AE65: price /m2 | AF65: kg/m2 | AG65: kg/pcs | AI65: =informatieblad!$A$6 -> FL20 | AK65: =informatieblad!$A$7 -> FL30 | AM65: =informatieblad!$A$8 -> FL40 | AO65: =informatieblad!$A$5 -> none | AR65: Lengte | AU65: width | AW65: bolt & nuts | AY65: =informatieblad!$B$3 -> 0 | AZ65: =informatieblad!$B$3 -> 0 | BA65: =informatieblad!$B$4 -> 0 | BB65: =informatieblad!$B$4 -> 0
B66: =IF($C67>0,IF(MAX(B65:C65)<informatieblad!$Q$4,informatieblad!$P$3,IF(MAX(B65:C65)>informatieblad!$R$4,informatieblad!$P$5,informatieblad!$P$4)),"") | C66: =IF($C67>0,IF(MAX(B65:C65)<informatieblad!$Q$4,informatieblad!$P$3,IF(MAX(B65:C65)>informatieblad!$R$4,informatieblad!$P$5,informatieblad!$P$4)),"") | E66: =A65&"-"&informatieblad!$B$12&"-"&B65&"-"&C65&"-"&D65&"-"&B66&"-"&C66&"-"&F67 -> -RctD------Options None | M66: =A65 -> 0 | N66: Luka | O66: Luka | P66: purchase | Q66: purchase | R66: purchase | T66: m2/pcs | U66: purchase | V66: sales | W66: sales fittings | X66: purchase ducts | Z66: A1-A2-A3-B | AB66: purchase fittings | AC66: sales fittings | AD66: purchase ducts | AE66: sales ducts | AI66: =informatieblad!$A$2 -> FL20 loose | AK66: =informatieblad!$A$3 -> FL30 loose | AM66: =informatieblad!$A$4 -> FL40 loose | AT66: ='UC mounting materials '!$B$10 -> Rail 30x15 | AU66: =IF(Z67<1000,(Z67+100),0)*C67 -> 0 | AW66: type | AX66: type | AY66: aantal | AZ66: aantal | BA66: aantal | BB66: aantal
B67: aantal | D67: =C67*O67 -> 0 | E67: m2 | F67: Options None | N67: =(((2*(B65+C65))*D65)/1000000) -> 0 | O67: =((IF(N67<=informatieblad!$I$12,informatieblad!$I$12,IF(N67>=informatieblad!$I$12,N67)))) -> 0.5 | P67: =(((2*B65)+(2*C65))*D65)/1000000 -> 0 | Q67: =((IF(P67<=informatieblad!$H$12,informatieblad!$H$12,IF(P67>=informatieblad!$H$12,P67)))) -> 0 | R67: =((Q67*X67)+(Q67*U67))*C67 -> 0 | S67: =((O67*W67)+(O67*V67))*C67 -> 0 | T67: =F67 -> Options None | U67: =VLOOKUP(F67,informatieblad!$A$37:$D$41,2,FALSE) -> 0 | V67: =VLOOKUP(F67,informatieblad!$A$37:$D$41,4,FALSE) -> 0 | W67: =((IF(D65<=900,AC67,IF(D65>=900,AE67)))) -> 45.1248 | X67: =((IF(D65<=900,AB67,IF(D65>=900,AD67)))) -> 0 | Z67: =(MAX(B65:C65)) -> 0 | AA67: =LOOKUP(Z67,informatieblad!$C$27:$C$32,informatieblad!$A$27:$A$32) -> 0.5 | AB67: =VLOOKUP(AA67,informatieblad!$A$27:$M$32,6,FALSE) -> 0 | AC67: =VLOOKUP(AA67,informatieblad!$A$27:$M$32,8,FALSE) -> 45.1248 | AD67: =VLOOKUP(AA67,informatieblad!$A$27:$M$32,9,FALSE) -> 0 | AE67: =VLOOKUP(AA67,informatieblad!$A$27:$M$32,11,FALSE) -> 32.4632 | AF67: =VLOOKUP(AA67,informatieblad!$A$27:$M$32,13,FALSE) -> 4 | AG67: =ROUND((AF67*P67),1) -> 0 | AI67: =(IF(B66=AI65,((2*B65)+(2*C65)),IF(B66=AI66,((2*B65)+(2*C65)),0)))*C67 -> 0 | AJ67: =(IF(C66=AI65,((2*B65)+(2*C65)),IF(C66=AI66,((2*B65)+(2*C65)),0)))*C67 -> 0 | AK67: =(IF(B66=AK65,((2*B65)+(2*C65)),IF(B66=AK66,((2*B65)+(2*C65)),0)))*C67 -> 0 | AL67: =(IF(C66=AK65,((2*B65)+(2*C65)),IF(C66=AK66,((2*B65)+(2*C65)),0)))*C67 -> 0 | AM67: =(IF(B66=AM65,((2*B65)+(2*C65)),IF(B66=AM66,((2*B65)+(2*C65)),0)))*C67 -> 0 | AN67: =(IF(C66=AM65,((2*B65)+(2*C65)),IF(C66=AM66,((2*B65)+(2*C65)),0)))*C67 -> 0 | AO67: =(IF(B66=AO65,((2*B65)+(2*C65)),0))*C67 -> 0 | AP67: =(IF(C66=AO65,((2*B65)+(2*C65)),0))*C67 -> 0 | AR67: =D65*C67 -> 0 | AT67: ='UC mounting materials '!$B$11 -> Rail 41x41 | AU67: =IF(Z67>999,(Z67+100),0)*C67 -> 0 | AW67: =IF(B66=informatieblad!$A$6,informatieblad!$B$6,IF(B66=informatieblad!$A$7,informatieblad!$B$7,IF(B66=informatieblad!$A$8,informatieblad!$B$8,IF(B66=informatieblad!$A$2,informatieblad!$B$2,IF(B66=informatieblad!$A$3,informatieblad!$B$3,IF(B66=informatieblad!$A$4,informatieblad!$B$4,IF(B66=informatieblad!$A$5,informatieblad!$B$5,""))))))) | AX67: =IF(C66=informatieblad!$A$6,informatieblad!$B$6,IF(C66=informatieblad!$A$7,informatieblad!$B$7,IF(C66=informatieblad!$A$8,informatieblad!$B$8,IF(C66=informatieblad!$A$2,informatieblad!$B$2,IF(C66=informatieblad!$A$3,informatieblad!$B$3,IF(C66=informatieblad!$A$4,informatieblad!$B$4,IF(C66=informatieblad!$A$5,informatieblad!$B$5,""))))))) | AY67: =IF(AW67=AY65,(4*C67),0) -> 0 | AZ67: =IF(AX67=AY65,(4*C67),0) -> 0 | BA67: =IF(AW67=BA65,(4*C67),0) -> 0 | BB67: =IF(AX67=BA65,(4*C67),0) -> 0
I69: None | M69: Nr. | N69: m2/pcs | O69: rounded m2/pcs | P69: m2/pcs | Q69: rounded m2/pcs | R69: Purchase price total | S69: Sales price total | T69: Options Duct | W69: price /m2 | X69: price /m2 | Z69: biggest size | AA69: plate thickness | AB69: price /m2 | AC69: price /m2 | AD69: price /m2 | AE69: price /m2 | AF69: kg/m2 | AG69: kg/pcs | AI69: =informatieblad!$A$6 -> FL20 | AK69: =informatieblad!$A$7 -> FL30 | AM69: =informatieblad!$A$8 -> FL40 | AO69: =informatieblad!$A$5 -> none | AR69: Lengte | AU69: width | AW69: bolt & nuts | AY69: =informatieblad!$B$3 -> 0 | AZ69: =informatieblad!$B$3 -> 0 | BA69: =informatieblad!$B$4 -> 0 | BB69: =informatieblad!$B$4 -> 0
B70: =IF($C71>0,IF(MAX(B69:C69)<informatieblad!$Q$4,informatieblad!$P$3,IF(MAX(B69:C69)>informatieblad!$R$4,informatieblad!$P$5,informatieblad!$P$4)),"") | C70: =IF($C71>0,IF(MAX(B69:C69)<informatieblad!$Q$4,informatieblad!$P$3,IF(MAX(B69:C69)>informatieblad!$R$4,informatieblad!$P$5,informatieblad!$P$4)),"") | E70: =A69&"-"&informatieblad!$B$12&"-"&B69&"-"&C69&"-"&D69&"-"&B70&"-"&C70&"-"&F71 -> -RctD------Options None | M70: =A69 -> 0 | N70: Luka | O70: Luka | P70: purchase | Q70: purchase | R70: purchase | T70: m2/pcs | U70: purchase | V70: sales | W70: sales fittings | X70: purchase ducts | Z70: A1-A2-A3-B | AB70: purchase fittings | AC70: sales fittings | AD70: purchase ducts | AE70: sales ducts | AI70: =informatieblad!$A$2 -> FL20 loose | AK70: =informatieblad!$A$3 -> FL30 loose | AM70: =informatieblad!$A$4 -> FL40 loose | AT70: ='UC mounting materials '!$B$10 -> Rail 30x15 | AU70: =IF(Z71<1000,(Z71+100),0)*C71 -> 0 | AW70: type | AX70: type | AY70: aantal | AZ70: aantal | BA70: aantal | BB70: aantal
B71: aantal | D71: =C71*O71 -> 0 | E71: m2 | F71: Options None | N71: =(((2*(B69+C69))*D69)/1000000) -> 0 | O71: =((IF(N71<=informatieblad!$I$12,informatieblad!$I$12,IF(N71>=informatieblad!$I$12,N71)))) -> 0.5 | P71: =(((2*B69)+(2*C69))*D69)/1000000 -> 0 | Q71: =((IF(P71<=informatieblad!$H$12,informatieblad!$H$12,IF(P71>=informatieblad!$H$12,P71)))) -> 0 | R71: =((Q71*X71)+(Q71*U71))*C71 -> 0 | S71: =((O71*W71)+(O71*V71))*C71 -> 0 | T71: =F71 -> Options None | U71: =VLOOKUP(F71,informatieblad!$A$37:$D$41,2,FALSE) -> 0 | V71: =VLOOKUP(F71,informatieblad!$A$37:$D$41,4,FALSE) -> 0 | W71: =((IF(D69<=900,AC71,IF(D69>=900,AE71)))) -> 45.1248 | X71: =((IF(D69<=900,AB71,IF(D69>=900,AD71)))) -> 0 | Z71: =(MAX(B69:C69)) -> 0 | AA71: =LOOKUP(Z71,informatieblad!$C$27:$C$32,informatieblad!$A$27:$A$32) -> 0.5 | AB71: =VLOOKUP(AA71,informatieblad!$A$27:$M$32,6,FALSE) -> 0 | AC71: =VLOOKUP(AA71,informatieblad!$A$27:$M$32,8,FALSE) -> 45.1248 | AD71: =VLOOKUP(AA71,informatieblad!$A$27:$M$32,9,FALSE) -> 0 | AE71: =VLOOKUP(AA71,informatieblad!$A$27:$M$32,11,FALSE) -> 32.4632 | AF71: =VLOOKUP(AA71,informatieblad!$A$27:$M$32,13,FALSE) -> 4 | AG71: =ROUND((AF71*P71),1) -> 0 | AI71: =(IF(B70=AI69,((2*B69)+(2*C69)),IF(B70=AI70,((2*B69)+(2*C69)),0)))*C71 -> 0 | AJ71: =(IF(C70=AI69,((2*B69)+(2*C69)),IF(C70=AI70,((2*B69)+(2*C69)),0)))*C71 -> 0 | AK71: =(IF(B70=AK69,((2*B69)+(2*C69)),IF(B70=AK70,((2*B69)+(2*C69)),0)))*C71 -> 0 | AL71: =(IF(C70=AK69,((2*B69)+(2*C69)),IF(C70=AK70,((2*B69)+(2*C69)),0)))*C71 -> 0 | AM71: =(IF(B70=AM69,((2*B69)+(2*C69)),IF(B70=AM70,((2*B69)+(2*C69)),0)))*C71 -> 0 | AN71: =(IF(C70=AM69,((2*B69)+(2*C69)),IF(C70=AM70,((2*B69)+(2*C69)),0)))*C71 -> 0 | AO71: =(IF(B70=AO69,((2*B69)+(2*C69)),0))*C71 -> 0 | AP71: =(IF(C70=AO69,((2*B69)+(2*C69)),0))*C71 -> 0 | AR71: =D69*C71 -> 0 | AT71: ='UC mounting materials '!$B$11 -> Rail 41x41 | AU71: =IF(Z71>999,(Z71+100),0)*C71 -> 0 | AW71: =IF(B70=informatieblad!$A$6,informatieblad!$B$6,IF(B70=informatieblad!$A$7,informatieblad!$B$7,IF(B70=informatieblad!$A$8,informatieblad!$B$8,IF(B70=informatieblad!$A$2,informatieblad!$B$2,IF(B70=informatieblad!$A$3,informatieblad!$B$3,IF(B70=informatieblad!$A$4,informatieblad!$B$4,IF(B70=informatieblad!$A$5,informatieblad!$B$5,""))))))) | AX71: =IF(C70=informatieblad!$A$6,informatieblad!$B$6,IF(C70=informatieblad!$A$7,informatieblad!$B$7,IF(C70=informatieblad!$A$8,informatieblad!$B$8,IF(C70=informatieblad!$A$2,informatieblad!$B$2,IF(C70=informatieblad!$A$3,informatieblad!$B$3,IF(C70=informatieblad!$A$4,informatieblad!$B$4,IF(C70=informatieblad!$A$5,informatieblad!$B$5,""))))))) | AY71: =IF(AW71=AY69,(4*C71),0) -> 0 | AZ71: =IF(AX71=AY69,(4*C71),0) -> 0 | BA71: =IF(AW71=BA69,(4*C71),0) -> 0 | BB71: =IF(AX71=BA69,(4*C71),0) -> 0
I73: None | M73: Nr. | N73: m2/pcs | O73: rounded m2/pcs | P73: m2/pcs | Q73: rounded m2/pcs | R73: Purchase price total | S73: Sales price total | T73: Options Duct | W73: price /m2 | X73: price /m2 | Z73: biggest size | AA73: plate thickness | AB73: price /m2 | AC73: price /m2 | AD73: price /m2 | AE73: price /m2 | AF73: kg/m3 | AG73: kg/pcs | AI73: =informatieblad!$A$6 -> FL20 | AK73: =informatieblad!$A$7 -> FL30 | AM73: =informatieblad!$A$8 -> FL40 | AO73: =informatieblad!$A$5 -> none | AR73: Lengte | AU73: width | AW73: bolt & nuts | AY73: =informatieblad!$B$3 -> 0 | AZ73: =informatieblad!$B$3 -> 0 | BA73: =informatieblad!$B$4 -> 0 | BB73: =informatieblad!$B$4 -> 0
B74: =IF($C75>0,IF(MAX(B73:C73)<informatieblad!$Q$4,informatieblad!$P$3,IF(MAX(B73:C73)>informatieblad!$R$4,informatieblad!$P$5,informatieblad!$P$4)),"") | C74: =IF($C75>0,IF(MAX(B73:C73)<informatieblad!$Q$4,informatieblad!$P$3,IF(MAX(B73:C73)>informatieblad!$R$4,informatieblad!$P$5,informatieblad!$P$4)),"") | E74: =A73&"-"&informatieblad!$B$12&"-"&B73&"-"&C73&"-"&D73&"-"&B74&"-"&C74&"-"&F75 -> -RctD------Options None | M74: =A73 -> 0 | N74: Luka | O74: Luka | P74: purchase | Q74: purchase | R74: purchase | T74: m2/pcs | U74: purchase | V74: sales | W74: sales fittings | X74: purchase ducts | Z74: A1-A2-A3-B | AB74: purchase fittings | AC74: sales fittings | AD74: purchase ducts | AE74: sales ducts | AI74: =informatieblad!$A$2 -> FL20 loose | AK74: =informatieblad!$A$3 -> FL30 loose | AM74: =informatieblad!$A$4 -> FL40 loose | AT74: ='UC mounting materials '!$B$10 -> Rail 30x15 | AU74: =IF(Z75<1000,(Z75+100),0)*C75 -> 0 | AW74: type | AX74: type | AY74: aantal | AZ74: aantal | BA74: aantal | BB74: aantal
B75: aantal | D75: =C75*O75 -> 0 | E75: m2 | F75: Options None | N75: =(((2*(B73+C73))*D73)/1000000) -> 0 | O75: =((IF(N75<=informatieblad!$I$12,informatieblad!$I$12,IF(N75>=informatieblad!$I$12,N75)))) -> 0.5 | P75: =(((2*B73)+(2*C73))*D73)/1000000 -> 0 | Q75: =((IF(P75<=informatieblad!$H$12,informatieblad!$H$12,IF(P75>=informatieblad!$H$12,P75)))) -> 0 | R75: =((Q75*X75)+(Q75*U75))*C75 -> 0 | S75: =((O75*W75)+(O75*V75))*C75 -> 0 | T75: =F75 -> Options None | U75: =VLOOKUP(F75,informatieblad!$A$37:$D$41,2,FALSE) -> 0 | V75: =VLOOKUP(F75,informatieblad!$A$37:$D$41,4,FALSE) -> 0 | W75: =((IF(D73<=900,AC75,IF(D73>=900,AE75)))) -> 45.1248 | X75: =((IF(D73<=900,AB75,IF(D73>=900,AD75)))) -> 0 | Z75: =(MAX(B73:C73)) -> 0 | AA75: =LOOKUP(Z75,informatieblad!$C$27:$C$32,informatieblad!$A$27:$A$32) -> 0.5 | AB75: =VLOOKUP(AA75,informatieblad!$A$27:$M$32,6,FALSE) -> 0 | AC75: =VLOOKUP(AA75,informatieblad!$A$27:$M$32,8,FALSE) -> 45.1248 | AD75: =VLOOKUP(AA75,informatieblad!$A$27:$M$32,9,FALSE) -> 0 | AE75: =VLOOKUP(AA75,informatieblad!$A$27:$M$32,11,FALSE) -> 32.4632 | AF75: =VLOOKUP(AA75,informatieblad!$A$27:$M$32,13,FALSE) -> 4 | AG75: =ROUND((AF75*P75),1) -> 0 | AI75: =(IF(B74=AI73,((2*B73)+(2*C73)),IF(B74=AI74,((2*B73)+(2*C73)),0)))*C75 -> 0 | AJ75: =(IF(C74=AI73,((2*B73)+(2*C73)),IF(C74=AI74,((2*B73)+(2*C73)),0)))*C75 -> 0 | AK75: =(IF(B74=AK73,((2*B73)+(2*C73)),IF(B74=AK74,((2*B73)+(2*C73)),0)))*C75 -> 0 | AL75: =(IF(C74=AK73,((2*B73)+(2*C73)),IF(C74=AK74,((2*B73)+(2*C73)),0)))*C75 -> 0 | AM75: =(IF(B74=AM73,((2*B73)+(2*C73)),IF(B74=AM74,((2*B73)+(2*C73)),0)))*C75 -> 0 | AN75: =(IF(C74=AM73,((2*B73)+(2*C73)),IF(C74=AM74,((2*B73)+(2*C73)),0)))*C75 -> 0 | AO75: =(IF(B74=AO73,((2*B73)+(2*C73)),0))*C75 -> 0 | AP75: =(IF(C74=AO73,((2*B73)+(2*C73)),0))*C75 -> 0 | AR75: =D73*C75 -> 0 | AT75: ='UC mounting materials '!$B$11 -> Rail 41x41 | AU75: =IF(Z75>999,(Z75+100),0)*C75 -> 0 | AW75: =IF(B74=informatieblad!$A$6,informatieblad!$B$6,IF(B74=informatieblad!$A$7,informatieblad!$B$7,IF(B74=informatieblad!$A$8,informatieblad!$B$8,IF(B74=informatieblad!$A$2,informatieblad!$B$2,IF(B74=informatieblad!$A$3,informatieblad!$B$3,IF(B74=informatieblad!$A$4,informatieblad!$B$4,IF(B74=informatieblad!$A$5,informatieblad!$B$5,""))))))) | AX75: =IF(C74=informatieblad!$A$6,informatieblad!$B$6,IF(C74=informatieblad!$A$7,informatieblad!$B$7,IF(C74=informatieblad!$A$8,informatieblad!$B$8,IF(C74=informatieblad!$A$2,informatieblad!$B$2,IF(C74=informatieblad!$A$3,informatieblad!$B$3,IF(C74=informatieblad!$A$4,informatieblad!$B$4,IF(C74=informatieblad!$A$5,informatieblad!$B$5,""))))))) | AY75: =IF(AW75=AY73,(4*C75),0) -> 0 | AZ75: =IF(AX75=AY73,(4*C75),0) -> 0 | BA75: =IF(AW75=BA73,(4*C75),0) -> 0 | BB75: =IF(AX75=BA73,(4*C75),0) -> 0
I77: None | M77: Nr. | N77: m2/pcs | O77: rounded m2/pcs | P77: m2/pcs | Q77: rounded m2/pcs | R77: Purchase price total | S77: Sales price total | T77: Options Duct | W77: price /m2 | X77: price /m2 | Z77: biggest size | AA77: plate thickness | AB77: price /m2 | AC77: price /m2 | AD77: price /m2 | AE77: price /m2 | AF77: kg/m4 | AG77: kg/pcs | AI77: =informatieblad!$A$6 -> FL20 | AK77: =informatieblad!$A$7 -> FL30 | AM77: =informatieblad!$A$8 -> FL40 | AO77: =informatieblad!$A$5 -> none | AR77: Lengte | AU77: width | AW77: bolt & nuts | AY77: =informatieblad!$B$3 -> 0 | AZ77: =informatieblad!$B$3 -> 0 | BA77: =informatieblad!$B$4 -> 0 | BB77: =informatieblad!$B$4 -> 0
B78: =IF($C79>0,IF(MAX(B77:C77)<informatieblad!$Q$4,informatieblad!$P$3,IF(MAX(B77:C77)>informatieblad!$R$4,informatieblad!$P$5,informatieblad!$P$4)),"") | C78: =IF($C79>0,IF(MAX(B77:C77)<informatieblad!$Q$4,informatieblad!$P$3,IF(MAX(B77:C77)>informatieblad!$R$4,informatieblad!$P$5,informatieblad!$P$4)),"") | E78: =A77&"-"&informatieblad!$B$12&"-"&B77&"-"&C77&"-"&D77&"-"&B78&"-"&C78&"-"&F79 -> -RctD------Options None | M78: =A77 -> 0 | N78: Luka | O78: Luka | P78: purchase | Q78: purchase | R78: purchase | T78: m2/pcs | U78: purchase | V78: sales | W78: sales fittings | X78: purchase ducts | Z78: A1-A2-A3-B | AB78: purchase fittings | AC78: sales fittings | AD78: purchase ducts | AE78: sales ducts | AI78: =informatieblad!$A$2 -> FL20 loose | AK78: =informatieblad!$A$3 -> FL30 loose | AM78: =informatieblad!$A$4 -> FL40 loose | AT78: ='UC mounting materials '!$B$10 -> Rail 30x15 | AU78: =IF(Z79<1000,(Z79+100),0)*C79 -> 0 | AW78: type | AX78: type | AY78: aantal | AZ78: aantal | BA78: aantal | BB78: aantal
B79: aantal | D79: =C79*O79 -> 0 | E79: m2 | F79: Options None | N79: =(((2*(B77+C77))*D77)/1000000) -> 0 | O79: =((IF(N79<=informatieblad!$I$12,informatieblad!$I$12,IF(N79>=informatieblad!$I$12,N79)))) -> 0.5 | P79: =(((2*B77)+(2*C77))*D77)/1000000 -> 0 | Q79: =((IF(P79<=informatieblad!$H$12,informatieblad!$H$12,IF(P79>=informatieblad!$H$12,P79)))) -> 0 | R79: =((Q79*X79)+(Q79*U79))*C79 -> 0 | S79: =((O79*W79)+(O79*V79))*C79 -> 0 | T79: =F79 -> Options None | U79: =VLOOKUP(F79,informatieblad!$A$37:$D$41,2,FALSE) -> 0 | V79: =VLOOKUP(F79,informatieblad!$A$37:$D$41,4,FALSE) -> 0 | W79: =((IF(D77<=900,AC79,IF(D77>=900,AE79)))) -> 45.1248 | X79: =((IF(D77<=900,AB79,IF(D77>=900,AD79)))) -> 0 | Z79: =(MAX(B77:C77)) -> 0 | AA79: =LOOKUP(Z79,informatieblad!$C$27:$C$32,informatieblad!$A$27:$A$32) -> 0.5 | AB79: =VLOOKUP(AA79,informatieblad!$A$27:$M$32,6,FALSE) -> 0 | AC79: =VLOOKUP(AA79,informatieblad!$A$27:$M$32,8,FALSE) -> 45.1248 | AD79: =VLOOKUP(AA79,informatieblad!$A$27:$M$32,9,FALSE) -> 0 | AE79: =VLOOKUP(AA79,informatieblad!$A$27:$M$32,11,FALSE) -> 32.4632 | AF79: =VLOOKUP(AA79,informatieblad!$A$27:$M$32,13,FALSE) -> 4 | AG79: =ROUND((AF79*P79),1) -> 0 | AI79: =(IF(B78=AI77,((2*B77)+(2*C77)),IF(B78=AI78,((2*B77)+(2*C77)),0)))*C79 -> 0 | AJ79: =(IF(C78=AI77,((2*B77)+(2*C77)),IF(C78=AI78,((2*B77)+(2*C77)),0)))*C79 -> 0 | AK79: =(IF(B78=AK77,((2*B77)+(2*C77)),IF(B78=AK78,((2*B77)+(2*C77)),0)))*C79 -> 0 | AL79: =(IF(C78=AK77,((2*B77)+(2*C77)),IF(C78=AK78,((2*B77)+(2*C77)),0)))*C79 -> 0 | AM79: =(IF(B78=AM77,((2*B77)+(2*C77)),IF(B78=AM78,((2*B77)+(2*C77)),0)))*C79 -> 0 | AN79: =(IF(C78=AM77,((2*B77)+(2*C77)),IF(C78=AM78,((2*B77)+(2*C77)),0)))*C79 -> 0 | AO79: =(IF(B78=AO77,((2*B77)+(2*C77)),0))*C79 -> 0 | AP79: =(IF(C78=AO77,((2*B77)+(2*C77)),0))*C79 -> 0 | AR79: =D77*C79 -> 0 | AT79: ='UC mounting materials '!$B$11 -> Rail 41x41 | AU79: =IF(Z79>999,(Z79+100),0)*C79 -> 0 | AW79: =IF(B78=informatieblad!$A$6,informatieblad!$B$6,IF(B78=informatieblad!$A$7,informatieblad!$B$7,IF(B78=informatieblad!$A$8,informatieblad!$B$8,IF(B78=informatieblad!$A$2,informatieblad!$B$2,IF(B78=informatieblad!$A$3,informatieblad!$B$3,IF(B78=informatieblad!$A$4,informatieblad!$B$4,IF(B78=informatieblad!$A$5,informatieblad!$B$5,""))))))) | AX79: =IF(C78=informatieblad!$A$6,informatieblad!$B$6,IF(C78=informatieblad!$A$7,informatieblad!$B$7,IF(C78=informatieblad!$A$8,informatieblad!$B$8,IF(C78=informatieblad!$A$2,informatieblad!$B$2,IF(C78=informatieblad!$A$3,informatieblad!$B$3,IF(C78=informatieblad!$A$4,informatieblad!$B$4,IF(C78=informatieblad!$A$5,informatieblad!$B$5,""))))))) | AY79: =IF(AW79=AY77,(4*C79),0) -> 0 | AZ79: =IF(AX79=AY77,(4*C79),0) -> 0 | BA79: =IF(AW79=BA77,(4*C79),0) -> 0 | BB79: =IF(AX79=BA77,(4*C79),0) -> 0
I81: None | M81: Nr. | N81: m2/pcs | O81: rounded m2/pcs | P81: m2/pcs | Q81: rounded m2/pcs | R81: Purchase price total | S81: Sales price total | T81: Options Duct | W81: price /m2 | X81: price /m2 | Z81: biggest size | AA81: plate thickness | AB81: price /m2 | AC81: price /m2 | AD81: price /m2 | AE81: price /m2 | AF81: kg/m5 | AG81: kg/pcs | AI81: =informatieblad!$A$6 -> FL20 | AK81: =informatieblad!$A$7 -> FL30 | AM81: =informatieblad!$A$8 -> FL40 | AO81: =informatieblad!$A$5 -> none | AR81: Lengte | AU81: width | AW81: bolt & nuts | AY81: =informatieblad!$B$3 -> 0 | AZ81: =informatieblad!$B$3 -> 0 | BA81: =informatieblad!$B$4 -> 0 | BB81: =informatieblad!$B$4 -> 0
B82: =IF($C83>0,IF(MAX(B81:C81)<informatieblad!$Q$4,informatieblad!$P$3,IF(MAX(B81:C81)>informatieblad!$R$4,informatieblad!$P$5,informatieblad!$P$4)),"") | C82: =IF($C83>0,IF(MAX(B81:C81)<informatieblad!$Q$4,informatieblad!$P$3,IF(MAX(B81:C81)>informatieblad!$R$4,informatieblad!$P$5,informatieblad!$P$4)),"") | E82: =A81&"-"&informatieblad!$B$12&"-"&B81&"-"&C81&"-"&D81&"-"&B82&"-"&C82&"-"&F83 -> -RctD------Options None | M82: =A81 -> 0 | N82: Luka | O82: Luka | P82: purchase | Q82: purchase | R82: purchase | T82: m2/pcs | U82: purchase | V82: sales | W82: sales fittings | X82: purchase ducts | Z82: A1-A2-A3-B | AB82: purchase fittings | AC82: sales fittings | AD82: purchase ducts | AE82: sales ducts | AI82: =informatieblad!$A$2 -> FL20 loose | AK82: =informatieblad!$A$3 -> FL30 loose | AM82: =informatieblad!$A$4 -> FL40 loose | AT82: ='UC mounting materials '!$B$10 -> Rail 30x15 | AU82: =IF(Z83<1000,(Z83+100),0)*C83 -> 0 | AW82: type | AX82: type | AY82: aantal | AZ82: aantal | BA82: aantal | BB82: aantal
B83: aantal | D83: =C83*O83 -> 0 | E83: m2 | F83: Options None | N83: =(((2*(B81+C81))*D81)/1000000) -> 0 | O83: =((IF(N83<=informatieblad!$I$12,informatieblad!$I$12,IF(N83>=informatieblad!$I$12,N83)))) -> 0.5 | P83: =(((2*B81)+(2*C81))*D81)/1000000 -> 0 | Q83: =((IF(P83<=informatieblad!$H$12,informatieblad!$H$12,IF(P83>=informatieblad!$H$12,P83)))) -> 0 | R83: =((Q83*X83)+(Q83*U83))*C83 -> 0 | S83: =((O83*W83)+(O83*V83))*C83 -> 0 | T83: =F83 -> Options None | U83: =VLOOKUP(F83,informatieblad!$A$37:$D$41,2,FALSE) -> 0 | V83: =VLOOKUP(F83,informatieblad!$A$37:$D$41,4,FALSE) -> 0 | W83: =((IF(D81<=900,AC83,IF(D81>=900,AE83)))) -> 45.1248 | X83: =((IF(D81<=900,AB83,IF(D81>=900,AD83)))) -> 0 | Z83: =(MAX(B81:C81)) -> 0 | AA83: =LOOKUP(Z83,informatieblad!$C$27:$C$32,informatieblad!$A$27:$A$32) -> 0.5 | AB83: =VLOOKUP(AA83,informatieblad!$A$27:$M$32,6,FALSE) -> 0 | AC83: =VLOOKUP(AA83,informatieblad!$A$27:$M$32,8,FALSE) -> 45.1248 | AD83: =VLOOKUP(AA83,informatieblad!$A$27:$M$32,9,FALSE) -> 0 | AE83: =VLOOKUP(AA83,informatieblad!$A$27:$M$32,11,FALSE) -> 32.4632 | AF83: =VLOOKUP(AA83,informatieblad!$A$27:$M$32,13,FALSE) -> 4 | AG83: =ROUND((AF83*P83),1) -> 0 | AI83: =(IF(B82=AI81,((2*B81)+(2*C81)),IF(B82=AI82,((2*B81)+(2*C81)),0)))*C83 -> 0 | AJ83: =(IF(C82=AI81,((2*B81)+(2*C81)),IF(C82=AI82,((2*B81)+(2*C81)),0)))*C83 -> 0 | AK83: =(IF(B82=AK81,((2*B81)+(2*C81)),IF(B82=AK82,((2*B81)+(2*C81)),0)))*C83 -> 0 | AL83: =(IF(C82=AK81,((2*B81)+(2*C81)),IF(C82=AK82,((2*B81)+(2*C81)),0)))*C83 -> 0 | AM83: =(IF(B82=AM81,((2*B81)+(2*C81)),IF(B82=AM82,((2*B81)+(2*C81)),0)))*C83 -> 0 | AN83: =(IF(C82=AM81,((2*B81)+(2*C81)),IF(C82=AM82,((2*B81)+(2*C81)),0)))*C83 -> 0 | AO83: =(IF(B82=AO81,((2*B81)+(2*C81)),0))*C83 -> 0 | AP83: =(IF(C82=AO81,((2*B81)+(2*C81)),0))*C83 -> 0 | AR83: =D81*C83 -> 0 | AT83: ='UC mounting materials '!$B$11 -> Rail 41x41 | AU83: =IF(Z83>999,(Z83+100),0)*C83 -> 0 | AW83: =IF(B82=informatieblad!$A$6,informatieblad!$B$6,IF(B82=informatieblad!$A$7,informatieblad!$B$7,IF(B82=informatieblad!$A$8,informatieblad!$B$8,IF(B82=informatieblad!$A$2,informatieblad!$B$2,IF(B82=informatieblad!$A$3,informatieblad!$B$3,IF(B82=informatieblad!$A$4,informatieblad!$B$4,IF(B82=informatieblad!$A$5,informatieblad!$B$5,""))))))) | AX83: =IF(C82=informatieblad!$A$6,informatieblad!$B$6,IF(C82=informatieblad!$A$7,informatieblad!$B$7,IF(C82=informatieblad!$A$8,informatieblad!$B$8,IF(C82=informatieblad!$A$2,informatieblad!$B$2,IF(C82=informatieblad!$A$3,informatieblad!$B$3,IF(C82=informatieblad!$A$4,informatieblad!$B$4,IF(C82=informatieblad!$A$5,informatieblad!$B$5,""))))))) | AY83: =IF(AW83=AY81,(4*C83),0) -> 0 | AZ83: =IF(AX83=AY81,(4*C83),0) -> 0 | BA83: =IF(AW83=BA81,(4*C83),0) -> 0 | BB83: =IF(AX83=BA81,(4*C83),0) -> 0
I85: None | M85: Nr. | N85: m2/pcs | O85: rounded m2/pcs | P85: m2/pcs | Q85: rounded m2/pcs | R85: Purchase price total | S85: Sales price total | T85: Options Duct | W85: price /m2 | X85: price /m2 | Z85: biggest size | AA85: plate thickness | AB85: price /m2 | AC85: price /m2 | AD85: price /m2 | AE85: price /m2 | AF85: kg/m6 | AG85: kg/pcs | AI85: =informatieblad!$A$6 -> FL20 | AK85: =informatieblad!$A$7 -> FL30 | AM85: =informatieblad!$A$8 -> FL40 | AO85: =informatieblad!$A$5 -> none | AR85: Lengte | AU85: width | AW85: bolt & nuts | AY85: =informatieblad!$B$3 -> 0 | AZ85: =informatieblad!$B$3 -> 0 | BA85: =informatieblad!$B$4 -> 0 | BB85: =informatieblad!$B$4 -> 0
B86: =IF($C87>0,IF(MAX(B85:C85)<informatieblad!$Q$4,informatieblad!$P$3,IF(MAX(B85:C85)>informatieblad!$R$4,informatieblad!$P$5,informatieblad!$P$4)),"") | C86: =IF($C87>0,IF(MAX(B85:C85)<informatieblad!$Q$4,informatieblad!$P$3,IF(MAX(B85:C85)>informatieblad!$R$4,informatieblad!$P$5,informatieblad!$P$4)),"") | E86: =A85&"-"&informatieblad!$B$12&"-"&B85&"-"&C85&"-"&D85&"-"&B86&"-"&C86&"-"&F87 -> -RctD------Options None | M86: =A85 -> 0 | N86: Luka | O86: Luka | P86: purchase | Q86: purchase | R86: purchase | T86: m2/pcs | U86: purchase | V86: sales | W86: sales fittings | X86: purchase ducts | Z86: A1-A2-A3-B | AB86: purchase fittings | AC86: sales fittings | AD86: purchase ducts | AE86: sales ducts | AI86: =informatieblad!$A$2 -> FL20 loose | AK86: =informatieblad!$A$3 -> FL30 loose | AM86: =informatieblad!$A$4 -> FL40 loose | AT86: ='UC mounting materials '!$B$10 -> Rail 30x15 | AU86: =IF(Z87<1000,(Z87+100),0)*C87 -> 0 | AW86: type | AX86: type | AY86: aantal | AZ86: aantal | BA86: aantal | BB86: aantal
B87: aantal | D87: =C87*O87 -> 0 | E87: m2 | F87: Options None | N87: =(((2*(B85+C85))*D85)/1000000) -> 0 | O87: =((IF(N87<=informatieblad!$I$12,informatieblad!$I$12,IF(N87>=informatieblad!$I$12,N87)))) -> 0.5 | P87: =(((2*B85)+(2*C85))*D85)/1000000 -> 0 | Q87: =((IF(P87<=informatieblad!$H$12,informatieblad!$H$12,IF(P87>=informatieblad!$H$12,P87)))) -> 0 | R87: =((Q87*X87)+(Q87*U87))*C87 -> 0 | S87: =((O87*W87)+(O87*V87))*C87 -> 0 | T87: =F87 -> Options None | U87: =VLOOKUP(F87,informatieblad!$A$37:$D$41,2,FALSE) -> 0 | V87: =VLOOKUP(F87,informatieblad!$A$37:$D$41,4,FALSE) -> 0 | W87: =((IF(D85<=900,AC87,IF(D85>=900,AE87)))) -> 45.1248 | X87: =((IF(D85<=900,AB87,IF(D85>=900,AD87)))) -> 0 | Z87: =(MAX(B85:C85)) -> 0 | AA87: =LOOKUP(Z87,informatieblad!$C$27:$C$32,informatieblad!$A$27:$A$32) -> 0.5 | AB87: =VLOOKUP(AA87,informatieblad!$A$27:$M$32,6,FALSE) -> 0 | AC87: =VLOOKUP(AA87,informatieblad!$A$27:$M$32,8,FALSE) -> 45.1248 | AD87: =VLOOKUP(AA87,informatieblad!$A$27:$M$32,9,FALSE) -> 0 | AE87: =VLOOKUP(AA87,informatieblad!$A$27:$M$32,11,FALSE) -> 32.4632 | AF87: =VLOOKUP(AA87,informatieblad!$A$27:$M$32,13,FALSE) -> 4 | AG87: =ROUND((AF87*P87),1) -> 0 | AI87: =(IF(B86=AI85,((2*B85)+(2*C85)),IF(B86=AI86,((2*B85)+(2*C85)),0)))*C87 -> 0 | AJ87: =(IF(C86=AI85,((2*B85)+(2*C85)),IF(C86=AI86,((2*B85)+(2*C85)),0)))*C87 -> 0 | AK87: =(IF(B86=AK85,((2*B85)+(2*C85)),IF(B86=AK86,((2*B85)+(2*C85)),0)))*C87 -> 0 | AL87: =(IF(C86=AK85,((2*B85)+(2*C85)),IF(C86=AK86,((2*B85)+(2*C85)),0)))*C87 -> 0 | AM87: =(IF(B86=AM85,((2*B85)+(2*C85)),IF(B86=AM86,((2*B85)+(2*C85)),0)))*C87 -> 0 | AN87: =(IF(C86=AM85,((2*B85)+(2*C85)),IF(C86=AM86,((2*B85)+(2*C85)),0)))*C87 -> 0 | AO87: =(IF(B86=AO85,((2*B85)+(2*C85)),0))*C87 -> 0 | AP87: =(IF(C86=AO85,((2*B85)+(2*C85)),0))*C87 -> 0 | AR87: =D85*C87 -> 0 | AT87: ='UC mounting materials '!$B$11 -> Rail 41x41 | AU87: =IF(Z87>999,(Z87+100),0)*C87 -> 0 | AW87: =IF(B86=informatieblad!$A$6,informatieblad!$B$6,IF(B86=informatieblad!$A$7,informatieblad!$B$7,IF(B86=informatieblad!$A$8,informatieblad!$B$8,IF(B86=informatieblad!$A$2,informatieblad!$B$2,IF(B86=informatieblad!$A$3,informatieblad!$B$3,IF(B86=informatieblad!$A$4,informatieblad!$B$4,IF(B86=informatieblad!$A$5,informatieblad!$B$5,""))))))) | AX87: =IF(C86=informatieblad!$A$6,informatieblad!$B$6,IF(C86=informatieblad!$A$7,informatieblad!$B$7,IF(C86=informatieblad!$A$8,informatieblad!$B$8,IF(C86=informatieblad!$A$2,informatieblad!$B$2,IF(C86=informatieblad!$A$3,informatieblad!$B$3,IF(C86=informatieblad!$A$4,informatieblad!$B$4,IF(C86=informatieblad!$A$5,informatieblad!$B$5,""))))))) | AY87: =IF(AW87=AY85,(4*C87),0) -> 0 | AZ87: =IF(AX87=AY85,(4*C87),0) -> 0 | BA87: =IF(AW87=BA85,(4*C87),0) -> 0 | BB87: =IF(AX87=BA85,(4*C87),0) -> 0
I89: None | M89: Nr. | N89: m2/pcs | O89: rounded m2/pcs | P89: m2/pcs | Q89: rounded m2/pcs | R89: Purchase price total | S89: Sales price total | T89: Options Duct | W89: price /m2 | X89: price /m2 | Z89: biggest size | AA89: plate thickness | AB89: price /m2 | AC89: price /m2 | AD89: price /m2 | AE89: price /m2 | AF89: kg/m7 | AG89: kg/pcs | AI89: =informatieblad!$A$6 -> FL20 | AK89: =informatieblad!$A$7 -> FL30 | AM89: =informatieblad!$A$8 -> FL40 | AO89: =informatieblad!$A$5 -> none | AR89: Lengte | AU89: width | AW89: bolt & nuts | AY89: =informatieblad!$B$3 -> 0 | AZ89: =informatieblad!$B$3 -> 0 | BA89: =informatieblad!$B$4 -> 0 | BB89: =informatieblad!$B$4 -> 0
B90: =IF($C91>0,IF(MAX(B89:C89)<informatieblad!$Q$4,informatieblad!$P$3,IF(MAX(B89:C89)>informatieblad!$R$4,informatieblad!$P$5,informatieblad!$P$4)),"") | C90: =IF($C91>0,IF(MAX(B89:C89)<informatieblad!$Q$4,informatieblad!$P$3,IF(MAX(B89:C89)>informatieblad!$R$4,informatieblad!$P$5,informatieblad!$P$4)),"") | E90: =A89&"-"&informatieblad!$B$12&"-"&B89&"-"&C89&"-"&D89&"-"&B90&"-"&C90&"-"&F91 -> -RctD------Options None | M90: =A89 -> 0 | N90: Luka | O90: Luka | P90: purchase | Q90: purchase | R90: purchase | T90: m2/pcs | U90: purchase | V90: sales | W90: sales fittings | X90: purchase ducts | Z90: A1-A2-A3-B | AB90: purchase fittings | AC90: sales fittings | AD90: purchase ducts | AE90: sales ducts | AI90: =informatieblad!$A$2 -> FL20 loose | AK90: =informatieblad!$A$3 -> FL30 loose | AM90: =informatieblad!$A$4 -> FL40 loose | AT90: ='UC mounting materials '!$B$10 -> Rail 30x15 | AU90: =IF(Z91<1000,(Z91+100),0)*C91 -> 0 | AW90: type | AX90: type | AY90: aantal | AZ90: aantal | BA90: aantal | BB90: aantal
B91: aantal | D91: =C91*O91 -> 0 | E91: m2 | F91: Options None | N91: =(((2*(B89+C89))*D89)/1000000) -> 0 | O91: =((IF(N91<=informatieblad!$I$12,informatieblad!$I$12,IF(N91>=informatieblad!$I$12,N91)))) -> 0.5 | P91: =(((2*B89)+(2*C89))*D89)/1000000 -> 0 | Q91: =((IF(P91<=informatieblad!$H$12,informatieblad!$H$12,IF(P91>=informatieblad!$H$12,P91)))) -> 0 | R91: =((Q91*X91)+(Q91*U91))*C91 -> 0 | S91: =((O91*W91)+(O91*V91))*C91 -> 0 | T91: =F91 -> Options None | U91: =VLOOKUP(F91,informatieblad!$A$37:$D$41,2,FALSE) -> 0 | V91: =VLOOKUP(F91,informatieblad!$A$37:$D$41,4,FALSE) -> 0 | W91: =((IF(D89<=900,AC91,IF(D89>=900,AE91)))) -> 45.1248 | X91: =((IF(D89<=900,AB91,IF(D89>=900,AD91)))) -> 0 | Z91: =(MAX(B89:C89)) -> 0 | AA91: =LOOKUP(Z91,informatieblad!$C$27:$C$32,informatieblad!$A$27:$A$32) -> 0.5 | AB91: =VLOOKUP(AA91,informatieblad!$A$27:$M$32,6,FALSE) -> 0 | AC91: =VLOOKUP(AA91,informatieblad!$A$27:$M$32,8,FALSE) -> 45.1248 | AD91: =VLOOKUP(AA91,informatieblad!$A$27:$M$32,9,FALSE) -> 0 | AE91: =VLOOKUP(AA91,informatieblad!$A$27:$M$32,11,FALSE) -> 32.4632 | AF91: =VLOOKUP(AA91,informatieblad!$A$27:$M$32,13,FALSE) -> 4 | AG91: =ROUND((AF91*P91),1) -> 0 | AI91: =(IF(B90=AI89,((2*B89)+(2*C89)),IF(B90=AI90,((2*B89)+(2*C89)),0)))*C91 -> 0 | AJ91: =(IF(C90=AI89,((2*B89)+(2*C89)),IF(C90=AI90,((2*B89)+(2*C89)),0)))*C91 -> 0 | AK91: =(IF(B90=AK89,((2*B89)+(2*C89)),IF(B90=AK90,((2*B89)+(2*C89)),0)))*C91 -> 0 | AL91: =(IF(C90=AK89,((2*B89)+(2*C89)),IF(C90=AK90,((2*B89)+(2*C89)),0)))*C91 -> 0 | AM91: =(IF(B90=AM89,((2*B89)+(2*C89)),IF(B90=AM90,((2*B89)+(2*C89)),0)))*C91 -> 0 | AN91: =(IF(C90=AM89,((2*B89)+(2*C89)),IF(C90=AM90,((2*B89)+(2*C89)),0)))*C91 -> 0 | AO91: =(IF(B90=AO89,((2*B89)+(2*C89)),0))*C91 -> 0 | AP91: =(IF(C90=AO89,((2*B89)+(2*C89)),0))*C91 -> 0 | AR91: =D89*C91 -> 0 | AT91: ='UC mounting materials '!$B$11 -> Rail 41x41 | AU91: =IF(Z91>999,(Z91+100),0)*C91 -> 0 | AW91: =IF(B90=informatieblad!$A$6,informatieblad!$B$6,IF(B90=informatieblad!$A$7,informatieblad!$B$7,IF(B90=informatieblad!$A$8,informatieblad!$B$8,IF(B90=informatieblad!$A$2,informatieblad!$B$2,IF(B90=informatieblad!$A$3,informatieblad!$B$3,IF(B90=informatieblad!$A$4,informatieblad!$B$4,IF(B90=informatieblad!$A$5,informatieblad!$B$5,""))))))) | AX91: =IF(C90=informatieblad!$A$6,informatieblad!$B$6,IF(C90=informatieblad!$A$7,informatieblad!$B$7,IF(C90=informatieblad!$A$8,informatieblad!$B$8,IF(C90=informatieblad!$A$2,informatieblad!$B$2,IF(C90=informatieblad!$A$3,informatieblad!$B$3,IF(C90=informatieblad!$A$4,informatieblad!$B$4,IF(C90=informatieblad!$A$5,informatieblad!$B$5,""))))))) | AY91: =IF(AW91=AY89,(4*C91),0) -> 0 | AZ91: =IF(AX91=AY89,(4*C91),0) -> 0 | BA91: =IF(AW91=BA89,(4*C91),0) -> 0 | BB91: =IF(AX91=BA89,(4*C91),0) -> 0
I93: None | M93: Nr. | N93: m2/pcs | O93: rounded m2/pcs | P93: m2/pcs | Q93: rounded m2/pcs | R93: Purchase price total | S93: Sales price total | T93: Options Duct | W93: price /m2 | X93: price /m2 | Z93: biggest size | AA93: plate thickness | AB93: price /m2 | AC93: price /m2 | AD93: price /m2 | AE93: price /m2 | AF93: kg/m8 | AG93: kg/pcs | AI93: =informatieblad!$A$6 -> FL20 | AK93: =informatieblad!$A$7 -> FL30 | AM93: =informatieblad!$A$8 -> FL40 | AO93: =informatieblad!$A$5 -> none | AR93: Lengte | AU93: width | AW93: bolt & nuts | AY93: =informatieblad!$B$3 -> 0 | AZ93: =informatieblad!$B$3 -> 0 | BA93: =informatieblad!$B$4 -> 0 | BB93: =informatieblad!$B$4 -> 0
B94: =IF($C95>0,IF(MAX(B93:C93)<informatieblad!$Q$4,informatieblad!$P$3,IF(MAX(B93:C93)>informatieblad!$R$4,informatieblad!$P$5,informatieblad!$P$4)),"") | C94: =IF($C95>0,IF(MAX(B93:C93)<informatieblad!$Q$4,informatieblad!$P$3,IF(MAX(B93:C93)>informatieblad!$R$4,informatieblad!$P$5,informatieblad!$P$4)),"") | E94: =A93&"-"&informatieblad!$B$12&"-"&B93&"-"&C93&"-"&D93&"-"&B94&"-"&C94&"-"&F95 -> -RctD------Options None | M94: =A93 -> 0 | N94: Luka | O94: Luka | P94: purchase | Q94: purchase | R94: purchase | T94: m2/pcs | U94: purchase | V94: sales | W94: sales fittings | X94: purchase ducts | Z94: A1-A2-A3-B | AB94: purchase fittings | AC94: sales fittings | AD94: purchase ducts | AE94: sales ducts | AI94: =informatieblad!$A$2 -> FL20 loose | AK94: =informatieblad!$A$3 -> FL30 loose | AM94: =informatieblad!$A$4 -> FL40 loose | AT94: ='UC mounting materials '!$B$10 -> Rail 30x15 | AU94: =IF(Z95<1000,(Z95+100),0)*C95 -> 0 | AW94: type | AX94: type | AY94: aantal | AZ94: aantal | BA94: aantal | BB94: aantal
B95: aantal | D95: =C95*O95 -> 0 | E95: m2 | F95: Options None | N95: =(((2*(B93+C93))*D93)/1000000) -> 0 | O95: =((IF(N95<=informatieblad!$I$12,informatieblad!$I$12,IF(N95>=informatieblad!$I$12,N95)))) -> 0.5 | P95: =(((2*B93)+(2*C93))*D93)/1000000 -> 0 | Q95: =((IF(P95<=informatieblad!$H$12,informatieblad!$H$12,IF(P95>=informatieblad!$H$12,P95)))) -> 0 | R95: =((Q95*X95)+(Q95*U95))*C95 -> 0 | S95: =((O95*W95)+(O95*V95))*C95 -> 0 | T95: =F95 -> Options None | U95: =VLOOKUP(F95,informatieblad!$A$37:$D$41,2,FALSE) -> 0 | V95: =VLOOKUP(F95,informatieblad!$A$37:$D$41,4,FALSE) -> 0 | W95: =((IF(D93<=900,AC95,IF(D93>=900,AE95)))) -> 45.1248 | X95: =((IF(D93<=900,AB95,IF(D93>=900,AD95)))) -> 0 | Z95: =(MAX(B93:C93)) -> 0 | AA95: =LOOKUP(Z95,informatieblad!$C$27:$C$32,informatieblad!$A$27:$A$32) -> 0.5 | AB95: =VLOOKUP(AA95,informatieblad!$A$27:$M$32,6,FALSE) -> 0 | AC95: =VLOOKUP(AA95,informatieblad!$A$27:$M$32,8,FALSE) -> 45.1248 | AD95: =VLOOKUP(AA95,informatieblad!$A$27:$M$32,9,FALSE) -> 0 | AE95: =VLOOKUP(AA95,informatieblad!$A$27:$M$32,11,FALSE) -> 32.4632 | AF95: =VLOOKUP(AA95,informatieblad!$A$27:$M$32,13,FALSE) -> 4 | AG95: =ROUND((AF95*P95),1) -> 0 | AI95: =(IF(B94=AI93,((2*B93)+(2*C93)),IF(B94=AI94,((2*B93)+(2*C93)),0)))*C95 -> 0 | AJ95: =(IF(C94=AI93,((2*B93)+(2*C93)),IF(C94=AI94,((2*B93)+(2*C93)),0)))*C95 -> 0 | AK95: =(IF(B94=AK93,((2*B93)+(2*C93)),IF(B94=AK94,((2*B93)+(2*C93)),0)))*C95 -> 0 | AL95: =(IF(C94=AK93,((2*B93)+(2*C93)),IF(C94=AK94,((2*B93)+(2*C93)),0)))*C95 -> 0 | AM95: =(IF(B94=AM93,((2*B93)+(2*C93)),IF(B94=AM94,((2*B93)+(2*C93)),0)))*C95 -> 0 | AN95: =(IF(C94=AM93,((2*B93)+(2*C93)),IF(C94=AM94,((2*B93)+(2*C93)),0)))*C95 -> 0 | AO95: =(IF(B94=AO93,((2*B93)+(2*C93)),0))*C95 -> 0 | AP95: =(IF(C94=AO93,((2*B93)+(2*C93)),0))*C95 -> 0 | AR95: =D93*C95 -> 0 | AT95: ='UC mounting materials '!$B$11 -> Rail 41x41 | AU95: =IF(Z95>999,(Z95+100),0)*C95 -> 0 | AW95: =IF(B94=informatieblad!$A$6,informatieblad!$B$6,IF(B94=informatieblad!$A$7,informatieblad!$B$7,IF(B94=informatieblad!$A$8,informatieblad!$B$8,IF(B94=informatieblad!$A$2,informatieblad!$B$2,IF(B94=informatieblad!$A$3,informatieblad!$B$3,IF(B94=informatieblad!$A$4,informatieblad!$B$4,IF(B94=informatieblad!$A$5,informatieblad!$B$5,""))))))) | AX95: =IF(C94=informatieblad!$A$6,informatieblad!$B$6,IF(C94=informatieblad!$A$7,informatieblad!$B$7,IF(C94=informatieblad!$A$8,informatieblad!$B$8,IF(C94=informatieblad!$A$2,informatieblad!$B$2,IF(C94=informatieblad!$A$3,informatieblad!$B$3,IF(C94=informatieblad!$A$4,informatieblad!$B$4,IF(C94=informatieblad!$A$5,informatieblad!$B$5,""))))))) | AY95: =IF(AW95=AY93,(4*C95),0) -> 0 | AZ95: =IF(AX95=AY93,(4*C95),0) -> 0 | BA95: =IF(AW95=BA93,(4*C95),0) -> 0 | BB95: =IF(AX95=BA93,(4*C95),0) -> 0
I97: None | M97: Nr. | N97: m2/pcs | O97: rounded m2/pcs | P97: m2/pcs | Q97: rounded m2/pcs | R97: Purchase price total | S97: Sales price total | T97: Options Duct | W97: price /m2 | X97: price /m2 | Z97: biggest size | AA97: plate thickness | AB97: price /m2 | AC97: price /m2 | AD97: price /m2 | AE97: price /m2 | AF97: kg/m9 | AG97: kg/pcs | AI97: =informatieblad!$A$6 -> FL20 | AK97: =informatieblad!$A$7 -> FL30 | AM97: =informatieblad!$A$8 -> FL40 | AO97: =informatieblad!$A$5 -> none | AR97: Lengte | AU97: width | AW97: bolt & nuts | AY97: =informatieblad!$B$3 -> 0 | AZ97: =informatieblad!$B$3 -> 0 | BA97: =informatieblad!$B$4 -> 0 | BB97: =informatieblad!$B$4 -> 0
B98: =IF($C99>0,IF(MAX(B97:C97)<informatieblad!$Q$4,informatieblad!$P$3,IF(MAX(B97:C97)>informatieblad!$R$4,informatieblad!$P$5,informatieblad!$P$4)),"") | C98: =IF($C99>0,IF(MAX(B97:C97)<informatieblad!$Q$4,informatieblad!$P$3,IF(MAX(B97:C97)>informatieblad!$R$4,informatieblad!$P$5,informatieblad!$P$4)),"") | E98: =A97&"-"&informatieblad!$B$12&"-"&B97&"-"&C97&"-"&D97&"-"&B98&"-"&C98&"-"&F99 -> -RctD------Options None | M98: =A97 -> 0 | N98: Luka | O98: Luka | P98: purchase | Q98: purchase | R98: purchase | T98: m2/pcs | U98: purchase | V98: sales | W98: sales fittings | X98: purchase ducts | Z98: A1-A2-A3-B | AB98: purchase fittings | AC98: sales fittings | AD98: purchase ducts | AE98: sales ducts | AI98: =informatieblad!$A$2 -> FL20 loose | AK98: =informatieblad!$A$3 -> FL30 loose | AM98: =informatieblad!$A$4 -> FL40 loose | AT98: ='UC mounting materials '!$B$10 -> Rail 30x15 | AU98: =IF(Z99<1000,(Z99+100),0)*C99 -> 0 | AW98: type | AX98: type | AY98: aantal | AZ98: aantal | BA98: aantal | BB98: aantal
B99: aantal | D99: =C99*O99 -> 0 | E99: m2 | F99: Options None | N99: =(((2*(B97+C97))*D97)/1000000) -> 0 | O99: =((IF(N99<=informatieblad!$I$12,informatieblad!$I$12,IF(N99>=informatieblad!$I$12,N99)))) -> 0.5 | P99: =(((2*B97)+(2*C97))*D97)/1000000 -> 0 | Q99: =((IF(P99<=informatieblad!$H$12,informatieblad!$H$12,IF(P99>=informatieblad!$H$12,P99)))) -> 0 | R99: =((Q99*X99)+(Q99*U99))*C99 -> 0 | S99: =((O99*W99)+(O99*V99))*C99 -> 0 | T99: =F99 -> Options None | U99: =VLOOKUP(F99,informatieblad!$A$37:$D$41,2,FALSE) -> 0 | V99: =VLOOKUP(F99,informatieblad!$A$37:$D$41,4,FALSE) -> 0 | W99: =((IF(D97<=900,AC99,IF(D97>=900,AE99)))) -> 45.1248 | X99: =((IF(D97<=900,AB99,IF(D97>=900,AD99)))) -> 0 | Z99: =(MAX(B97:C97)) -> 0 | AA99: =LOOKUP(Z99,informatieblad!$C$27:$C$32,informatieblad!$A$27:$A$32) -> 0.5 | AB99: =VLOOKUP(AA99,informatieblad!$A$27:$M$32,6,FALSE) -> 0 | AC99: =VLOOKUP(AA99,informatieblad!$A$27:$M$32,8,FALSE) -> 45.1248 | AD99: =VLOOKUP(AA99,informatieblad!$A$27:$M$32,9,FALSE) -> 0 | AE99: =VLOOKUP(AA99,informatieblad!$A$27:$M$32,11,FALSE) -> 32.4632 | AF99: =VLOOKUP(AA99,informatieblad!$A$27:$M$32,13,FALSE) -> 4 | AG99: =ROUND((AF99*P99),1) -> 0 | AI99: =(IF(B98=AI97,((2*B97)+(2*C97)),IF(B98=AI98,((2*B97)+(2*C97)),0)))*C99 -> 0 | AJ99: =(IF(C98=AI97,((2*B97)+(2*C97)),IF(C98=AI98,((2*B97)+(2*C97)),0)))*C99 -> 0 | AK99: =(IF(B98=AK97,((2*B97)+(2*C97)),IF(B98=AK98,((2*B97)+(2*C97)),0)))*C99 -> 0 | AL99: =(IF(C98=AK97,((2*B97)+(2*C97)),IF(C98=AK98,((2*B97)+(2*C97)),0)))*C99 -> 0 | AM99: =(IF(B98=AM97,((2*B97)+(2*C97)),IF(B98=AM98,((2*B97)+(2*C97)),0)))*C99 -> 0 | AN99: =(IF(C98=AM97,((2*B97)+(2*C97)),IF(C98=AM98,((2*B97)+(2*C97)),0)))*C99 -> 0 | AO99: =(IF(B98=AO97,((2*B97)+(2*C97)),0))*C99 -> 0 | AP99: =(IF(C98=AO97,((2*B97)+(2*C97)),0))*C99 -> 0 | AR99: =D97*C99 -> 0 | AT99: ='UC mounting materials '!$B$11 -> Rail 41x41 | AU99: =IF(Z99>999,(Z99+100),0)*C99 -> 0 | AW99: =IF(B98=informatieblad!$A$6,informatieblad!$B$6,IF(B98=informatieblad!$A$7,informatieblad!$B$7,IF(B98=informatieblad!$A$8,informatieblad!$B$8,IF(B98=informatieblad!$A$2,informatieblad!$B$2,IF(B98=informatieblad!$A$3,informatieblad!$B$3,IF(B98=informatieblad!$A$4,informatieblad!$B$4,IF(B98=informatieblad!$A$5,informatieblad!$B$5,""))))))) | AX99: =IF(C98=informatieblad!$A$6,informatieblad!$B$6,IF(C98=informatieblad!$A$7,informatieblad!$B$7,IF(C98=informatieblad!$A$8,informatieblad!$B$8,IF(C98=informatieblad!$A$2,informatieblad!$B$2,IF(C98=informatieblad!$A$3,informatieblad!$B$3,IF(C98=informatieblad!$A$4,informatieblad!$B$4,IF(C98=informatieblad!$A$5,informatieblad!$B$5,""))))))) | AY99: =IF(AW99=AY97,(4*C99),0) -> 0 | AZ99: =IF(AX99=AY97,(4*C99),0) -> 0 | BA99: =IF(AW99=BA97,(4*C99),0) -> 0 | BB99: =IF(AX99=BA97,(4*C99),0) -> 0
I101: None | M101: Nr. | N101: m2/pcs | O101: rounded m2/pcs | P101: m2/pcs | Q101: rounded m2/pcs | R101: Purchase price total | S101: Sales price total | T101: Options Duct | W101: price /m2 | X101: price /m2 | Z101: biggest size | AA101: plate thickness | AB101: price /m2 | AC101: price /m2 | AD101: price /m2 | AE101: price /m2 | AF101: kg/m10 | AG101: kg/pcs | AI101: =informatieblad!$A$6 -> FL20 | AK101: =informatieblad!$A$7 -> FL30 | AM101: =informatieblad!$A$8 -> FL40 | AO101: =informatieblad!$A$5 -> none | AR101: Lengte | AU101: width | AW101: bolt & nuts | AY101: =informatieblad!$B$3 -> 0 | AZ101: =informatieblad!$B$3 -> 0 | BA101: =informatieblad!$B$4 -> 0 | BB101: =informatieblad!$B$4 -> 0
B102: =IF($C103>0,IF(MAX(B101:C101)<informatieblad!$Q$4,informatieblad!$P$3,IF(MAX(B101:C101)>informatieblad!$R$4,informatieblad!$P$5,informatieblad!$P$4)),"") | C102: =IF($C103>0,IF(MAX(B101:C101)<informatieblad!$Q$4,informatieblad!$P$3,IF(MAX(B101:C101)>informatieblad!$R$4,informatieblad!$P$5,informatieblad!$P$4)),"") | E102: =A101&"-"&informatieblad!$B$12&"-"&B101&"-"&C101&"-"&D101&"-"&B102&"-"&C102&"-"&F103 -> -RctD------Options None | M102: =A101 -> 0 | N102: Luka | O102: Luka | P102: purchase | Q102: purchase | R102: purchase | T102: m2/pcs | U102: purchase | V102: sales | W102: sales fittings | X102: purchase ducts | Z102: A1-A2-A3-B | AB102: purchase fittings | AC102: sales fittings | AD102: purchase ducts | AE102: sales ducts | AI102: =informatieblad!$A$2 -> FL20 loose | AK102: =informatieblad!$A$3 -> FL30 loose | AM102: =informatieblad!$A$4 -> FL40 loose | AT102: ='UC mounting materials '!$B$10 -> Rail 30x15 | AU102: =IF(Z103<1000,(Z103+100),0)*C103 -> 0 | AW102: type | AX102: type | AY102: aantal | AZ102: aantal | BA102: aantal | BB102: aantal
B103: aantal | D103: =C103*O103 -> 0 | E103: m2 | F103: Options None | N103: =(((2*(B101+C101))*D101)/1000000) -> 0 | O103: =((IF(N103<=informatieblad!$I$12,informatieblad!$I$12,IF(N103>=informatieblad!$I$12,N103)))) -> 0.5 | P103: =(((2*B101)+(2*C101))*D101)/1000000 -> 0 | Q103: =((IF(P103<=informatieblad!$H$12,informatieblad!$H$12,IF(P103>=informatieblad!$H$12,P103)))) -> 0 | R103: =((Q103*X103)+(Q103*U103))*C103 -> 0 | S103: =((O103*W103)+(O103*V103))*C103 -> 0 | T103: =F103 -> Options None | U103: =VLOOKUP(F103,informatieblad!$A$37:$D$41,2,FALSE) -> 0 | V103: =VLOOKUP(F103,informatieblad!$A$37:$D$41,4,FALSE) -> 0 | W103: =((IF(D101<=900,AC103,IF(D101>=900,AE103)))) -> 45.1248 | X103: =((IF(D101<=900,AB103,IF(D101>=900,AD103)))) -> 0 | Z103: =(MAX(B101:C101)) -> 0 | AA103: =LOOKUP(Z103,informatieblad!$C$27:$C$32,informatieblad!$A$27:$A$32) -> 0.5 | AB103: =VLOOKUP(AA103,informatieblad!$A$27:$M$32,6,FALSE) -> 0 | AC103: =VLOOKUP(AA103,informatieblad!$A$27:$M$32,8,FALSE) -> 45.1248 | AD103: =VLOOKUP(AA103,informatieblad!$A$27:$M$32,9,FALSE) -> 0 | AE103: =VLOOKUP(AA103,informatieblad!$A$27:$M$32,11,FALSE) -> 32.4632 | AF103: =VLOOKUP(AA103,informatieblad!$A$27:$M$32,13,FALSE) -> 4 | AG103: =ROUND((AF103*P103),1) -> 0 | AI103: =(IF(B102=AI101,((2*B101)+(2*C101)),IF(B102=AI102,((2*B101)+(2*C101)),0)))*C103 -> 0 | AJ103: =(IF(C102=AI101,((2*B101)+(2*C101)),IF(C102=AI102,((2*B101)+(2*C101)),0)))*C103 -> 0 | AK103: =(IF(B102=AK101,((2*B101)+(2*C101)),IF(B102=AK102,((2*B101)+(2*C101)),0)))*C103 -> 0 | AL103: =(IF(C102=AK101,((2*B101)+(2*C101)),IF(C102=AK102,((2*B101)+(2*C101)),0)))*C103 -> 0 | AM103: =(IF(B102=AM101,((2*B101)+(2*C101)),IF(B102=AM102,((2*B101)+(2*C101)),0)))*C103 -> 0 | AN103: =(IF(C102=AM101,((2*B101)+(2*C101)),IF(C102=AM102,((2*B101)+(2*C101)),0)))*C103 -> 0 | AO103: =(IF(B102=AO101,((2*B101)+(2*C101)),0))*C103 -> 0 | AP103: =(IF(C102=AO101,((2*B101)+(2*C101)),0))*C103 -> 0 | AR103: =D101*C103 -> 0 | AT103: ='UC mounting materials '!$B$11 -> Rail 41x41 | AU103: =IF(Z103>999,(Z103+100),0)*C103 -> 0 | AW103: =IF(B102=informatieblad!$A$6,informatieblad!$B$6,IF(B102=informatieblad!$A$7,informatieblad!$B$7,IF(B102=informatieblad!$A$8,informatieblad!$B$8,IF(B102=informatieblad!$A$2,informatieblad!$B$2,IF(B102=informatieblad!$A$3,informatieblad!$B$3,IF(B102=informatieblad!$A$4,informatieblad!$B$4,IF(B102=informatieblad!$A$5,informatieblad!$B$5,""))))))) | AX103: =IF(C102=informatieblad!$A$6,informatieblad!$B$6,IF(C102=informatieblad!$A$7,informatieblad!$B$7,IF(C102=informatieblad!$A$8,informatieblad!$B$8,IF(C102=informatieblad!$A$2,informatieblad!$B$2,IF(C102=informatieblad!$A$3,informatieblad!$B$3,IF(C102=informatieblad!$A$4,informatieblad!$B$4,IF(C102=informatieblad!$A$5,informatieblad!$B$5,""))))))) | AY103: =IF(AW103=AY101,(4*C103),0) -> 0 | AZ103: =IF(AX103=AY101,(4*C103),0) -> 0 | BA103: =IF(AW103=BA101,(4*C103),0) -> 0 | BB103: =IF(AX103=BA101,(4*C103),0) -> 0
I105: None | M105: Nr. | N105: m2/pcs | O105: rounded m2/pcs | P105: m2/pcs | Q105: rounded m2/pcs | R105: Purchase price total | S105: Sales price total | T105: Options Duct | W105: price /m2 | X105: price /m2 | Z105: biggest size | AA105: plate thickness | AB105: price /m2 | AC105: price /m2 | AD105: price /m2 | AE105: price /m2 | AF105: kg/m11 | AG105: kg/pcs | AI105: =informatieblad!$A$6 -> FL20 | AK105: =informatieblad!$A$7 -> FL30 | AM105: =informatieblad!$A$8 -> FL40 | AO105: =informatieblad!$A$5 -> none | AR105: Lengte | AU105: width | AW105: bolt & nuts | AY105: =informatieblad!$B$3 -> 0 | AZ105: =informatieblad!$B$3 -> 0 | BA105: =informatieblad!$B$4 -> 0 | BB105: =informatieblad!$B$4 -> 0
B106: =IF($C107>0,IF(MAX(B105:C105)<informatieblad!$Q$4,informatieblad!$P$3,IF(MAX(B105:C105)>informatieblad!$R$4,informatieblad!$P$5,informatieblad!$P$4)),"") | C106: =IF($C107>0,IF(MAX(B105:C105)<informatieblad!$Q$4,informatieblad!$P$3,IF(MAX(B105:C105)>informatieblad!$R$4,informatieblad!$P$5,informatieblad!$P$4)),"") | E106: =A105&"-"&informatieblad!$B$12&"-"&B105&"-"&C105&"-"&D105&"-"&B106&"-"&C106&"-"&F107 -> -RctD------Options None | M106: =A105 -> 0 | N106: Luka | O106: Luka | P106: purchase | Q106: purchase | R106: purchase | T106: m2/pcs | U106: purchase | V106: sales | W106: sales fittings | X106: purchase ducts | Z106: A1-A2-A3-B | AB106: purchase fittings | AC106: sales fittings | AD106: purchase ducts | AE106: sales ducts | AI106: =informatieblad!$A$2 -> FL20 loose | AK106: =informatieblad!$A$3 -> FL30 loose | AM106: =informatieblad!$A$4 -> FL40 loose | AT106: ='UC mounting materials '!$B$10 -> Rail 30x15 | AU106: =IF(Z107<1000,(Z107+100),0)*C107 -> 0 | AW106: type | AX106: type | AY106: aantal | AZ106: aantal | BA106: aantal | BB106: aantal
B107: aantal | D107: =C107*O107 -> 0 | E107: m2 | F107: Options None | N107: =(((2*(B105+C105))*D105)/1000000) -> 0 | O107: =((IF(N107<=informatieblad!$I$12,informatieblad!$I$12,IF(N107>=informatieblad!$I$12,N107)))) -> 0.5 | P107: =(((2*B105)+(2*C105))*D105)/1000000 -> 0 | Q107: =((IF(P107<=informatieblad!$H$12,informatieblad!$H$12,IF(P107>=informatieblad!$H$12,P107)))) -> 0 | R107: =((Q107*X107)+(Q107*U107))*C107 -> 0 | S107: =((O107*W107)+(O107*V107))*C107 -> 0 | T107: =F107 -> Options None | U107: =VLOOKUP(F107,informatieblad!$A$37:$D$41,2,FALSE) -> 0 | V107: =VLOOKUP(F107,informatieblad!$A$37:$D$41,4,FALSE) -> 0 | W107: =((IF(D105<=900,AC107,IF(D105>=900,AE107)))) -> 45.1248 | X107: =((IF(D105<=900,AB107,IF(D105>=900,AD107)))) -> 0 | Z107: =(MAX(B105:C105)) -> 0 | AA107: =LOOKUP(Z107,informatieblad!$C$27:$C$32,informatieblad!$A$27:$A$32) -> 0.5 | AB107: =VLOOKUP(AA107,informatieblad!$A$27:$M$32,6,FALSE) -> 0 | AC107: =VLOOKUP(AA107,informatieblad!$A$27:$M$32,8,FALSE) -> 45.1248 | AD107: =VLOOKUP(AA107,informatieblad!$A$27:$M$32,9,FALSE) -> 0 | AE107: =VLOOKUP(AA107,informatieblad!$A$27:$M$32,11,FALSE) -> 32.4632 | AF107: =VLOOKUP(AA107,informatieblad!$A$27:$M$32,13,FALSE) -> 4 | AG107: =ROUND((AF107*P107),1) -> 0 | AI107: =(IF(B106=AI105,((2*B105)+(2*C105)),IF(B106=AI106,((2*B105)+(2*C105)),0)))*C107 -> 0 | AJ107: =(IF(C106=AI105,((2*B105)+(2*C105)),IF(C106=AI106,((2*B105)+(2*C105)),0)))*C107 -> 0 | AK107: =(IF(B106=AK105,((2*B105)+(2*C105)),IF(B106=AK106,((2*B105)+(2*C105)),0)))*C107 -> 0 | AL107: =(IF(C106=AK105,((2*B105)+(2*C105)),IF(C106=AK106,((2*B105)+(2*C105)),0)))*C107 -> 0 | AM107: =(IF(B106=AM105,((2*B105)+(2*C105)),IF(B106=AM106,((2*B105)+(2*C105)),0)))*C107 -> 0 | AN107: =(IF(C106=AM105,((2*B105)+(2*C105)),IF(C106=AM106,((2*B105)+(2*C105)),0)))*C107 -> 0 | AO107: =(IF(B106=AO105,((2*B105)+(2*C105)),0))*C107 -> 0 | AP107: =(IF(C106=AO105,((2*B105)+(2*C105)),0))*C107 -> 0 | AR107: =D105*C107 -> 0 | AT107: ='UC mounting materials '!$B$11 -> Rail 41x41 | AU107: =IF(Z107>999,(Z107+100),0)*C107 -> 0 | AW107: =IF(B106=informatieblad!$A$6,informatieblad!$B$6,IF(B106=informatieblad!$A$7,informatieblad!$B$7,IF(B106=informatieblad!$A$8,informatieblad!$B$8,IF(B106=informatieblad!$A$2,informatieblad!$B$2,IF(B106=informatieblad!$A$3,informatieblad!$B$3,IF(B106=informatieblad!$A$4,informatieblad!$B$4,IF(B106=informatieblad!$A$5,informatieblad!$B$5,""))))))) | AX107: =IF(C106=informatieblad!$A$6,informatieblad!$B$6,IF(C106=informatieblad!$A$7,informatieblad!$B$7,IF(C106=informatieblad!$A$8,informatieblad!$B$8,IF(C106=informatieblad!$A$2,informatieblad!$B$2,IF(C106=informatieblad!$A$3,informatieblad!$B$3,IF(C106=informatieblad!$A$4,informatieblad!$B$4,IF(C106=informatieblad!$A$5,informatieblad!$B$5,""))))))) | AY107: =IF(AW107=AY105,(4*C107),0) -> 0 | AZ107: =IF(AX107=AY105,(4*C107),0) -> 0 | BA107: =IF(AW107=BA105,(4*C107),0) -> 0 | BB107: =IF(AX107=BA105,(4*C107),0) -> 0
I109: None | M109: Nr. | N109: m2/pcs | O109: rounded m2/pcs | P109: m2/pcs | Q109: rounded m2/pcs | R109: Purchase price total | S109: Sales price total | T109: Options Duct | W109: price /m2 | X109: price /m2 | Z109: biggest size | AA109: plate thickness | AB109: price /m2 | AC109: price /m2 | AD109: price /m2 | AE109: price /m2 | AF109: kg/m12 | AG109: kg/pcs | AI109: =informatieblad!$A$6 -> FL20 | AK109: =informatieblad!$A$7 -> FL30 | AM109: =informatieblad!$A$8 -> FL40 | AO109: =informatieblad!$A$5 -> none | AR109: Lengte | AU109: width | AW109: bolt & nuts | AY109: =informatieblad!$B$3 -> 0 | AZ109: =informatieblad!$B$3 -> 0 | BA109: =informatieblad!$B$4 -> 0 | BB109: =informatieblad!$B$4 -> 0
B110: =IF($C111>0,IF(MAX(B109:C109)<informatieblad!$Q$4,informatieblad!$P$3,IF(MAX(B109:C109)>informatieblad!$R$4,informatieblad!$P$5,informatieblad!$P$4)),"") | C110: =IF($C111>0,IF(MAX(B109:C109)<informatieblad!$Q$4,informatieblad!$P$3,IF(MAX(B109:C109)>informatieblad!$R$4,informatieblad!$P$5,informatieblad!$P$4)),"") | E110: =A109&"-"&informatieblad!$B$12&"-"&B109&"-"&C109&"-"&D109&"-"&B110&"-"&C110&"-"&F111 -> -RctD------Options None | M110: =A109 -> 0 | N110: Luka | O110: Luka | P110: purchase | Q110: purchase | R110: purchase | T110: m2/pcs | U110: purchase | V110: sales | W110: sales fittings | X110: purchase ducts | Z110: A1-A2-A3-B | AB110: purchase fittings | AC110: sales fittings | AD110: purchase ducts | AE110: sales ducts | AI110: =informatieblad!$A$2 -> FL20 loose | AK110: =informatieblad!$A$3 -> FL30 loose | AM110: =informatieblad!$A$4 -> FL40 loose | AT110: ='UC mounting materials '!$B$10 -> Rail 30x15 | AU110: =IF(Z111<1000,(Z111+100),0)*C111 -> 0 | AW110: type | AX110: type | AY110: aantal | AZ110: aantal | BA110: aantal | BB110: aantal
B111: aantal | D111: =C111*O111 -> 0 | E111: m2 | F111: Options None | N111: =(((2*(B109+C109))*D109)/1000000) -> 0 | O111: =((IF(N111<=informatieblad!$I$12,informatieblad!$I$12,IF(N111>=informatieblad!$I$12,N111)))) -> 0.5 | P111: =(((2*B109)+(2*C109))*D109)/1000000 -> 0 | Q111: =((IF(P111<=informatieblad!$H$12,informatieblad!$H$12,IF(P111>=informatieblad!$H$12,P111)))) -> 0 | R111: =((Q111*X111)+(Q111*U111))*C111 -> 0 | S111: =((O111*W111)+(O111*V111))*C111 -> 0 | T111: =F111 -> Options None | U111: =VLOOKUP(F111,informatieblad!$A$37:$D$41,2,FALSE) -> 0 | V111: =VLOOKUP(F111,informatieblad!$A$37:$D$41,4,FALSE) -> 0 | W111: =((IF(D109<=900,AC111,IF(D109>=900,AE111)))) -> 45.1248 | X111: =((IF(D109<=900,AB111,IF(D109>=900,AD111)))) -> 0 | Z111: =(MAX(B109:C109)) -> 0 | AA111: =LOOKUP(Z111,informatieblad!$C$27:$C$32,informatieblad!$A$27:$A$32) -> 0.5 | AB111: =VLOOKUP(AA111,informatieblad!$A$27:$M$32,6,FALSE) -> 0 | AC111: =VLOOKUP(AA111,informatieblad!$A$27:$M$32,8,FALSE) -> 45.1248 | AD111: =VLOOKUP(AA111,informatieblad!$A$27:$M$32,9,FALSE) -> 0 | AE111: =VLOOKUP(AA111,informatieblad!$A$27:$M$32,11,FALSE) -> 32.4632 | AF111: =VLOOKUP(AA111,informatieblad!$A$27:$M$32,13,FALSE) -> 4 | AG111: =ROUND((AF111*P111),1) -> 0 | AI111: =(IF(B110=AI109,((2*B109)+(2*C109)),IF(B110=AI110,((2*B109)+(2*C109)),0)))*C111 -> 0 | AJ111: =(IF(C110=AI109,((2*B109)+(2*C109)),IF(C110=AI110,((2*B109)+(2*C109)),0)))*C111 -> 0 | AK111: =(IF(B110=AK109,((2*B109)+(2*C109)),IF(B110=AK110,((2*B109)+(2*C109)),0)))*C111 -> 0 | AL111: =(IF(C110=AK109,((2*B109)+(2*C109)),IF(C110=AK110,((2*B109)+(2*C109)),0)))*C111 -> 0 | AM111: =(IF(B110=AM109,((2*B109)+(2*C109)),IF(B110=AM110,((2*B109)+(2*C109)),0)))*C111 -> 0 | AN111: =(IF(C110=AM109,((2*B109)+(2*C109)),IF(C110=AM110,((2*B109)+(2*C109)),0)))*C111 -> 0 | AO111: =(IF(B110=AO109,((2*B109)+(2*C109)),0))*C111 -> 0 | AP111: =(IF(C110=AO109,((2*B109)+(2*C109)),0))*C111 -> 0 | AR111: =D109*C111 -> 0 | AT111: ='UC mounting materials '!$B$11 -> Rail 41x41 | AU111: =IF(Z111>999,(Z111+100),0)*C111 -> 0 | AW111: =IF(B110=informatieblad!$A$6,informatieblad!$B$6,IF(B110=informatieblad!$A$7,informatieblad!$B$7,IF(B110=informatieblad!$A$8,informatieblad!$B$8,IF(B110=informatieblad!$A$2,informatieblad!$B$2,IF(B110=informatieblad!$A$3,informatieblad!$B$3,IF(B110=informatieblad!$A$4,informatieblad!$B$4,IF(B110=informatieblad!$A$5,informatieblad!$B$5,""))))))) | AX111: =IF(C110=informatieblad!$A$6,informatieblad!$B$6,IF(C110=informatieblad!$A$7,informatieblad!$B$7,IF(C110=informatieblad!$A$8,informatieblad!$B$8,IF(C110=informatieblad!$A$2,informatieblad!$B$2,IF(C110=informatieblad!$A$3,informatieblad!$B$3,IF(C110=informatieblad!$A$4,informatieblad!$B$4,IF(C110=informatieblad!$A$5,informatieblad!$B$5,""))))))) | AY111: =IF(AW111=AY109,(4*C111),0) -> 0 | AZ111: =IF(AX111=AY109,(4*C111),0) -> 0 | BA111: =IF(AW111=BA109,(4*C111),0) -> 0 | BB111: =IF(AX111=BA109,(4*C111),0) -> 0
I113: None | M113: Nr. | N113: m2/pcs | O113: rounded m2/pcs | P113: m2/pcs | Q113: rounded m2/pcs | R113: Purchase price total | S113: Sales price total | T113: Options Duct | W113: price /m2 | X113: price /m2 | Z113: biggest size | AA113: plate thickness | AB113: price /m2 | AC113: price /m2 | AD113: price /m2 | AE113: price /m2 | AF113: kg/m13 | AG113: kg/pcs | AI113: =informatieblad!$A$6 -> FL20 | AK113: =informatieblad!$A$7 -> FL30 | AM113: =informatieblad!$A$8 -> FL40 | AO113: =informatieblad!$A$5 -> none | AR113: Lengte | AU113: width | AW113: bolt & nuts | AY113: =informatieblad!$B$3 -> 0 | AZ113: =informatieblad!$B$3 -> 0 | BA113: =informatieblad!$B$4 -> 0 | BB113: =informatieblad!$B$4 -> 0
B114: =IF($C115>0,IF(MAX(B113:C113)<informatieblad!$Q$4,informatieblad!$P$3,IF(MAX(B113:C113)>informatieblad!$R$4,informatieblad!$P$5,informatieblad!$P$4)),"") | C114: =IF($C115>0,IF(MAX(B113:C113)<informatieblad!$Q$4,informatieblad!$P$3,IF(MAX(B113:C113)>informatieblad!$R$4,informatieblad!$P$5,informatieblad!$P$4)),"") | E114: =A113&"-"&informatieblad!$B$12&"-"&B113&"-"&C113&"-"&D113&"-"&B114&"-"&C114&"-"&F115 -> -RctD------Options None | M114: =A113 -> 0 | N114: Luka | O114: Luka | P114: purchase | Q114: purchase | R114: purchase | T114: m2/pcs | U114: purchase | V114: sales | W114: sales fittings | X114: purchase ducts | Z114: A1-A2-A3-B | AB114: purchase fittings | AC114: sales fittings | AD114: purchase ducts | AE114: sales ducts | AI114: =informatieblad!$A$2 -> FL20 loose | AK114: =informatieblad!$A$3 -> FL30 loose | AM114: =informatieblad!$A$4 -> FL40 loose | AT114: ='UC mounting materials '!$B$10 -> Rail 30x15 | AU114: =IF(Z115<1000,(Z115+100),0)*C115 -> 0 | AW114: type | AX114: type | AY114: aantal | AZ114: aantal | BA114: aantal | BB114: aantal
B115: aantal | D115: =C115*O115 -> 0 | E115: m2 | F115: Options None | N115: =(((2*(B113+C113))*D113)/1000000) -> 0 | O115: =((IF(N115<=informatieblad!$I$12,informatieblad!$I$12,IF(N115>=informatieblad!$I$12,N115)))) -> 0.5 | P115: =(((2*B113)+(2*C113))*D113)/1000000 -> 0 | Q115: =((IF(P115<=informatieblad!$H$12,informatieblad!$H$12,IF(P115>=informatieblad!$H$12,P115)))) -> 0 | R115: =((Q115*X115)+(Q115*U115))*C115 -> 0 | S115: =((O115*W115)+(O115*V115))*C115 -> 0 | T115: =F115 -> Options None | U115: =VLOOKUP(F115,informatieblad!$A$37:$D$41,2,FALSE) -> 0 | V115: =VLOOKUP(F115,informatieblad!$A$37:$D$41,4,FALSE) -> 0 | W115: =((IF(D113<=900,AC115,IF(D113>=900,AE115)))) -> 45.1248 | X115: =((IF(D113<=900,AB115,IF(D113>=900,AD115)))) -> 0 | Z115: =(MAX(B113:C113)) -> 0 | AA115: =LOOKUP(Z115,informatieblad!$C$27:$C$32,informatieblad!$A$27:$A$32) -> 0.5 | AB115: =VLOOKUP(AA115,informatieblad!$A$27:$M$32,6,FALSE) -> 0 | AC115: =VLOOKUP(AA115,informatieblad!$A$27:$M$32,8,FALSE) -> 45.1248 | AD115: =VLOOKUP(AA115,informatieblad!$A$27:$M$32,9,FALSE) -> 0 | AE115: =VLOOKUP(AA115,informatieblad!$A$27:$M$32,11,FALSE) -> 32.4632 | AF115: =VLOOKUP(AA115,informatieblad!$A$27:$M$32,13,FALSE) -> 4 | AG115: =ROUND((AF115*P115),1) -> 0 | AI115: =(IF(B114=AI113,((2*B113)+(2*C113)),IF(B114=AI114,((2*B113)+(2*C113)),0)))*C115 -> 0 | AJ115: =(IF(C114=AI113,((2*B113)+(2*C113)),IF(C114=AI114,((2*B113)+(2*C113)),0)))*C115 -> 0 | AK115: =(IF(B114=AK113,((2*B113)+(2*C113)),IF(B114=AK114,((2*B113)+(2*C113)),0)))*C115 -> 0 | AL115: =(IF(C114=AK113,((2*B113)+(2*C113)),IF(C114=AK114,((2*B113)+(2*C113)),0)))*C115 -> 0 | AM115: =(IF(B114=AM113,((2*B113)+(2*C113)),IF(B114=AM114,((2*B113)+(2*C113)),0)))*C115 -> 0 | AN115: =(IF(C114=AM113,((2*B113)+(2*C113)),IF(C114=AM114,((2*B113)+(2*C113)),0)))*C115 -> 0 | AO115: =(IF(B114=AO113,((2*B113)+(2*C113)),0))*C115 -> 0 | AP115: =(IF(C114=AO113,((2*B113)+(2*C113)),0))*C115 -> 0 | AR115: =D113*C115 -> 0 | AT115: ='UC mounting materials '!$B$11 -> Rail 41x41 | AU115: =IF(Z115>999,(Z115+100),0)*C115 -> 0 | AW115: =IF(B114=informatieblad!$A$6,informatieblad!$B$6,IF(B114=informatieblad!$A$7,informatieblad!$B$7,IF(B114=informatieblad!$A$8,informatieblad!$B$8,IF(B114=informatieblad!$A$2,informatieblad!$B$2,IF(B114=informatieblad!$A$3,informatieblad!$B$3,IF(B114=informatieblad!$A$4,informatieblad!$B$4,IF(B114=informatieblad!$A$5,informatieblad!$B$5,""))))))) | AX115: =IF(C114=informatieblad!$A$6,informatieblad!$B$6,IF(C114=informatieblad!$A$7,informatieblad!$B$7,IF(C114=informatieblad!$A$8,informatieblad!$B$8,IF(C114=informatieblad!$A$2,informatieblad!$B$2,IF(C114=informatieblad!$A$3,informatieblad!$B$3,IF(C114=informatieblad!$A$4,informatieblad!$B$4,IF(C114=informatieblad!$A$5,informatieblad!$B$5,""))))))) | AY115: =IF(AW115=AY113,(4*C115),0) -> 0 | AZ115: =IF(AX115=AY113,(4*C115),0) -> 0 | BA115: =IF(AW115=BA113,(4*C115),0) -> 0 | BB115: =IF(AX115=BA113,(4*C115),0) -> 0
I117: None | M117: Nr. | N117: m2/pcs | O117: rounded m2/pcs | P117: m2/pcs | Q117: rounded m2/pcs | R117: Purchase price total | S117: Sales price total | T117: Options Duct | W117: price /m2 | X117: price /m2 | Z117: biggest size | AA117: plate thickness | AB117: price /m2 | AC117: price /m2 | AD117: price /m2 | AE117: price /m2 | AF117: kg/m14 | AG117: kg/pcs | AI117: =informatieblad!$A$6 -> FL20 | AK117: =informatieblad!$A$7 -> FL30 | AM117: =informatieblad!$A$8 -> FL40 | AO117: =informatieblad!$A$5 -> none | AR117: Lengte | AU117: width | AW117: bolt & nuts | AY117: =informatieblad!$B$3 -> 0 | AZ117: =informatieblad!$B$3 -> 0 | BA117: =informatieblad!$B$4 -> 0 | BB117: =informatieblad!$B$4 -> 0
B118: =IF($C119>0,IF(MAX(B117:C117)<informatieblad!$Q$4,informatieblad!$P$3,IF(MAX(B117:C117)>informatieblad!$R$4,informatieblad!$P$5,informatieblad!$P$4)),"") | C118: =IF($C119>0,IF(MAX(B117:C117)<informatieblad!$Q$4,informatieblad!$P$3,IF(MAX(B117:C117)>informatieblad!$R$4,informatieblad!$P$5,informatieblad!$P$4)),"") | E118: =A117&"-"&informatieblad!$B$12&"-"&B117&"-"&C117&"-"&D117&"-"&B118&"-"&C118&"-"&F119 -> -RctD------Options None | M118: =A117 -> 0 | N118: Luka | O118: Luka | P118: purchase | Q118: purchase | R118: purchase | T118: m2/pcs | U118: purchase | V118: sales | W118: sales fittings | X118: purchase ducts | Z118: A1-A2-A3-B | AB118: purchase fittings | AC118: sales fittings | AD118: purchase ducts | AE118: sales ducts | AI118: =informatieblad!$A$2 -> FL20 loose | AK118: =informatieblad!$A$3 -> FL30 loose | AM118: =informatieblad!$A$4 -> FL40 loose | AT118: ='UC mounting materials '!$B$10 -> Rail 30x15 | AU118: =IF(Z119<1000,(Z119+100),0)*C119 -> 0 | AW118: type | AX118: type | AY118: aantal | AZ118: aantal | BA118: aantal | BB118: aantal
B119: aantal | D119: =C119*O119 -> 0 | E119: m2 | F119: Options None | N119: =(((2*(B117+C117))*D117)/1000000) -> 0 | O119: =((IF(N119<=informatieblad!$I$12,informatieblad!$I$12,IF(N119>=informatieblad!$I$12,N119)))) -> 0.5 | P119: =(((2*B117)+(2*C117))*D117)/1000000 -> 0 | Q119: =((IF(P119<=informatieblad!$H$12,informatieblad!$H$12,IF(P119>=informatieblad!$H$12,P119)))) -> 0 | R119: =((Q119*X119)+(Q119*U119))*C119 -> 0 | S119: =((O119*W119)+(O119*V119))*C119 -> 0 | T119: =F119 -> Options None | U119: =VLOOKUP(F119,informatieblad!$A$37:$D$41,2,FALSE) -> 0 | V119: =VLOOKUP(F119,informatieblad!$A$37:$D$41,4,FALSE) -> 0 | W119: =((IF(D117<=900,AC119,IF(D117>=900,AE119)))) -> 45.1248 | X119: =((IF(D117<=900,AB119,IF(D117>=900,AD119)))) -> 0 | Z119: =(MAX(B117:C117)) -> 0 | AA119: =LOOKUP(Z119,informatieblad!$C$27:$C$32,informatieblad!$A$27:$A$32) -> 0.5 | AB119: =VLOOKUP(AA119,informatieblad!$A$27:$M$32,6,FALSE) -> 0 | AC119: =VLOOKUP(AA119,informatieblad!$A$27:$M$32,8,FALSE) -> 45.1248 | AD119: =VLOOKUP(AA119,informatieblad!$A$27:$M$32,9,FALSE) -> 0 | AE119: =VLOOKUP(AA119,informatieblad!$A$27:$M$32,11,FALSE) -> 32.4632 | AF119: =VLOOKUP(AA119,informatieblad!$A$27:$M$32,13,FALSE) -> 4 | AG119: =ROUND((AF119*P119),1) -> 0 | AI119: =(IF(B118=AI117,((2*B117)+(2*C117)),IF(B118=AI118,((2*B117)+(2*C117)),0)))*C119 -> 0 | AJ119: =(IF(C118=AI117,((2*B117)+(2*C117)),IF(C118=AI118,((2*B117)+(2*C117)),0)))*C119 -> 0 | AK119: =(IF(B118=AK117,((2*B117)+(2*C117)),IF(B118=AK118,((2*B117)+(2*C117)),0)))*C119 -> 0 | AL119: =(IF(C118=AK117,((2*B117)+(2*C117)),IF(C118=AK118,((2*B117)+(2*C117)),0)))*C119 -> 0 | AM119: =(IF(B118=AM117,((2*B117)+(2*C117)),IF(B118=AM118,((2*B117)+(2*C117)),0)))*C119 -> 0 | AN119: =(IF(C118=AM117,((2*B117)+(2*C117)),IF(C118=AM118,((2*B117)+(2*C117)),0)))*C119 -> 0 | AO119: =(IF(B118=AO117,((2*B117)+(2*C117)),0))*C119 -> 0 | AP119: =(IF(C118=AO117,((2*B117)+(2*C117)),0))*C119 -> 0 | AR119: =D117*C119 -> 0 | AT119: ='UC mounting materials '!$B$11 -> Rail 41x41 | AU119: =IF(Z119>999,(Z119+100),0)*C119 -> 0 | AW119: =IF(B118=informatieblad!$A$6,informatieblad!$B$6,IF(B118=informatieblad!$A$7,informatieblad!$B$7,IF(B118=informatieblad!$A$8,informatieblad!$B$8,IF(B118=informatieblad!$A$2,informatieblad!$B$2,IF(B118=informatieblad!$A$3,informatieblad!$B$3,IF(B118=informatieblad!$A$4,informatieblad!$B$4,IF(B118=informatieblad!$A$5,informatieblad!$B$5,""))))))) | AX119: =IF(C118=informatieblad!$A$6,informatieblad!$B$6,IF(C118=informatieblad!$A$7,informatieblad!$B$7,IF(C118=informatieblad!$A$8,informatieblad!$B$8,IF(C118=informatieblad!$A$2,informatieblad!$B$2,IF(C118=informatieblad!$A$3,informatieblad!$B$3,IF(C118=informatieblad!$A$4,informatieblad!$B$4,IF(C118=informatieblad!$A$5,informatieblad!$B$5,""))))))) | AY119: =IF(AW119=AY117,(4*C119),0) -> 0 | AZ119: =IF(AX119=AY117,(4*C119),0) -> 0 | BA119: =IF(AW119=BA117,(4*C119),0) -> 0 | BB119: =IF(AX119=BA117,(4*C119),0) -> 0
I121: None | M121: Nr. | N121: m2/pcs | O121: rounded m2/pcs | P121: m2/pcs | Q121: rounded m2/pcs | R121: Purchase price total | S121: Sales price total | T121: Options Duct | W121: price /m2 | X121: price /m2 | Z121: biggest size | AA121: plate thickness | AB121: price /m2 | AC121: price /m2 | AD121: price /m2 | AE121: price /m2 | AF121: kg/m15 | AG121: kg/pcs | AI121: =informatieblad!$A$6 -> FL20 | AK121: =informatieblad!$A$7 -> FL30 | AM121: =informatieblad!$A$8 -> FL40 | AO121: =informatieblad!$A$5 -> none | AR121: Lengte | AU121: width | AW121: bolt & nuts | AY121: =informatieblad!$B$3 -> 0 | AZ121: =informatieblad!$B$3 -> 0 | BA121: =informatieblad!$B$4 -> 0 | BB121: =informatieblad!$B$4 -> 0
B122: =IF($C123>0,IF(MAX(B121:C121)<informatieblad!$Q$4,informatieblad!$P$3,IF(MAX(B121:C121)>informatieblad!$R$4,informatieblad!$P$5,informatieblad!$P$4)),"") | C122: =IF($C123>0,IF(MAX(B121:C121)<informatieblad!$Q$4,informatieblad!$P$3,IF(MAX(B121:C121)>informatieblad!$R$4,informatieblad!$P$5,informatieblad!$P$4)),"") | E122: =A121&"-"&informatieblad!$B$12&"-"&B121&"-"&C121&"-"&D121&"-"&B122&"-"&C122&"-"&F123 -> -RctD------Options None | M122: =A121 -> 0 | N122: Luka | O122: Luka | P122: purchase | Q122: purchase | R122: purchase | T122: m2/pcs | U122: purchase | V122: sales | W122: sales fittings | X122: purchase ducts | Z122: A1-A2-A3-B | AB122: purchase fittings | AC122: sales fittings | AD122: purchase ducts | AE122: sales ducts | AI122: =informatieblad!$A$2 -> FL20 loose | AK122: =informatieblad!$A$3 -> FL30 loose | AM122: =informatieblad!$A$4 -> FL40 loose | AT122: ='UC mounting materials '!$B$10 -> Rail 30x15 | AU122: =IF(Z123<1000,(Z123+100),0)*C123 -> 0 | AW122: type | AX122: type | AY122: aantal | AZ122: aantal | BA122: aantal | BB122: aantal
B123: aantal | D123: =C123*O123 -> 0 | E123: m2 | F123: Options None | N123: =(((2*(B121+C121))*D121)/1000000) -> 0 | O123: =((IF(N123<=informatieblad!$I$12,informatieblad!$I$12,IF(N123>=informatieblad!$I$12,N123)))) -> 0.5 | P123: =(((2*B121)+(2*C121))*D121)/1000000 -> 0 | Q123: =((IF(P123<=informatieblad!$H$12,informatieblad!$H$12,IF(P123>=informatieblad!$H$12,P123)))) -> 0 | R123: =((Q123*X123)+(Q123*U123))*C123 -> 0 | S123: =((O123*W123)+(O123*V123))*C123 -> 0 | T123: =F123 -> Options None | U123: =VLOOKUP(F123,informatieblad!$A$37:$D$41,2,FALSE) -> 0 | V123: =VLOOKUP(F123,informatieblad!$A$37:$D$41,4,FALSE) -> 0 | W123: =((IF(D121<=900,AC123,IF(D121>=900,AE123)))) -> 45.1248 | X123: =((IF(D121<=900,AB123,IF(D121>=900,AD123)))) -> 0 | Z123: =(MAX(B121:C121)) -> 0 | AA123: =LOOKUP(Z123,informatieblad!$C$27:$C$32,informatieblad!$A$27:$A$32) -> 0.5 | AB123: =VLOOKUP(AA123,informatieblad!$A$27:$M$32,6,FALSE) -> 0 | AC123: =VLOOKUP(AA123,informatieblad!$A$27:$M$32,8,FALSE) -> 45.1248 | AD123: =VLOOKUP(AA123,informatieblad!$A$27:$M$32,9,FALSE) -> 0 | AE123: =VLOOKUP(AA123,informatieblad!$A$27:$M$32,11,FALSE) -> 32.4632 | AF123: =VLOOKUP(AA123,informatieblad!$A$27:$M$32,13,FALSE) -> 4 | AG123: =ROUND((AF123*P123),1) -> 0 | AI123: =(IF(B122=AI121,((2*B121)+(2*C121)),IF(B122=AI122,((2*B121)+(2*C121)),0)))*C123 -> 0 | AJ123: =(IF(C122=AI121,((2*B121)+(2*C121)),IF(C122=AI122,((2*B121)+(2*C121)),0)))*C123 -> 0 | AK123: =(IF(B122=AK121,((2*B121)+(2*C121)),IF(B122=AK122,((2*B121)+(2*C121)),0)))*C123 -> 0 | AL123: =(IF(C122=AK121,((2*B121)+(2*C121)),IF(C122=AK122,((2*B121)+(2*C121)),0)))*C123 -> 0 | AM123: =(IF(B122=AM121,((2*B121)+(2*C121)),IF(B122=AM122,((2*B121)+(2*C121)),0)))*C123 -> 0 | AN123: =(IF(C122=AM121,((2*B121)+(2*C121)),IF(C122=AM122,((2*B121)+(2*C121)),0)))*C123 -> 0 | AO123: =(IF(B122=AO121,((2*B121)+(2*C121)),0))*C123 -> 0 | AP123: =(IF(C122=AO121,((2*B121)+(2*C121)),0))*C123 -> 0 | AR123: =D121*C123 -> 0 | AT123: ='UC mounting materials '!$B$11 -> Rail 41x41 | AU123: =IF(Z123>999,(Z123+100),0)*C123 -> 0 | AW123: =IF(B122=informatieblad!$A$6,informatieblad!$B$6,IF(B122=informatieblad!$A$7,informatieblad!$B$7,IF(B122=informatieblad!$A$8,informatieblad!$B$8,IF(B122=informatieblad!$A$2,informatieblad!$B$2,IF(B122=informatieblad!$A$3,informatieblad!$B$3,IF(B122=informatieblad!$A$4,informatieblad!$B$4,IF(B122=informatieblad!$A$5,informatieblad!$B$5,""))))))) | AX123: =IF(C122=informatieblad!$A$6,informatieblad!$B$6,IF(C122=informatieblad!$A$7,informatieblad!$B$7,IF(C122=informatieblad!$A$8,informatieblad!$B$8,IF(C122=informatieblad!$A$2,informatieblad!$B$2,IF(C122=informatieblad!$A$3,informatieblad!$B$3,IF(C122=informatieblad!$A$4,informatieblad!$B$4,IF(C122=informatieblad!$A$5,informatieblad!$B$5,""))))))) | AY123: =IF(AW123=AY121,(4*C123),0) -> 0 | AZ123: =IF(AX123=AY121,(4*C123),0) -> 0 | BA123: =IF(AW123=BA121,(4*C123),0) -> 0 | BB123: =IF(AX123=BA121,(4*C123),0) -> 0
I125: None | M125: Nr. | N125: m2/pcs | O125: rounded m2/pcs | P125: m2/pcs | Q125: rounded m2/pcs | R125: Purchase price total | S125: Sales price total | T125: Options Duct | W125: price /m2 | X125: price /m2 | Z125: biggest size | AA125: plate thickness | AB125: price /m2 | AC125: price /m2 | AD125: price /m2 | AE125: price /m2 | AF125: kg/m16 | AG125: kg/pcs | AI125: =informatieblad!$A$6 -> FL20 | AK125: =informatieblad!$A$7 -> FL30 | AM125: =informatieblad!$A$8 -> FL40 | AO125: =informatieblad!$A$5 -> none | AR125: Lengte | AU125: width | AW125: bolt & nuts | AY125: =informatieblad!$B$3 -> 0 | AZ125: =informatieblad!$B$3 -> 0 | BA125: =informatieblad!$B$4 -> 0 | BB125: =informatieblad!$B$4 -> 0
B126: =IF($C127>0,IF(MAX(B125:C125)<informatieblad!$Q$4,informatieblad!$P$3,IF(MAX(B125:C125)>informatieblad!$R$4,informatieblad!$P$5,informatieblad!$P$4)),"") | C126: =IF($C127>0,IF(MAX(B125:C125)<informatieblad!$Q$4,informatieblad!$P$3,IF(MAX(B125:C125)>informatieblad!$R$4,informatieblad!$P$5,informatieblad!$P$4)),"") | E126: =A125&"-"&informatieblad!$B$12&"-"&B125&"-"&C125&"-"&D125&"-"&B126&"-"&C126&"-"&F127 -> -RctD------Options None | M126: =A125 -> 0 | N126: Luka | O126: Luka | P126: purchase | Q126: purchase | R126: purchase | T126: m2/pcs | U126: purchase | V126: sales | W126: sales fittings | X126: purchase ducts | Z126: A1-A2-A3-B | AB126: purchase fittings | AC126: sales fittings | AD126: purchase ducts | AE126: sales ducts | AI126: =informatieblad!$A$2 -> FL20 loose | AK126: =informatieblad!$A$3 -> FL30 loose | AM126: =informatieblad!$A$4 -> FL40 loose | AT126: ='UC mounting materials '!$B$10 -> Rail 30x15 | AU126: =IF(Z127<1000,(Z127+100),0)*C127 -> 0 | AW126: type | AX126: type | AY126: aantal | AZ126: aantal | BA126: aantal | BB126: aantal
B127: aantal | D127: =C127*O127 -> 0 | E127: m2 | F127: Options None | N127: =(((2*(B125+C125))*D125)/1000000) -> 0 | O127: =((IF(N127<=informatieblad!$I$12,informatieblad!$I$12,IF(N127>=informatieblad!$I$12,N127)))) -> 0.5 | P127: =(((2*B125)+(2*C125))*D125)/1000000 -> 0 | Q127: =((IF(P127<=informatieblad!$H$12,informatieblad!$H$12,IF(P127>=informatieblad!$H$12,P127)))) -> 0 | R127: =((Q127*X127)+(Q127*U127))*C127 -> 0 | S127: =((O127*W127)+(O127*V127))*C127 -> 0 | T127: =F127 -> Options None | U127: =VLOOKUP(F127,informatieblad!$A$37:$D$41,2,FALSE) -> 0 | V127: =VLOOKUP(F127,informatieblad!$A$37:$D$41,4,FALSE) -> 0 | W127: =((IF(D125<=900,AC127,IF(D125>=900,AE127)))) -> 45.1248 | X127: =((IF(D125<=900,AB127,IF(D125>=900,AD127)))) -> 0 | Z127: =(MAX(B125:C125)) -> 0 | AA127: =LOOKUP(Z127,informatieblad!$C$27:$C$32,informatieblad!$A$27:$A$32) -> 0.5 | AB127: =VLOOKUP(AA127,informatieblad!$A$27:$M$32,6,FALSE) -> 0 | AC127: =VLOOKUP(AA127,informatieblad!$A$27:$M$32,8,FALSE) -> 45.1248 | AD127: =VLOOKUP(AA127,informatieblad!$A$27:$M$32,9,FALSE) -> 0 | AE127: =VLOOKUP(AA127,informatieblad!$A$27:$M$32,11,FALSE) -> 32.4632 | AF127: =VLOOKUP(AA127,informatieblad!$A$27:$M$32,13,FALSE) -> 4 | AG127: =ROUND((AF127*P127),1) -> 0 | AI127: =(IF(B126=AI125,((2*B125)+(2*C125)),IF(B126=AI126,((2*B125)+(2*C125)),0)))*C127 -> 0 | AJ127: =(IF(C126=AI125,((2*B125)+(2*C125)),IF(C126=AI126,((2*B125)+(2*C125)),0)))*C127 -> 0 | AK127: =(IF(B126=AK125,((2*B125)+(2*C125)),IF(B126=AK126,((2*B125)+(2*C125)),0)))*C127 -> 0 | AL127: =(IF(C126=AK125,((2*B125)+(2*C125)),IF(C126=AK126,((2*B125)+(2*C125)),0)))*C127 -> 0 | AM127: =(IF(B126=AM125,((2*B125)+(2*C125)),IF(B126=AM126,((2*B125)+(2*C125)),0)))*C127 -> 0 | AN127: =(IF(C126=AM125,((2*B125)+(2*C125)),IF(C126=AM126,((2*B125)+(2*C125)),0)))*C127 -> 0 | AO127: =(IF(B126=AO125,((2*B125)+(2*C125)),0))*C127 -> 0 | AP127: =(IF(C126=AO125,((2*B125)+(2*C125)),0))*C127 -> 0 | AR127: =D125*C127 -> 0 | AT127: ='UC mounting materials '!$B$11 -> Rail 41x41 | AU127: =IF(Z127>999,(Z127+100),0)*C127 -> 0 | AW127: =IF(B126=informatieblad!$A$6,informatieblad!$B$6,IF(B126=informatieblad!$A$7,informatieblad!$B$7,IF(B126=informatieblad!$A$8,informatieblad!$B$8,IF(B126=informatieblad!$A$2,informatieblad!$B$2,IF(B126=informatieblad!$A$3,informatieblad!$B$3,IF(B126=informatieblad!$A$4,informatieblad!$B$4,IF(B126=informatieblad!$A$5,informatieblad!$B$5,""))))))) | AX127: =IF(C126=informatieblad!$A$6,informatieblad!$B$6,IF(C126=informatieblad!$A$7,informatieblad!$B$7,IF(C126=informatieblad!$A$8,informatieblad!$B$8,IF(C126=informatieblad!$A$2,informatieblad!$B$2,IF(C126=informatieblad!$A$3,informatieblad!$B$3,IF(C126=informatieblad!$A$4,informatieblad!$B$4,IF(C126=informatieblad!$A$5,informatieblad!$B$5,""))))))) | AY127: =IF(AW127=AY125,(4*C127),0) -> 0 | AZ127: =IF(AX127=AY125,(4*C127),0) -> 0 | BA127: =IF(AW127=BA125,(4*C127),0) -> 0 | BB127: =IF(AX127=BA125,(4*C127),0) -> 0
I129: None | M129: Nr. | N129: m2/pcs | O129: rounded m2/pcs | P129: m2/pcs | Q129: rounded m2/pcs | R129: Purchase price total | S129: Sales price total | T129: Options Duct | W129: price /m2 | X129: price /m2 | Z129: biggest size | AA129: plate thickness | AB129: price /m2 | AC129: price /m2 | AD129: price /m2 | AE129: price /m2 | AF129: kg/m17 | AG129: kg/pcs | AI129: =informatieblad!$A$6 -> FL20 | AK129: =informatieblad!$A$7 -> FL30 | AM129: =informatieblad!$A$8 -> FL40 | AO129: =informatieblad!$A$5 -> none | AR129: Lengte | AU129: width | AW129: bolt & nuts | AY129: =informatieblad!$B$3 -> 0 | AZ129: =informatieblad!$B$3 -> 0 | BA129: =informatieblad!$B$4 -> 0 | BB129: =informatieblad!$B$4 -> 0
B130: =IF($C131>0,IF(MAX(B129:C129)<informatieblad!$Q$4,informatieblad!$P$3,IF(MAX(B129:C129)>informatieblad!$R$4,informatieblad!$P$5,informatieblad!$P$4)),"") | C130: =IF($C131>0,IF(MAX(B129:C129)<informatieblad!$Q$4,informatieblad!$P$3,IF(MAX(B129:C129)>informatieblad!$R$4,informatieblad!$P$5,informatieblad!$P$4)),"") | E130: =A129&"-"&informatieblad!$B$12&"-"&B129&"-"&C129&"-"&D129&"-"&B130&"-"&C130&"-"&F131 -> -RctD------Options None | M130: =A129 -> 0 | N130: Luka | O130: Luka | P130: purchase | Q130: purchase | R130: purchase | T130: m2/pcs | U130: purchase | V130: sales | W130: sales fittings | X130: purchase ducts | Z130: A1-A2-A3-B | AB130: purchase fittings | AC130: sales fittings | AD130: purchase ducts | AE130: sales ducts | AI130: =informatieblad!$A$2 -> FL20 loose | AK130: =informatieblad!$A$3 -> FL30 loose | AM130: =informatieblad!$A$4 -> FL40 loose | AT130: ='UC mounting materials '!$B$10 -> Rail 30x15 | AU130: =IF(Z131<1000,(Z131+100),0)*C131 -> 0 | AW130: type | AX130: type | AY130: aantal | AZ130: aantal | BA130: aantal | BB130: aantal
B131: aantal | D131: =C131*O131 -> 0 | E131: m2 | F131: Options None | N131: =(((2*(B129+C129))*D129)/1000000) -> 0 | O131: =((IF(N131<=informatieblad!$I$12,informatieblad!$I$12,IF(N131>=informatieblad!$I$12,N131)))) -> 0.5 | P131: =(((2*B129)+(2*C129))*D129)/1000000 -> 0 | Q131: =((IF(P131<=informatieblad!$H$12,informatieblad!$H$12,IF(P131>=informatieblad!$H$12,P131)))) -> 0 | R131: =((Q131*X131)+(Q131*U131))*C131 -> 0 | S131: =((O131*W131)+(O131*V131))*C131 -> 0 | T131: =F131 -> Options None | U131: =VLOOKUP(F131,informatieblad!$A$37:$D$41,2,FALSE) -> 0 | V131: =VLOOKUP(F131,informatieblad!$A$37:$D$41,4,FALSE) -> 0 | W131: =((IF(D129<=900,AC131,IF(D129>=900,AE131)))) -> 45.1248 | X131: =((IF(D129<=900,AB131,IF(D129>=900,AD131)))) -> 0 | Z131: =(MAX(B129:C129)) -> 0 | AA131: =LOOKUP(Z131,informatieblad!$C$27:$C$32,informatieblad!$A$27:$A$32) -> 0.5 | AB131: =VLOOKUP(AA131,informatieblad!$A$27:$M$32,6,FALSE) -> 0 | AC131: =VLOOKUP(AA131,informatieblad!$A$27:$M$32,8,FALSE) -> 45.1248 | AD131: =VLOOKUP(AA131,informatieblad!$A$27:$M$32,9,FALSE) -> 0 | AE131: =VLOOKUP(AA131,informatieblad!$A$27:$M$32,11,FALSE) -> 32.4632 | AF131: =VLOOKUP(AA131,informatieblad!$A$27:$M$32,13,FALSE) -> 4 | AG131: =ROUND((AF131*P131),1) -> 0 | AI131: =(IF(B130=AI129,((2*B129)+(2*C129)),IF(B130=AI130,((2*B129)+(2*C129)),0)))*C131 -> 0 | AJ131: =(IF(C130=AI129,((2*B129)+(2*C129)),IF(C130=AI130,((2*B129)+(2*C129)),0)))*C131 -> 0 | AK131: =(IF(B130=AK129,((2*B129)+(2*C129)),IF(B130=AK130,((2*B129)+(2*C129)),0)))*C131 -> 0 | AL131: =(IF(C130=AK129,((2*B129)+(2*C129)),IF(C130=AK130,((2*B129)+(2*C129)),0)))*C131 -> 0 | AM131: =(IF(B130=AM129,((2*B129)+(2*C129)),IF(B130=AM130,((2*B129)+(2*C129)),0)))*C131 -> 0 | AN131: =(IF(C130=AM129,((2*B129)+(2*C129)),IF(C130=AM130,((2*B129)+(2*C129)),0)))*C131 -> 0 | AO131: =(IF(B130=AO129,((2*B129)+(2*C129)),0))*C131 -> 0 | AP131: =(IF(C130=AO129,((2*B129)+(2*C129)),0))*C131 -> 0 | AR131: =D129*C131 -> 0 | AT131: ='UC mounting materials '!$B$11 -> Rail 41x41 | AU131: =IF(Z131>999,(Z131+100),0)*C131 -> 0 | AW131: =IF(B130=informatieblad!$A$6,informatieblad!$B$6,IF(B130=informatieblad!$A$7,informatieblad!$B$7,IF(B130=informatieblad!$A$8,informatieblad!$B$8,IF(B130=informatieblad!$A$2,informatieblad!$B$2,IF(B130=informatieblad!$A$3,informatieblad!$B$3,IF(B130=informatieblad!$A$4,informatieblad!$B$4,IF(B130=informatieblad!$A$5,informatieblad!$B$5,""))))))) | AX131: =IF(C130=informatieblad!$A$6,informatieblad!$B$6,IF(C130=informatieblad!$A$7,informatieblad!$B$7,IF(C130=informatieblad!$A$8,informatieblad!$B$8,IF(C130=informatieblad!$A$2,informatieblad!$B$2,IF(C130=informatieblad!$A$3,informatieblad!$B$3,IF(C130=informatieblad!$A$4,informatieblad!$B$4,IF(C130=informatieblad!$A$5,informatieblad!$B$5,""))))))) | AY131: =IF(AW131=AY129,(4*C131),0) -> 0 | AZ131: =IF(AX131=AY129,(4*C131),0) -> 0 | BA131: =IF(AW131=BA129,(4*C131),0) -> 0 | BB131: =IF(AX131=BA129,(4*C131),0) -> 0
I133: None | M133: Nr. | N133: m2/pcs | O133: rounded m2/pcs | P133: m2/pcs | Q133: rounded m2/pcs | R133: Purchase price total | S133: Sales price total | T133: Options Duct | W133: price /m2 | X133: price /m2 | Z133: biggest size | AA133: plate thickness | AB133: price /m2 | AC133: price /m2 | AD133: price /m2 | AE133: price /m2 | AF133: kg/m18 | AG133: kg/pcs | AI133: =informatieblad!$A$6 -> FL20 | AK133: =informatieblad!$A$7 -> FL30 | AM133: =informatieblad!$A$8 -> FL40 | AO133: =informatieblad!$A$5 -> none | AR133: Lengte | AU133: width | AW133: bolt & nuts | AY133: =informatieblad!$B$3 -> 0 | AZ133: =informatieblad!$B$3 -> 0 | BA133: =informatieblad!$B$4 -> 0 | BB133: =informatieblad!$B$4 -> 0
B134: =IF($C135>0,IF(MAX(B133:C133)<informatieblad!$Q$4,informatieblad!$P$3,IF(MAX(B133:C133)>informatieblad!$R$4,informatieblad!$P$5,informatieblad!$P$4)),"") | C134: =IF($C135>0,IF(MAX(B133:C133)<informatieblad!$Q$4,informatieblad!$P$3,IF(MAX(B133:C133)>informatieblad!$R$4,informatieblad!$P$5,informatieblad!$P$4)),"") | E134: =A133&"-"&informatieblad!$B$12&"-"&B133&"-"&C133&"-"&D133&"-"&B134&"-"&C134&"-"&F135 -> -RctD------Options None | M134: =A133 -> 0 | N134: Luka | O134: Luka | P134: purchase | Q134: purchase | R134: purchase | T134: m2/pcs | U134: purchase | V134: sales | W134: sales fittings | X134: purchase ducts | Z134: A1-A2-A3-B | AB134: purchase fittings | AC134: sales fittings | AD134: purchase ducts | AE134: sales ducts | AI134: =informatieblad!$A$2 -> FL20 loose | AK134: =informatieblad!$A$3 -> FL30 loose | AM134: =informatieblad!$A$4 -> FL40 loose | AT134: ='UC mounting materials '!$B$10 -> Rail 30x15 | AU134: =IF(Z135<1000,(Z135+100),0)*C135 -> 0 | AW134: type | AX134: type | AY134: aantal | AZ134: aantal | BA134: aantal | BB134: aantal
B135: aantal | D135: =C135*O135 -> 0 | E135: m2 | F135: Options None | N135: =(((2*(B133+C133))*D133)/1000000) -> 0 | O135: =((IF(N135<=informatieblad!$I$12,informatieblad!$I$12,IF(N135>=informatieblad!$I$12,N135)))) -> 0.5 | P135: =(((2*B133)+(2*C133))*D133)/1000000 -> 0 | Q135: =((IF(P135<=informatieblad!$H$12,informatieblad!$H$12,IF(P135>=informatieblad!$H$12,P135)))) -> 0 | R135: =((Q135*X135)+(Q135*U135))*C135 -> 0 | S135: =((O135*W135)+(O135*V135))*C135 -> 0 | T135: =F135 -> Options None | U135: =VLOOKUP(F135,informatieblad!$A$37:$D$41,2,FALSE) -> 0 | V135: =VLOOKUP(F135,informatieblad!$A$37:$D$41,4,FALSE) -> 0 | W135: =((IF(D133<=900,AC135,IF(D133>=900,AE135)))) -> 45.1248 | X135: =((IF(D133<=900,AB135,IF(D133>=900,AD135)))) -> 0 | Z135: =(MAX(B133:C133)) -> 0 | AA135: =LOOKUP(Z135,informatieblad!$C$27:$C$32,informatieblad!$A$27:$A$32) -> 0.5 | AB135: =VLOOKUP(AA135,informatieblad!$A$27:$M$32,6,FALSE) -> 0 | AC135: =VLOOKUP(AA135,informatieblad!$A$27:$M$32,8,FALSE) -> 45.1248 | AD135: =VLOOKUP(AA135,informatieblad!$A$27:$M$32,9,FALSE) -> 0 | AE135: =VLOOKUP(AA135,informatieblad!$A$27:$M$32,11,FALSE) -> 32.4632 | AF135: =VLOOKUP(AA135,informatieblad!$A$27:$M$32,13,FALSE) -> 4 | AG135: =ROUND((AF135*P135),1) -> 0 | AI135: =(IF(B134=AI133,((2*B133)+(2*C133)),IF(B134=AI134,((2*B133)+(2*C133)),0)))*C135 -> 0 | AJ135: =(IF(C134=AI133,((2*B133)+(2*C133)),IF(C134=AI134,((2*B133)+(2*C133)),0)))*C135 -> 0 | AK135: =(IF(B134=AK133,((2*B133)+(2*C133)),IF(B134=AK134,((2*B133)+(2*C133)),0)))*C135 -> 0 | AL135: =(IF(C134=AK133,((2*B133)+(2*C133)),IF(C134=AK134,((2*B133)+(2*C133)),0)))*C135 -> 0 | AM135: =(IF(B134=AM133,((2*B133)+(2*C133)),IF(B134=AM134,((2*B133)+(2*C133)),0)))*C135 -> 0 | AN135: =(IF(C134=AM133,((2*B133)+(2*C133)),IF(C134=AM134,((2*B133)+(2*C133)),0)))*C135 -> 0 | AO135: =(IF(B134=AO133,((2*B133)+(2*C133)),0))*C135 -> 0 | AP135: =(IF(C134=AO133,((2*B133)+(2*C133)),0))*C135 -> 0 | AR135: =D133*C135 -> 0 | AT135: ='UC mounting materials '!$B$11 -> Rail 41x41 | AU135: =IF(Z135>999,(Z135+100),0)*C135 -> 0 | AW135: =IF(B134=informatieblad!$A$6,informatieblad!$B$6,IF(B134=informatieblad!$A$7,informatieblad!$B$7,IF(B134=informatieblad!$A$8,informatieblad!$B$8,IF(B134=informatieblad!$A$2,informatieblad!$B$2,IF(B134=informatieblad!$A$3,informatieblad!$B$3,IF(B134=informatieblad!$A$4,informatieblad!$B$4,IF(B134=informatieblad!$A$5,informatieblad!$B$5,""))))))) | AX135: =IF(C134=informatieblad!$A$6,informatieblad!$B$6,IF(C134=informatieblad!$A$7,informatieblad!$B$7,IF(C134=informatieblad!$A$8,informatieblad!$B$8,IF(C134=informatieblad!$A$2,informatieblad!$B$2,IF(C134=informatieblad!$A$3,informatieblad!$B$3,IF(C134=informatieblad!$A$4,informatieblad!$B$4,IF(C134=informatieblad!$A$5,informatieblad!$B$5,""))))))) | AY135: =IF(AW135=AY133,(4*C135),0) -> 0 | AZ135: =IF(AX135=AY133,(4*C135),0) -> 0 | BA135: =IF(AW135=BA133,(4*C135),0) -> 0 | BB135: =IF(AX135=BA133,(4*C135),0) -> 0
I137: None | M137: Nr. | N137: m2/pcs | O137: rounded m2/pcs | P137: m2/pcs | Q137: rounded m2/pcs | R137: Purchase price total | S137: Sales price total | T137: Options Duct | W137: price /m2 | X137: price /m2 | Z137: biggest size | AA137: plate thickness | AB137: price /m2 | AC137: price /m2 | AD137: price /m2 | AE137: price /m2 | AF137: kg/m19 | AG137: kg/pcs | AI137: =informatieblad!$A$6 -> FL20 | AK137: =informatieblad!$A$7 -> FL30 | AM137: =informatieblad!$A$8 -> FL40 | AO137: =informatieblad!$A$5 -> none | AR137: Lengte | AU137: width | AW137: bolt & nuts | AY137: =informatieblad!$B$3 -> 0 | AZ137: =informatieblad!$B$3 -> 0 | BA137: =informatieblad!$B$4 -> 0 | BB137: =informatieblad!$B$4 -> 0
B138: =IF($C139>0,IF(MAX(B137:C137)<informatieblad!$Q$4,informatieblad!$P$3,IF(MAX(B137:C137)>informatieblad!$R$4,informatieblad!$P$5,informatieblad!$P$4)),"") | C138: =IF($C139>0,IF(MAX(B137:C137)<informatieblad!$Q$4,informatieblad!$P$3,IF(MAX(B137:C137)>informatieblad!$R$4,informatieblad!$P$5,informatieblad!$P$4)),"") | E138: =A137&"-"&informatieblad!$B$12&"-"&B137&"-"&C137&"-"&D137&"-"&B138&"-"&C138&"-"&F139 -> -RctD------Options None | M138: =A137 -> 0 | N138: Luka | O138: Luka | P138: purchase | Q138: purchase | R138: purchase | T138: m2/pcs | U138: purchase | V138: sales | W138: sales fittings | X138: purchase ducts | Z138: A1-A2-A3-B | AB138: purchase fittings | AC138: sales fittings | AD138: purchase ducts | AE138: sales ducts | AI138: =informatieblad!$A$2 -> FL20 loose | AK138: =informatieblad!$A$3 -> FL30 loose | AM138: =informatieblad!$A$4 -> FL40 loose | AT138: ='UC mounting materials '!$B$10 -> Rail 30x15 | AU138: =IF(Z139<1000,(Z139+100),0)*C139 -> 0 | AW138: type | AX138: type | AY138: aantal | AZ138: aantal | BA138: aantal | BB138: aantal
B139: aantal | D139: =C139*O139 -> 0 | E139: m2 | F139: Options None | N139: =(((2*(B137+C137))*D137)/1000000) -> 0 | O139: =((IF(N139<=informatieblad!$I$12,informatieblad!$I$12,IF(N139>=informatieblad!$I$12,N139)))) -> 0.5 | P139: =(((2*B137)+(2*C137))*D137)/1000000 -> 0 | Q139: =((IF(P139<=informatieblad!$H$12,informatieblad!$H$12,IF(P139>=informatieblad!$H$12,P139)))) -> 0 | R139: =((Q139*X139)+(Q139*U139))*C139 -> 0 | S139: =((O139*W139)+(O139*V139))*C139 -> 0 | T139: =F139 -> Options None | U139: =VLOOKUP(F139,informatieblad!$A$37:$D$41,2,FALSE) -> 0 | V139: =VLOOKUP(F139,informatieblad!$A$37:$D$41,4,FALSE) -> 0 | W139: =((IF(D137<=900,AC139,IF(D137>=900,AE139)))) -> 45.1248 | X139: =((IF(D137<=900,AB139,IF(D137>=900,AD139)))) -> 0 | Z139: =(MAX(B137:C137)) -> 0 | AA139: =LOOKUP(Z139,informatieblad!$C$27:$C$32,informatieblad!$A$27:$A$32) -> 0.5 | AB139: =VLOOKUP(AA139,informatieblad!$A$27:$M$32,6,FALSE) -> 0 | AC139: =VLOOKUP(AA139,informatieblad!$A$27:$M$32,8,FALSE) -> 45.1248 | AD139: =VLOOKUP(AA139,informatieblad!$A$27:$M$32,9,FALSE) -> 0 | AE139: =VLOOKUP(AA139,informatieblad!$A$27:$M$32,11,FALSE) -> 32.4632 | AF139: =VLOOKUP(AA139,informatieblad!$A$27:$M$32,13,FALSE) -> 4 | AG139: =ROUND((AF139*P139),1) -> 0 | AI139: =(IF(B138=AI137,((2*B137)+(2*C137)),IF(B138=AI138,((2*B137)+(2*C137)),0)))*C139 -> 0 | AJ139: =(IF(C138=AI137,((2*B137)+(2*C137)),IF(C138=AI138,((2*B137)+(2*C137)),0)))*C139 -> 0 | AK139: =(IF(B138=AK137,((2*B137)+(2*C137)),IF(B138=AK138,((2*B137)+(2*C137)),0)))*C139 -> 0 | AL139: =(IF(C138=AK137,((2*B137)+(2*C137)),IF(C138=AK138,((2*B137)+(2*C137)),0)))*C139 -> 0 | AM139: =(IF(B138=AM137,((2*B137)+(2*C137)),IF(B138=AM138,((2*B137)+(2*C137)),0)))*C139 -> 0 | AN139: =(IF(C138=AM137,((2*B137)+(2*C137)),IF(C138=AM138,((2*B137)+(2*C137)),0)))*C139 -> 0 | AO139: =(IF(B138=AO137,((2*B137)+(2*C137)),0))*C139 -> 0 | AP139: =(IF(C138=AO137,((2*B137)+(2*C137)),0))*C139 -> 0 | AR139: =D137*C139 -> 0 | AT139: ='UC mounting materials '!$B$11 -> Rail 41x41 | AU139: =IF(Z139>999,(Z139+100),0)*C139 -> 0 | AW139: =IF(B138=informatieblad!$A$6,informatieblad!$B$6,IF(B138=informatieblad!$A$7,informatieblad!$B$7,IF(B138=informatieblad!$A$8,informatieblad!$B$8,IF(B138=informatieblad!$A$2,informatieblad!$B$2,IF(B138=informatieblad!$A$3,informatieblad!$B$3,IF(B138=informatieblad!$A$4,informatieblad!$B$4,IF(B138=informatieblad!$A$5,informatieblad!$B$5,""))))))) | AX139: =IF(C138=informatieblad!$A$6,informatieblad!$B$6,IF(C138=informatieblad!$A$7,informatieblad!$B$7,IF(C138=informatieblad!$A$8,informatieblad!$B$8,IF(C138=informatieblad!$A$2,informatieblad!$B$2,IF(C138=informatieblad!$A$3,informatieblad!$B$3,IF(C138=informatieblad!$A$4,informatieblad!$B$4,IF(C138=informatieblad!$A$5,informatieblad!$B$5,""))))))) | AY139: =IF(AW139=AY137,(4*C139),0) -> 0 | AZ139: =IF(AX139=AY137,(4*C139),0) -> 0 | BA139: =IF(AW139=BA137,(4*C139),0) -> 0 | BB139: =IF(AX139=BA137,(4*C139),0) -> 0
...

Sheet Verloopstukken
O1: =informatieblad!F12&" "&informatieblad!D13 -> Total aantal of Verloopstukken (RctR) | T1: =C22+C26+C30+C34+C38+C42+C46+C50+C54+C58+C62+C66+C70+C74+C78+C82+C86+C90+C94+C98+C102+C106+C110+C114+C118+C122+C126+C130+C134+C136 -> 0
O2: =informatieblad!F13 -> Total purchase price | T2: =T22+T26+T30+T34+T38+T42+T46+T50+T54+T58+T62+T66+T70+T74+T78+T82+T86+T90+T94+T98+T102+T106+T110+T114+T118+T122+T126+T130+T134+T138 -> 0
O3: =informatieblad!F14 -> Total sales price | T3: =U22+U26+U30+U34+U38+U42+U46+U50+U54+U58+U62+U66+U70+U74+U78+U82+U86+U90+U94+U98+U102+U106+U110+U114+U118+U122+U126+U130+U134+U138 -> 0
J4: =informatieblad!D13 -> Verloopstukken (RctR)
A15: Nr. | B15: A1 | C15: B1 | D15: A2 | E15: B2 | F15: C | G15: D | H15: E | I15: F | J15: Lengte | K15: Opmerkingen
A16: VB. | B16: 1000 | C16: 500 | D16: 600 | E16: 350 | F16: 200 | G16: 200 | H16: 75 | I16: 75 | J16: 406 | K16: None
B17: FL30 | D17: FL20 | F17: VB.-RctR-1000-500-600-350-200-200-75-75-406-FL30-FL20 | H17: minimale Lengte | J17: 406
B18: aantal | C18: 1 | E18: 1.2 | F18: m2 | G18: Options None
F20: =(B20-D20)/2 -> 0 | G20: =(B20-D20)-F20 -> 0 | H20: =(C20-E20)/2 -> 0 | I20: =(C20-E20)-H20 -> 0 | K20: None | O20: Nr. | P20: m2/pcs | Q20: rounded m2/pcs | R20: m2/pcs | S20: rounded m2/pcs | T20: Purchase price total | U20: Sales price total | V20: Options Duct | Y20: biggest size | Z20: biggest size | AA20: biggest size | AB20: biggest size hypotenusa | AC20: Hypotenusa A1-A2 | AD20: Hypotenusa B1-B2 | AE20: plate thickness | AF20: price /m2 | AG20: price /m2 | AH20: kg/m2 | AI20: kg/pcs | AK20: =informatieblad!$A$6 -> FL20 | AM20: =informatieblad!$A$7 -> FL30 | AO20: =informatieblad!$A$8 -> FL40 | AQ20: =informatieblad!$A$5 -> none | AT20: Lengte | AW20: width | AY20: bolt & nuts | BA20: =informatieblad!$B$3 -> 0 | BB20: =informatieblad!$B$3 -> 0 | BC20: =informatieblad!$B$4 -> 0 | BD20: =informatieblad!$B$4 -> 0
B21: =IF($C22>0,IF(MAX(B20:C20)<informatieblad!$Q$4,informatieblad!$P$3,IF(MAX(B20:C20)>informatieblad!$R$4,informatieblad!$P$5,informatieblad!$P$4)),"") | D21: =IF($C22>0,IF(MAX(D20:E20)<informatieblad!$Q$4,informatieblad!$P$3,IF(MAX(D20:E20)>informatieblad!$R$4,informatieblad!$P$5,informatieblad!$P$4)),"") | F21: =A20&"-"&informatieblad!$B$13&"-"&B20&"-"&C20&"-"&D20&"-"&E20&"-"&F20&"-"&G20&"-"&H20&"-"&I20&"-"&J20&"-"&B21&"-"&G22 -> -RctR-----0-0-0-0---Options None | H21: minimale Lengte | J21: =(IF($C22>0,(IF(240>(MAX(C20-E20,E20-C20,B20-D20,D20-B20))/2*1.732,240,(MAX(C20-E20,E20-C20,B20-D20,D20-B20))/2*1.732)+30+30),"")) | O21: =A20 -> 0 | P21: Luka | Q21: Luka | R21: purchase | S21: purchase | T21: purchase | V21: m2/pcs | W21: purchase | X21: sales | Y21: A1-A2 | Z21: B1-B2 | AC21: A1-A2 | AD21: B1-B2 | AF21: purchase | AG21: sales | AK21: =informatieblad!$A$2 -> FL20 loose | AM21: =informatieblad!$A$3 -> FL30 loose | AO21: =informatieblad!$A$4 -> FL40 loose | AV21: ='UC mounting materials '!$B$10 -> Rail 30x15 | AW21: =IF(AA22<1000,(AA22+100),0)*C22 -> 0 | AY21: type | AZ21: type | BA21: aantal | BB21: aantal | BC21: aantal | BD21: aantal
B22: aantal | E22: =C22*Q22 -> 0 | F22: m2 | G22: Options None | P22: =(((2*(Y22+Z22))*(J20))/1000000) -> 0 | Q22: =((IF(P22<=informatieblad!$I$13,informatieblad!$I$13,IF(P22>=informatieblad!$I$13,P22)))) -> 0.5 | R22: =ROUND((((2*(Y22+Z22))*AB22)/1000000),2) -> 0 | S22: =((IF(R22<=informatieblad!$H$13,informatieblad!$H$13,IF(R22>=informatieblad!$H$13,R22)))) -> 0 | T22: =((S22*AF22)+(S22*W22))*C22 -> 0 | U22: =((Q22*AG22)+(Q22*X22))*C22 -> 0 | V22: =G22 -> Options None | W22: =VLOOKUP(G22,informatieblad!$A$37:$D$41,2,FALSE) -> 0 | X22: =VLOOKUP(G22,informatieblad!$A$37:$D$41,4,FALSE) -> 0 | Y22: =(MAX(B20,D20)) -> 0 | Z22: =(MAX(C20,E20)) -> 0 | AA22: =(MAX(B20:E20)) -> 0 | AB22: =(MAX(AD22,AC22)) -> 0 | AC22: =ROUND((SQRT((((MAX(F20,G20))^2)+(J20^2)))),0) -> 0 | AD22: =ROUND((SQRT((((MAX(H20,I20))^2)+(J20^2)))),0) -> 0 | AE22: =LOOKUP(AA22,informatieblad!$C$27:$C$32,informatieblad!$A$27:$A$32) -> 0.5 | AF22: =VLOOKUP(AE22,informatieblad!$A$27:$M$32,6,FALSE) -> 0 | AG22: =VLOOKUP(AE22,informatieblad!$A$27:$M$32,8,FALSE) -> 45.1248 | AH22: =VLOOKUP(AE22,informatieblad!$A$27:$M$32,13,FALSE) -> 4 | AI22: =ROUND((AH22*S22),1) -> 0 | AK22: =(IF(B21=AK20,((2*B20)+(2*C20)),IF(B21=AK21,((2*B20)+(2*C20)),0)))*C22 -> 0 | AL22: =(IF(D21=AK20,((2*D20)+(2*E20)),IF(D21=AK21,((2*D20)+(2*E20)),0)))*C22 -> 0 | AM22: =(IF(D21=AM20,((2*B20)+(2*C20)),IF(D21=AM21,((2*B20)+(2*C20)),0)))*C22 -> 0 | AN22: =(IF(D21=AM20,((2*D20)+(2*E20)),IF(D21=AM21,((2*D20)+(2*E20)),0)))*C22 -> 0 | AO22: =(IF(B21=AO20,((2*B20)+(2*C20)),IF(B21=AO21,((2*B20)+(2*C20)),0)))*C22 -> 0 | AP22: =(IF(D21=AO20,((2*D20)+(2*E20)),IF(D21=AO21,((2*D20)+(2*E20)),0)))*C22 -> 0 | AQ22: =(IF(B21=AQ20,((2*B20)+(2*C20)),0))*C22 -> 0 | AR22: =(IF(D21=AQ20,((2*D20)+(2*E20)),0))*C22 -> 0 | AT22: =J20*C22 -> 0 | AV22: ='UC mounting materials '!$B$11 -> Rail 41x41 | AW22: =IF(AA22>999,(AA22+100),0)*C22 -> 0 | AY22: =IF(B21=informatieblad!$A$6,informatieblad!$B$6,IF(B21=informatieblad!$A$7,informatieblad!$B$7,IF(B21=informatieblad!$A$8,informatieblad!$B$8,IF(B21=informatieblad!$A$2,informatieblad!$B$2,IF(B21=informatieblad!$A$3,informatieblad!$B$3,IF(B21=informatieblad!$A$4,informatieblad!$B$4,IF(B21=informatieblad!$A$5,informatieblad!$B$5,""))))))) | AZ22: =IF(D21=informatieblad!$A$6,informatieblad!$B$6,IF(D21=informatieblad!$A$7,informatieblad!$B$7,IF(D21=informatieblad!$A$8,informatieblad!$B$8,IF(D21=informatieblad!$A$2,informatieblad!$B$2,IF(D21=informatieblad!$A$3,informatieblad!$B$3,IF(D21=informatieblad!$A$4,informatieblad!$B$4,IF(D21=informatieblad!$A$5,informatieblad!$B$5,""))))))) | BA22: =IF(AY22=BA20,(4*C22),0) -> 0 | BB22: =IF(AZ22=BA20,(4*C22),0) -> 0 | BC22: =IF(AY22=BC20,(4*C22),0) -> 0 | BD22: =IF(AZ22=BC20,(4*C22),0) -> 0
F24: =(B24-D24)/2 -> 0 | G24: =(B24-D24)-F24 -> 0 | H24: =(C24-E24)/2 -> 0 | I24: =(C24-E24)-H24 -> 0 | K24: None | O24: Nr. | P24: m2/pcs | Q24: rounded m2/pcs | R24: m2/pcs | S24: rounded m2/pcs | T24: Purchase price total | U24: Sales price total | V24: Options Duct | Y24: biggest size | Z24: biggest size | AA24: biggest size | AB24: biggest size hypotenusa | AC24: Hypotenusa A1-A2 | AD24: Hypotenusa B1-B2 | AE24: plate thickness | AF24: price /m2 | AG24: price /m2 | AH24: kg/m2 | AI24: kg/pcs | AK24: =informatieblad!$A$6 -> FL20 | AM24: =informatieblad!$A$7 -> FL30 | AO24: =informatieblad!$A$8 -> FL40 | AQ24: =informatieblad!$A$5 -> none | AT24: Lengte | AW24: width | AY24: bolt & nuts | BA24: =informatieblad!$B$3 -> 0 | BB24: =informatieblad!$B$3 -> 0 | BC24: =informatieblad!$B$4 -> 0 | BD24: =informatieblad!$B$4 -> 0
B25: =IF($C26>0,IF(MAX(B24:C24)<informatieblad!$Q$4,informatieblad!$P$3,IF(MAX(B24:C24)>informatieblad!$R$4,informatieblad!$P$5,informatieblad!$P$4)),"") | D25: =IF($C26>0,IF(MAX(D24:E24)<informatieblad!$Q$4,informatieblad!$P$3,IF(MAX(D24:E24)>informatieblad!$R$4,informatieblad!$P$5,informatieblad!$P$4)),"") | F25: =A24&"-"&informatieblad!$B$13&"-"&B24&"-"&C24&"-"&D24&"-"&E24&"-"&F24&"-"&G24&"-"&H24&"-"&I24&"-"&J24&"-"&B25&"-"&G26 -> -RctR-----0-0-0-0---Options None | H25: minimale Lengte | J25: =(IF($C26>0,(IF(240>(MAX(C24-E24,E24-C24,B24-D24,D24-B24))/2*1.732,240,(MAX(C24-E24,E24-C24,B24-D24,D24-B24))/2*1.732)+30+30),"")) | O25: =A24 -> 0 | P25: Luka | Q25: Luka | R25: purchase | S25: purchase | T25: purchase | V25: m2/pcs | W25: purchase | X25: sales | Y25: A1-A2 | Z25: B1-B2 | AC25: A1-A2 | AD25: B1-B2 | AF25: purchase | AG25: sales | AK25: =informatieblad!$A$2 -> FL20 loose | AM25: =informatieblad!$A$3 -> FL30 loose | AO25: =informatieblad!$A$4 -> FL40 loose | AV25: ='UC mounting materials '!$B$10 -> Rail 30x15 | AW25: =IF(AA26<1000,(AA26+100),0)*C26 -> 0 | AY25: type | AZ25: type | BA25: aantal | BB25: aantal | BC25: aantal | BD25: aantal
B26: aantal | E26: =C26*Q26 -> 0 | F26: m2 | G26: Options None | P26: =(((2*(Y26+Z26))*(J24))/1000000) -> 0 | Q26: =((IF(P26<=informatieblad!$I$13,informatieblad!$I$13,IF(P26>=informatieblad!$I$13,P26)))) -> 0.5 | R26: =ROUND((((2*(Y26+Z26))*AB26)/1000000),2) -> 0 | S26: =((IF(R26<=informatieblad!$H$13,informatieblad!$H$13,IF(R26>=informatieblad!$H$13,R26)))) -> 0 | T26: =((S26*AF26)+(S26*W26))*C26 -> 0 | U26: =((Q26*AG26)+(Q26*X26))*C26 -> 0 | V26: =G26 -> Options None | W26: =VLOOKUP(G26,informatieblad!$A$37:$D$41,2,FALSE) -> 0 | X26: =VLOOKUP(G26,informatieblad!$A$37:$D$41,4,FALSE) -> 0 | Y26: =(MAX(B24,D24)) -> 0 | Z26: =(MAX(C24,E24)) -> 0 | AA26: =(MAX(B24:E24)) -> 0 | AB26: =(MAX(AD26,AC26)) -> 0 | AC26: =ROUND((SQRT((((MAX(F24,G24))^2)+(J24^2)))),0) -> 0 | AD26: =ROUND((SQRT((((MAX(H24,I24))^2)+(J24^2)))),0) -> 0 | AE26: =LOOKUP(AA26,informatieblad!$C$27:$C$32,informatieblad!$A$27:$A$32) -> 0.5 | AF26: =VLOOKUP(AE26,informatieblad!$A$27:$M$32,6,FALSE) -> 0 | AG26: =VLOOKUP(AE26,informatieblad!$A$27:$M$32,8,FALSE) -> 45.1248 | AH26: =VLOOKUP(AE26,informatieblad!$A$27:$M$32,13,FALSE) -> 4 | AI26: =ROUND((AH26*S26),1) -> 0 | AK26: =(IF(B25=AK24,((2*B24)+(2*C24)),IF(B25=AK25,((2*B24)+(2*C24)),0)))*C26 -> 0 | AL26: =(IF(D25=AK24,((2*D24)+(2*E24)),IF(D25=AK25,((2*D24)+(2*E24)),0)))*C26 -> 0 | AM26: =(IF(D25=AM24,((2*B24)+(2*C24)),IF(D25=AM25,((2*B24)+(2*C24)),0)))*C26 -> 0 | AN26: =(IF(D25=AM24,((2*D24)+(2*E24)),IF(D25=AM25,((2*D24)+(2*E24)),0)))*C26 -> 0 | AO26: =(IF(B25=AO24,((2*B24)+(2*C24)),IF(B25=AO25,((2*B24)+(2*C24)),0)))*C26 -> 0 | AP26: =(IF(D25=AO24,((2*D24)+(2*E24)),IF(D25=AO25,((2*D24)+(2*E24)),0)))*C26 -> 0 | AQ26: =(IF(B25=AQ24,((2*B24)+(2*C24)),0))*C26 -> 0 | AR26: =(IF(D25=AQ24,((2*D24)+(2*E24)),0))*C26 -> 0 | AT26: =J24*C26 -> 0 | AV26: ='UC mounting materials '!$B$11 -> Rail 41x41 | AW26: =IF(AA26>999,(AA26+100),0)*C26 -> 0 | AY26: =IF(B25=informatieblad!$A$6,informatieblad!$B$6,IF(B25=informatieblad!$A$7,informatieblad!$B$7,IF(B25=informatieblad!$A$8,informatieblad!$B$8,IF(B25=informatieblad!$A$2,informatieblad!$B$2,IF(B25=informatieblad!$A$3,informatieblad!$B$3,IF(B25=informatieblad!$A$4,informatieblad!$B$4,IF(B25=informatieblad!$A$5,informatieblad!$B$5,""))))))) | AZ26: =IF(D25=informatieblad!$A$6,informatieblad!$B$6,IF(D25=informatieblad!$A$7,informatieblad!$B$7,IF(D25=informatieblad!$A$8,informatieblad!$B$8,IF(D25=informatieblad!$A$2,informatieblad!$B$2,IF(D25=informatieblad!$A$3,informatieblad!$B$3,IF(D25=informatieblad!$A$4,informatieblad!$B$4,IF(D25=informatieblad!$A$5,informatieblad!$B$5,""))))))) | BA26: =IF(AY26=BA24,(4*C26),0) -> 0 | BB26: =IF(AZ26=BA24,(4*C26),0) -> 0 | BC26: =IF(AY26=BC24,(4*C26),0) -> 0 | BD26: =IF(AZ26=BC24,(4*C26),0) -> 0
F28: =(B28-D28)/2 -> 0 | G28: =(B28-D28)-F28 -> 0 | H28: =(C28-E28)/2 -> 0 | I28: =(C28-E28)-H28 -> 0 | K28: None | O28: Nr. | P28: m2/pcs | Q28: rounded m2/pcs | R28: m2/pcs | S28: rounded m2/pcs | T28: Purchase price total | U28: Sales price total | V28: Options Duct | Y28: biggest size | Z28: biggest size | AA28: biggest size | AB28: biggest size hypotenusa | AC28: Hypotenusa A1-A2 | AD28: Hypotenusa B1-B2 | AE28: plate thickness | AF28: price /m2 | AG28: price /m2 | AH28: kg/m2 | AI28: kg/pcs | AK28: =informatieblad!$A$6 -> FL20 | AM28: =informatieblad!$A$7 -> FL30 | AO28: =informatieblad!$A$8 -> FL40 | AQ28: =informatieblad!$A$5 -> none | AT28: Lengte | AW28: width | AY28: bolt & nuts | BA28: =informatieblad!$B$3 -> 0 | BB28: =informatieblad!$B$3 -> 0 | BC28: =informatieblad!$B$4 -> 0 | BD28: =informatieblad!$B$4 -> 0
B29: =IF($C30>0,IF(MAX(B28:C28)<informatieblad!$Q$4,informatieblad!$P$3,IF(MAX(B28:C28)>informatieblad!$R$4,informatieblad!$P$5,informatieblad!$P$4)),"") | D29: =IF($C30>0,IF(MAX(D28:E28)<informatieblad!$Q$4,informatieblad!$P$3,IF(MAX(D28:E28)>informatieblad!$R$4,informatieblad!$P$5,informatieblad!$P$4)),"") | F29: =A28&"-"&informatieblad!$B$13&"-"&B28&"-"&C28&"-"&D28&"-"&E28&"-"&F28&"-"&G28&"-"&H28&"-"&I28&"-"&J28&"-"&B29&"-"&G30 -> -RctR-----0-0-0-0---Options None | H29: minimale Lengte | J29: =(IF($C30>0,(IF(240>(MAX(C28-E28,E28-C28,B28-D28,D28-B28))/2*1.732,240,(MAX(C28-E28,E28-C28,B28-D28,D28-B28))/2*1.732)+30+30),"")) | O29: =A28 -> 0 | P29: Luka | Q29: Luka | R29: purchase | S29: purchase | T29: purchase | V29: m2/pcs | W29: purchase | X29: sales | Y29: A1-A2 | Z29: B1-B2 | AC29: A1-A2 | AD29: B1-B2 | AF29: purchase | AG29: sales | AK29: =informatieblad!$A$2 -> FL20 loose | AM29: =informatieblad!$A$3 -> FL30 loose | AO29: =informatieblad!$A$4 -> FL40 loose | AV29: ='UC mounting materials '!$B$10 -> Rail 30x15 | AW29: =IF(AA30<1000,(AA30+100),0)*C30 -> 0 | AY29: type | AZ29: type | BA29: aantal | BB29: aantal | BC29: aantal | BD29: aantal
B30: aantal | E30: =C30*Q30 -> 0 | F30: m2 | G30: Options None | P30: =(((2*(Y30+Z30))*(J28))/1000000) -> 0 | Q30: =((IF(P30<=informatieblad!$I$13,informatieblad!$I$13,IF(P30>=informatieblad!$I$13,P30)))) -> 0.5 | R30: =ROUND((((2*(Y30+Z30))*AB30)/1000000),2) -> 0 | S30: =((IF(R30<=informatieblad!$H$13,informatieblad!$H$13,IF(R30>=informatieblad!$H$13,R30)))) -> 0 | T30: =((S30*AF30)+(S30*W30))*C30 -> 0 | U30: =((Q30*AG30)+(Q30*X30))*C30 -> 0 | V30: =G30 -> Options None | W30: =VLOOKUP(G30,informatieblad!$A$37:$D$41,2,FALSE) -> 0 | X30: =VLOOKUP(G30,informatieblad!$A$37:$D$41,4,FALSE) -> 0 | Y30: =(MAX(B28,D28)) -> 0 | Z30: =(MAX(C28,E28)) -> 0 | AA30: =(MAX(B28:E28)) -> 0 | AB30: =(MAX(AD30,AC30)) -> 0 | AC30: =ROUND((SQRT((((MAX(F28,G28))^2)+(J28^2)))),0) -> 0 | AD30: =ROUND((SQRT((((MAX(H28,I28))^2)+(J28^2)))),0) -> 0 | AE30: =LOOKUP(AA30,informatieblad!$C$27:$C$32,informatieblad!$A$27:$A$32) -> 0.5 | AF30: =VLOOKUP(AE30,informatieblad!$A$27:$M$32,6,FALSE) -> 0 | AG30: =VLOOKUP(AE30,informatieblad!$A$27:$M$32,8,FALSE) -> 45.1248 | AH30: =VLOOKUP(AE30,informatieblad!$A$27:$M$32,13,FALSE) -> 4 | AI30: =ROUND((AH30*S30),1) -> 0 | AK30: =(IF(B29=AK28,((2*B28)+(2*C28)),IF(B29=AK29,((2*B28)+(2*C28)),0)))*C30 -> 0 | AL30: =(IF(D29=AK28,((2*D28)+(2*E28)),IF(D29=AK29,((2*D28)+(2*E28)),0)))*C30 -> 0 | AM30: =(IF(D29=AM28,((2*B28)+(2*C28)),IF(D29=AM29,((2*B28)+(2*C28)),0)))*C30 -> 0 | AN30: =(IF(D29=AM28,((2*D28)+(2*E28)),IF(D29=AM29,((2*D28)+(2*E28)),0)))*C30 -> 0 | AO30: =(IF(B29=AO28,((2*B28)+(2*C28)),IF(B29=AO29,((2*B28)+(2*C28)),0)))*C30 -> 0 | AP30: =(IF(D29=AO28,((2*D28)+(2*E28)),IF(D29=AO29,((2*D28)+(2*E28)),0)))*C30 -> 0 | AQ30: =(IF(B29=AQ28,((2*B28)+(2*C28)),0))*C30 -> 0 | AR30: =(IF(D29=AQ28,((2*D28)+(2*E28)),0))*C30 -> 0 | AT30: =J28*C30 -> 0 | AV30: ='UC mounting materials '!$B$11 -> Rail 41x41 | AW30: =IF(AA30>999,(AA30+100),0)*C30 -> 0 | AY30: =IF(B29=informatieblad!$A$6,informatieblad!$B$6,IF(B29=informatieblad!$A$7,informatieblad!$B$7,IF(B29=informatieblad!$A$8,informatieblad!$B$8,IF(B29=informatieblad!$A$2,informatieblad!$B$2,IF(B29=informatieblad!$A$3,informatieblad!$B$3,IF(B29=informatieblad!$A$4,informatieblad!$B$4,IF(B29=informatieblad!$A$5,informatieblad!$B$5,""))))))) | AZ30: =IF(D29=informatieblad!$A$6,informatieblad!$B$6,IF(D29=informatieblad!$A$7,informatieblad!$B$7,IF(D29=informatieblad!$A$8,informatieblad!$B$8,IF(D29=informatieblad!$A$2,informatieblad!$B$2,IF(D29=informatieblad!$A$3,informatieblad!$B$3,IF(D29=informatieblad!$A$4,informatieblad!$B$4,IF(D29=informatieblad!$A$5,informatieblad!$B$5,""))))))) | BA30: =IF(AY30=BA28,(4*C30),0) -> 0 | BB30: =IF(AZ30=BA28,(4*C30),0) -> 0 | BC30: =IF(AY30=BC28,(4*C30),0) -> 0 | BD30: =IF(AZ30=BC28,(4*C30),0) -> 0
F32: =(B32-D32)/2 -> 0 | G32: =(B32-D32)-F32 -> 0 | H32: =(C32-E32)/2 -> 0 | I32: =(C32-E32)-H32 -> 0 | K32: None | O32: Nr. | P32: m2/pcs | Q32: rounded m2/pcs | R32: m2/pcs | S32: rounded m2/pcs | T32: Purchase price total | U32: Sales price total | V32: Options Duct | Y32: biggest size | Z32: biggest size | AA32: biggest size | AB32: biggest size hypotenusa | AC32: Hypotenusa A1-A2 | AD32: Hypotenusa B1-B2 | AE32: plate thickness | AF32: price /m2 | AG32: price /m2 | AH32: kg/m2 | AI32: kg/pcs | AK32: =informatieblad!$A$6 -> FL20 | AM32: =informatieblad!$A$7 -> FL30 | AO32: =informatieblad!$A$8 -> FL40 | AQ32: =informatieblad!$A$5 -> none | AT32: Lengte | AW32: width | AY32: bolt & nuts | BA32: =informatieblad!$B$3 -> 0 | BB32: =informatieblad!$B$3 -> 0 | BC32: =informatieblad!$B$4 -> 0 | BD32: =informatieblad!$B$4 -> 0
B33: =IF($C34>0,IF(MAX(B32:C32)<informatieblad!$Q$4,informatieblad!$P$3,IF(MAX(B32:C32)>informatieblad!$R$4,informatieblad!$P$5,informatieblad!$P$4)),"") | D33: =IF($C34>0,IF(MAX(D32:E32)<informatieblad!$Q$4,informatieblad!$P$3,IF(MAX(D32:E32)>informatieblad!$R$4,informatieblad!$P$5,informatieblad!$P$4)),"") | F33: =A32&"-"&informatieblad!$B$13&"-"&B32&"-"&C32&"-"&D32&"-"&E32&"-"&F32&"-"&G32&"-"&H32&"-"&I32&"-"&J32&"-"&B33&"-"&G34 -> -RctR-----0-0-0-0---Options None | H33: minimale Lengte | J33: =(IF($C34>0,(IF(240>(MAX(C32-E32,E32-C32,B32-D32,D32-B32))/2*1.732,240,(MAX(C32-E32,E32-C32,B32-D32,D32-B32))/2*1.732)+30+30),"")) | O33: =A32 -> 0 | P33: Luka | Q33: Luka | R33: purchase | S33: purchase | T33: purchase | V33: m2/pcs | W33: purchase | X33: sales | Y33: A1-A2 | Z33: B1-B2 | AC33: A1-A2 | AD33: B1-B2 | AF33: purchase | AG33: sales | AK33: =informatieblad!$A$2 -> FL20 loose | AM33: =informatieblad!$A$3 -> FL30 loose | AO33: =informatieblad!$A$4 -> FL40 loose | AV33: ='UC mounting materials '!$B$10 -> Rail 30x15 | AW33: =IF(AA34<1000,(AA34+100),0)*C34 -> 0 | AY33: type | AZ33: type | BA33: aantal | BB33: aantal | BC33: aantal | BD33: aantal
B34: aantal | E34: =C34*Q34 -> 0 | F34: m2 | G34: Options None | P34: =(((2*(Y34+Z34))*(J32))/1000000) -> 0 | Q34: =((IF(P34<=informatieblad!$I$13,informatieblad!$I$13,IF(P34>=informatieblad!$I$13,P34)))) -> 0.5 | R34: =ROUND((((2*(Y34+Z34))*AB34)/1000000),2) -> 0 | S34: =((IF(R34<=informatieblad!$H$13,informatieblad!$H$13,IF(R34>=informatieblad!$H$13,R34)))) -> 0 | T34: =((S34*AF34)+(S34*W34))*C34 -> 0 | U34: =((Q34*AG34)+(Q34*X34))*C34 -> 0 | V34: =G34 -> Options None | W34: =VLOOKUP(G34,informatieblad!$A$37:$D$41,2,FALSE) -> 0 | X34: =VLOOKUP(G34,informatieblad!$A$37:$D$41,4,FALSE) -> 0 | Y34: =(MAX(B32,D32)) -> 0 | Z34: =(MAX(C32,E32)) -> 0 | AA34: =(MAX(B32:E32)) -> 0 | AB34: =(MAX(AD34,AC34)) -> 0 | AC34: =ROUND((SQRT((((MAX(F32,G32))^2)+(J32^2)))),0) -> 0 | AD34: =ROUND((SQRT((((MAX(H32,I32))^2)+(J32^2)))),0) -> 0 | AE34: =LOOKUP(AA34,informatieblad!$C$27:$C$32,informatieblad!$A$27:$A$32) -> 0.5 | AF34: =VLOOKUP(AE34,informatieblad!$A$27:$M$32,6,FALSE) -> 0 | AG34: =VLOOKUP(AE34,informatieblad!$A$27:$M$32,8,FALSE) -> 45.1248 | AH34: =VLOOKUP(AE34,informatieblad!$A$27:$M$32,13,FALSE) -> 4 | AI34: =ROUND((AH34*S34),1) -> 0 | AK34: =(IF(B33=AK32,((2*B32)+(2*C32)),IF(B33=AK33,((2*B32)+(2*C32)),0)))*C34 -> 0 | AL34: =(IF(D33=AK32,((2*D32)+(2*E32)),IF(D33=AK33,((2*D32)+(2*E32)),0)))*C34 -> 0 | AM34: =(IF(D33=AM32,((2*B32)+(2*C32)),IF(D33=AM33,((2*B32)+(2*C32)),0)))*C34 -> 0 | AN34: =(IF(D33=AM32,((2*D32)+(2*E32)),IF(D33=AM33,((2*D32)+(2*E32)),0)))*C34 -> 0 | AO34: =(IF(B33=AO32,((2*B32)+(2*C32)),IF(B33=AO33,((2*B32)+(2*C32)),0)))*C34 -> 0 | AP34: =(IF(D33=AO32,((2*D32)+(2*E32)),IF(D33=AO33,((2*D32)+(2*E32)),0)))*C34 -> 0 | AQ34: =(IF(B33=AQ32,((2*B32)+(2*C32)),0))*C34 -> 0 | AR34: =(IF(D33=AQ32,((2*D32)+(2*E32)),0))*C34 -> 0 | AT34: =J32*C34 -> 0 | AV34: ='UC mounting materials '!$B$11 -> Rail 41x41 | AW34: =IF(AA34>999,(AA34+100),0)*C34 -> 0 | AY34: =IF(B33=informatieblad!$A$6,informatieblad!$B$6,IF(B33=informatieblad!$A$7,informatieblad!$B$7,IF(B33=informatieblad!$A$8,informatieblad!$B$8,IF(B33=informatieblad!$A$2,informatieblad!$B$2,IF(B33=informatieblad!$A$3,informatieblad!$B$3,IF(B33=informatieblad!$A$4,informatieblad!$B$4,IF(B33=informatieblad!$A$5,informatieblad!$B$5,""))))))) | AZ34: =IF(D33=informatieblad!$A$6,informatieblad!$B$6,IF(D33=informatieblad!$A$7,informatieblad!$B$7,IF(D33=informatieblad!$A$8,informatieblad!$B$8,IF(D33=informatieblad!$A$2,informatieblad!$B$2,IF(D33=informatieblad!$A$3,informatieblad!$B$3,IF(D33=informatieblad!$A$4,informatieblad!$B$4,IF(D33=informatieblad!$A$5,informatieblad!$B$5,""))))))) | BA34: =IF(AY34=BA32,(4*C34),0) -> 0 | BB34: =IF(AZ34=BA32,(4*C34),0) -> 0 | BC34: =IF(AY34=BC32,(4*C34),0) -> 0 | BD34: =IF(AZ34=BC32,(4*C34),0) -> 0
F36: =(B36-D36)/2 -> 0 | G36: =(B36-D36)-F36 -> 0 | H36: =(C36-E36)/2 -> 0 | I36: =(C36-E36)-H36 -> 0 | K36: None | O36: Nr. | P36: m2/pcs | Q36: rounded m2/pcs | R36: m2/pcs | S36: rounded m2/pcs | T36: Purchase price total | U36: Sales price total | V36: Options Duct | Y36: biggest size | Z36: biggest size | AA36: biggest size | AB36: biggest size hypotenusa | AC36: Hypotenusa A1-A2 | AD36: Hypotenusa B1-B2 | AE36: plate thickness | AF36: price /m2 | AG36: price /m2 | AH36: kg/m2 | AI36: kg/pcs | AK36: =informatieblad!$A$6 -> FL20 | AM36: =informatieblad!$A$7 -> FL30 | AO36: =informatieblad!$A$8 -> FL40 | AQ36: =informatieblad!$A$5 -> none | AT36: Lengte | AW36: width | AY36: bolt & nuts | BA36: =informatieblad!$B$3 -> 0 | BB36: =informatieblad!$B$3 -> 0 | BC36: =informatieblad!$B$4 -> 0 | BD36: =informatieblad!$B$4 -> 0
B37: =IF($C38>0,IF(MAX(B36:C36)<informatieblad!$Q$4,informatieblad!$P$3,IF(MAX(B36:C36)>informatieblad!$R$4,informatieblad!$P$5,informatieblad!$P$4)),"") | D37: =IF($C38>0,IF(MAX(D36:E36)<informatieblad!$Q$4,informatieblad!$P$3,IF(MAX(D36:E36)>informatieblad!$R$4,informatieblad!$P$5,informatieblad!$P$4)),"") | F37: =A36&"-"&informatieblad!$B$13&"-"&B36&"-"&C36&"-"&D36&"-"&E36&"-"&F36&"-"&G36&"-"&H36&"-"&I36&"-"&J36&"-"&B37&"-"&G38 -> -RctR-----0-0-0-0---Options None | H37: minimale Lengte | J37: =(IF($C38>0,(IF(240>(MAX(C36-E36,E36-C36,B36-D36,D36-B36))/2*1.732,240,(MAX(C36-E36,E36-C36,B36-D36,D36-B36))/2*1.732)+30+30),"")) | O37: =A36 -> 0 | P37: Luka | Q37: Luka | R37: purchase | S37: purchase | T37: purchase | V37: m2/pcs | W37: purchase | X37: sales | Y37: A1-A2 | Z37: B1-B2 | AC37: A1-A2 | AD37: B1-B2 | AF37: purchase | AG37: sales | AK37: =informatieblad!$A$2 -> FL20 loose | AM37: =informatieblad!$A$3 -> FL30 loose | AO37: =informatieblad!$A$4 -> FL40 loose | AV37: ='UC mounting materials '!$B$10 -> Rail 30x15 | AW37: =IF(AA38<1000,(AA38+100),0)*C38 -> 0 | AY37: type | AZ37: type | BA37: aantal | BB37: aantal | BC37: aantal | BD37: aantal
B38: aantal | E38: =C38*Q38 -> 0 | F38: m2 | G38: Options None | P38: =(((2*(Y38+Z38))*(J36))/1000000) -> 0 | Q38: =((IF(P38<=informatieblad!$I$13,informatieblad!$I$13,IF(P38>=informatieblad!$I$13,P38)))) -> 0.5 | R38: =ROUND((((2*(Y38+Z38))*AB38)/1000000),2) -> 0 | S38: =((IF(R38<=informatieblad!$H$13,informatieblad!$H$13,IF(R38>=informatieblad!$H$13,R38)))) -> 0 | T38: =((S38*AF38)+(S38*W38))*C38 -> 0 | U38: =((Q38*AG38)+(Q38*X38))*C38 -> 0 | V38: =G38 -> Options None | W38: =VLOOKUP(G38,informatieblad!$A$37:$D$41,2,FALSE) -> 0 | X38: =VLOOKUP(G38,informatieblad!$A$37:$D$41,4,FALSE) -> 0 | Y38: =(MAX(B36,D36)) -> 0 | Z38: =(MAX(C36,E36)) -> 0 | AA38: =(MAX(B36:E36)) -> 0 | AB38: =(MAX(AD38,AC38)) -> 0 | AC38: =ROUND((SQRT((((MAX(F36,G36))^2)+(J36^2)))),0) -> 0 | AD38: =ROUND((SQRT((((MAX(H36,I36))^2)+(J36^2)))),0) -> 0 | AE38: =LOOKUP(AA38,informatieblad!$C$27:$C$32,informatieblad!$A$27:$A$32) -> 0.5 | AF38: =VLOOKUP(AE38,informatieblad!$A$27:$M$32,6,FALSE) -> 0 | AG38: =VLOOKUP(AE38,informatieblad!$A$27:$M$32,8,FALSE) -> 45.1248 | AH38: =VLOOKUP(AE38,informatieblad!$A$27:$M$32,13,FALSE) -> 4 | AI38: =ROUND((AH38*S38),1) -> 0 | AK38: =(IF(B37=AK36,((2*B36)+(2*C36)),IF(B37=AK37,((2*B36)+(2*C36)),0)))*C38 -> 0 | AL38: =(IF(D37=AK36,((2*D36)+(2*E36)),IF(D37=AK37,((2*D36)+(2*E36)),0)))*C38 -> 0 | AM38: =(IF(D37=AM36,((2*B36)+(2*C36)),IF(D37=AM37,((2*B36)+(2*C36)),0)))*C38 -> 0 | AN38: =(IF(D37=AM36,((2*D36)+(2*E36)),IF(D37=AM37,((2*D36)+(2*E36)),0)))*C38 -> 0 | AO38: =(IF(B37=AO36,((2*B36)+(2*C36)),IF(B37=AO37,((2*B36)+(2*C36)),0)))*C38 -> 0 | AP38: =(IF(D37=AO36,((2*D36)+(2*E36)),IF(D37=AO37,((2*D36)+(2*E36)),0)))*C38 -> 0 | AQ38: =(IF(B37=AQ36,((2*B36)+(2*C36)),0))*C38 -> 0 | AR38: =(IF(D37=AQ36,((2*D36)+(2*E36)),0))*C38 -> 0 | AT38: =J36*C38 -> 0 | AV38: ='UC mounting materials '!$B$11 -> Rail 41x41 | AW38: =IF(AA38>999,(AA38+100),0)*C38 -> 0 | AY38: =IF(B37=informatieblad!$A$6,informatieblad!$B$6,IF(B37=informatieblad!$A$7,informatieblad!$B$7,IF(B37=informatieblad!$A$8,informatieblad!$B$8,IF(B37=informatieblad!$A$2,informatieblad!$B$2,IF(B37=informatieblad!$A$3,informatieblad!$B$3,IF(B37=informatieblad!$A$4,informatieblad!$B$4,IF(B37=informatieblad!$A$5,informatieblad!$B$5,""))))))) | AZ38: =IF(D37=informatieblad!$A$6,informatieblad!$B$6,IF(D37=informatieblad!$A$7,informatieblad!$B$7,IF(D37=informatieblad!$A$8,informatieblad!$B$8,IF(D37=informatieblad!$A$2,informatieblad!$B$2,IF(D37=informatieblad!$A$3,informatieblad!$B$3,IF(D37=informatieblad!$A$4,informatieblad!$B$4,IF(D37=informatieblad!$A$5,informatieblad!$B$5,""))))))) | BA38: =IF(AY38=BA36,(4*C38),0) -> 0 | BB38: =IF(AZ38=BA36,(4*C38),0) -> 0 | BC38: =IF(AY38=BC36,(4*C38),0) -> 0 | BD38: =IF(AZ38=BC36,(4*C38),0) -> 0
F40: =(B40-D40)/2 -> 0 | G40: =(B40-D40)-F40 -> 0 | H40: =(C40-E40)/2 -> 0 | I40: =(C40-E40)-H40 -> 0 | K40: None | O40: Nr. | P40: m2/pcs | Q40: rounded m2/pcs | R40: m2/pcs | S40: rounded m2/pcs | T40: Purchase price total | U40: Sales price total | V40: Options Duct | Y40: biggest size | Z40: biggest size | AA40: biggest size | AB40: biggest size hypotenusa | AC40: Hypotenusa A1-A2 | AD40: Hypotenusa B1-B2 | AE40: plate thickness | AF40: price /m2 | AG40: price /m2 | AH40: kg/m2 | AI40: kg/pcs | AK40: =informatieblad!$A$6 -> FL20 | AM40: =informatieblad!$A$7 -> FL30 | AO40: =informatieblad!$A$8 -> FL40 | AQ40: =informatieblad!$A$5 -> none | AT40: Lengte | AW40: width | AY40: bolt & nuts | BA40: =informatieblad!$B$3 -> 0 | BB40: =informatieblad!$B$3 -> 0 | BC40: =informatieblad!$B$4 -> 0 | BD40: =informatieblad!$B$4 -> 0
B41: =IF($C42>0,IF(MAX(B40:C40)<informatieblad!$Q$4,informatieblad!$P$3,IF(MAX(B40:C40)>informatieblad!$R$4,informatieblad!$P$5,informatieblad!$P$4)),"") | D41: =IF($C42>0,IF(MAX(D40:E40)<informatieblad!$Q$4,informatieblad!$P$3,IF(MAX(D40:E40)>informatieblad!$R$4,informatieblad!$P$5,informatieblad!$P$4)),"") | F41: =A40&"-"&informatieblad!$B$13&"-"&B40&"-"&C40&"-"&D40&"-"&E40&"-"&F40&"-"&G40&"-"&H40&"-"&I40&"-"&J40&"-"&B41&"-"&G42 -> -RctR-----0-0-0-0---Options None | H41: minimale Lengte | J41: =(IF($C42>0,(IF(240>(MAX(C40-E40,E40-C40,B40-D40,D40-B40))/2*1.732,240,(MAX(C40-E40,E40-C40,B40-D40,D40-B40))/2*1.732)+30+30),"")) | O41: =A40 -> 0 | P41: Luka | Q41: Luka | R41: purchase | S41: purchase | T41: purchase | V41: m2/pcs | W41: purchase | X41: sales | Y41: A1-A2 | Z41: B1-B2 | AC41: A1-A2 | AD41: B1-B2 | AF41: purchase | AG41: sales | AK41: =informatieblad!$A$2 -> FL20 loose | AM41: =informatieblad!$A$3 -> FL30 loose | AO41: =informatieblad!$A$4 -> FL40 loose | AV41: ='UC mounting materials '!$B$10 -> Rail 30x15 | AW41: =IF(AA42<1000,(AA42+100),0)*C42 -> 0 | AY41: type | AZ41: type | BA41: aantal | BB41: aantal | BC41: aantal | BD41: aantal
B42: aantal | E42: =C42*Q42 -> 0 | F42: m2 | G42: Options None | P42: =(((2*(Y42+Z42))*(J40))/1000000) -> 0 | Q42: =((IF(P42<=informatieblad!$I$13,informatieblad!$I$13,IF(P42>=informatieblad!$I$13,P42)))) -> 0.5 | R42: =ROUND((((2*(Y42+Z42))*AB42)/1000000),2) -> 0 | S42: =((IF(R42<=informatieblad!$H$13,informatieblad!$H$13,IF(R42>=informatieblad!$H$13,R42)))) -> 0 | T42: =((S42*AF42)+(S42*W42))*C42 -> 0 | U42: =((Q42*AG42)+(Q42*X42))*C42 -> 0 | V42: =G42 -> Options None | W42: =VLOOKUP(G42,informatieblad!$A$37:$D$41,2,FALSE) -> 0 | X42: =VLOOKUP(G42,informatieblad!$A$37:$D$41,4,FALSE) -> 0 | Y42: =(MAX(B40,D40)) -> 0 | Z42: =(MAX(C40,E40)) -> 0 | AA42: =(MAX(B40:E40)) -> 0 | AB42: =(MAX(AD42,AC42)) -> 0 | AC42: =ROUND((SQRT((((MAX(F40,G40))^2)+(J40^2)))),0) -> 0 | AD42: =ROUND((SQRT((((MAX(H40,I40))^2)+(J40^2)))),0) -> 0 | AE42: =LOOKUP(AA42,informatieblad!$C$27:$C$32,informatieblad!$A$27:$A$32) -> 0.5 | AF42: =VLOOKUP(AE42,informatieblad!$A$27:$M$32,6,FALSE) -> 0 | AG42: =VLOOKUP(AE42,informatieblad!$A$27:$M$32,8,FALSE) -> 45.1248 | AH42: =VLOOKUP(AE42,informatieblad!$A$27:$M$32,13,FALSE) -> 4 | AI42: =ROUND((AH42*S42),1) -> 0 | AK42: =(IF(B41=AK40,((2*B40)+(2*C40)),IF(B41=AK41,((2*B40)+(2*C40)),0)))*C42 -> 0 | AL42: =(IF(D41=AK40,((2*D40)+(2*E40)),IF(D41=AK41,((2*D40)+(2*E40)),0)))*C42 -> 0 | AM42: =(IF(D41=AM40,((2*B40)+(2*C40)),IF(D41=AM41,((2*B40)+(2*C40)),0)))*C42 -> 0 | AN42: =(IF(D41=AM40,((2*D40)+(2*E40)),IF(D41=AM41,((2*D40)+(2*E40)),0)))*C42 -> 0 | AO42: =(IF(B41=AO40,((2*B40)+(2*C40)),IF(B41=AO41,((2*B40)+(2*C40)),0)))*C42 -> 0 | AP42: =(IF(D41=AO40,((2*D40)+(2*E40)),IF(D41=AO41,((2*D40)+(2*E40)),0)))*C42 -> 0 | AQ42: =(IF(B41=AQ40,((2*B40)+(2*C40)),0))*C42 -> 0 | AR42: =(IF(D41=AQ40,((2*D40)+(2*E40)),0))*C42 -> 0 | AT42: =J40*C42 -> 0 | AV42: ='UC mounting materials '!$B$11 -> Rail 41x41 | AW42: =IF(AA42>999,(AA42+100),0)*C42 -> 0 | AY42: =IF(B41=informatieblad!$A$6,informatieblad!$B$6,IF(B41=informatieblad!$A$7,informatieblad!$B$7,IF(B41=informatieblad!$A$8,informatieblad!$B$8,IF(B41=informatieblad!$A$2,informatieblad!$B$2,IF(B41=informatieblad!$A$3,informatieblad!$B$3,IF(B41=informatieblad!$A$4,informatieblad!$B$4,IF(B41=informatieblad!$A$5,informatieblad!$B$5,""))))))) | AZ42: =IF(D41=informatieblad!$A$6,informatieblad!$B$6,IF(D41=informatieblad!$A$7,informatieblad!$B$7,IF(D41=informatieblad!$A$8,informatieblad!$B$8,IF(D41=informatieblad!$A$2,informatieblad!$B$2,IF(D41=informatieblad!$A$3,informatieblad!$B$3,IF(D41=informatieblad!$A$4,informatieblad!$B$4,IF(D41=informatieblad!$A$5,informatieblad!$B$5,""))))))) | BA42: =IF(AY42=BA40,(4*C42),0) -> 0 | BB42: =IF(AZ42=BA40,(4*C42),0) -> 0 | BC42: =IF(AY42=BC40,(4*C42),0) -> 0 | BD42: =IF(AZ42=BC40,(4*C42),0) -> 0
F44: =(B44-D44)/2 -> 0 | G44: =(B44-D44)-F44 -> 0 | H44: =(C44-E44)/2 -> 0 | I44: =(C44-E44)-H44 -> 0 | K44: None | O44: Nr. | P44: m2/pcs | Q44: rounded m2/pcs | R44: m2/pcs | S44: rounded m2/pcs | T44: Purchase price total | U44: Sales price total | V44: Options Duct | Y44: biggest size | Z44: biggest size | AA44: biggest size | AB44: biggest size hypotenusa | AC44: Hypotenusa A1-A2 | AD44: Hypotenusa B1-B2 | AE44: plate thickness | AF44: price /m2 | AG44: price /m2 | AH44: kg/m2 | AI44: kg/pcs | AK44: =informatieblad!$A$6 -> FL20 | AM44: =informatieblad!$A$7 -> FL30 | AO44: =informatieblad!$A$8 -> FL40 | AQ44: =informatieblad!$A$5 -> none | AT44: Lengte | AW44: width | AY44: bolt & nuts | BA44: =informatieblad!$B$3 -> 0 | BB44: =informatieblad!$B$3 -> 0 | BC44: =informatieblad!$B$4 -> 0 | BD44: =informatieblad!$B$4 -> 0
B45: =IF($C46>0,IF(MAX(B44:C44)<informatieblad!$Q$4,informatieblad!$P$3,IF(MAX(B44:C44)>informatieblad!$R$4,informatieblad!$P$5,informatieblad!$P$4)),"") | D45: =IF($C46>0,IF(MAX(D44:E44)<informatieblad!$Q$4,informatieblad!$P$3,IF(MAX(D44:E44)>informatieblad!$R$4,informatieblad!$P$5,informatieblad!$P$4)),"") | F45: =A44&"-"&informatieblad!$B$13&"-"&B44&"-"&C44&"-"&D44&"-"&E44&"-"&F44&"-"&G44&"-"&H44&"-"&I44&"-"&J44&"-"&B45&"-"&G46 -> -RctR-----0-0-0-0---Options None | H45: minimale Lengte | J45: =(IF($C46>0,(IF(240>(MAX(C44-E44,E44-C44,B44-D44,D44-B44))/2*1.732,240,(MAX(C44-E44,E44-C44,B44-D44,D44-B44))/2*1.732)+30+30),"")) | O45: =A44 -> 0 | P45: Luka | Q45: Luka | R45: purchase | S45: purchase | T45: purchase | V45: m2/pcs | W45: purchase | X45: sales | Y45: A1-A2 | Z45: B1-B2 | AC45: A1-A2 | AD45: B1-B2 | AF45: purchase | AG45: sales | AK45: =informatieblad!$A$2 -> FL20 loose | AM45: =informatieblad!$A$3 -> FL30 loose | AO45: =informatieblad!$A$4 -> FL40 loose | AV45: ='UC mounting materials '!$B$10 -> Rail 30x15 | AW45: =IF(AA46<1000,(AA46+100),0)*C46 -> 0 | AY45: type | AZ45: type | BA45: aantal | BB45: aantal | BC45: aantal | BD45: aantal
B46: aantal | E46: =C46*Q46 -> 0 | F46: m2 | G46: Options None | P46: =(((2*(Y46+Z46))*(J44))/1000000) -> 0 | Q46: =((IF(P46<=informatieblad!$I$13,informatieblad!$I$13,IF(P46>=informatieblad!$I$13,P46)))) -> 0.5 | R46: =ROUND((((2*(Y46+Z46))*AB46)/1000000),2) -> 0 | S46: =((IF(R46<=informatieblad!$H$13,informatieblad!$H$13,IF(R46>=informatieblad!$H$13,R46)))) -> 0 | T46: =((S46*AF46)+(S46*W46))*C46 -> 0 | U46: =((Q46*AG46)+(Q46*X46))*C46 -> 0 | V46: =G46 -> Options None | W46: =VLOOKUP(G46,informatieblad!$A$37:$D$41,2,FALSE) -> 0 | X46: =VLOOKUP(G46,informatieblad!$A$37:$D$41,4,FALSE) -> 0 | Y46: =(MAX(B44,D44)) -> 0 | Z46: =(MAX(C44,E44)) -> 0 | AA46: =(MAX(B44:E44)) -> 0 | AB46: =(MAX(AD46,AC46)) -> 0 | AC46: =ROUND((SQRT((((MAX(F44,G44))^2)+(J44^2)))),0) -> 0 | AD46: =ROUND((SQRT((((MAX(H44,I44))^2)+(J44^2)))),0) -> 0 | AE46: =LOOKUP(AA46,informatieblad!$C$27:$C$32,informatieblad!$A$27:$A$32) -> 0.5 | AF46: =VLOOKUP(AE46,informatieblad!$A$27:$M$32,6,FALSE) -> 0 | AG46: =VLOOKUP(AE46,informatieblad!$A$27:$M$32,8,FALSE) -> 45.1248 | AH46: =VLOOKUP(AE46,informatieblad!$A$27:$M$32,13,FALSE) -> 4 | AI46: =ROUND((AH46*S46),1) -> 0 | AK46: =(IF(B45=AK44,((2*B44)+(2*C44)),IF(B45=AK45,((2*B44)+(2*C44)),0)))*C46 -> 0 | AL46: =(IF(D45=AK44,((2*D44)+(2*E44)),IF(D45=AK45,((2*D44)+(2*E44)),0)))*C46 -> 0 | AM46: =(IF(D45=AM44,((2*B44)+(2*C44)),IF(D45=AM45,((2*B44)+(2*C44)),0)))*C46 -> 0 | AN46: =(IF(D45=AM44,((2*D44)+(2*E44)),IF(D45=AM45,((2*D44)+(2*E44)),0)))*C46 -> 0 | AO46: =(IF(B45=AO44,((2*B44)+(2*C44)),IF(B45=AO45,((2*B44)+(2*C44)),0)))*C46 -> 0 | AP46: =(IF(D45=AO44,((2*D44)+(2*E44)),IF(D45=AO45,((2*D44)+(2*E44)),0)))*C46 -> 0 | AQ46: =(IF(B45=AQ44,((2*B44)+(2*C44)),0))*C46 -> 0 | AR46: =(IF(D45=AQ44,((2*D44)+(2*E44)),0))*C46 -> 0 | AT46: =J44*C46 -> 0 | AV46: ='UC mounting materials '!$B$11 -> Rail 41x41 | AW46: =IF(AA46>999,(AA46+100),0)*C46 -> 0 | AY46: =IF(B45=informatieblad!$A$6,informatieblad!$B$6,IF(B45=informatieblad!$A$7,informatieblad!$B$7,IF(B45=informatieblad!$A$8,informatieblad!$B$8,IF(B45=informatieblad!$A$2,informatieblad!$B$2,IF(B45=informatieblad!$A$3,informatieblad!$B$3,IF(B45=informatieblad!$A$4,informatieblad!$B$4,IF(B45=informatieblad!$A$5,informatieblad!$B$5,""))))))) | AZ46: =IF(D45=informatieblad!$A$6,informatieblad!$B$6,IF(D45=informatieblad!$A$7,informatieblad!$B$7,IF(D45=informatieblad!$A$8,informatieblad!$B$8,IF(D45=informatieblad!$A$2,informatieblad!$B$2,IF(D45=informatieblad!$A$3,informatieblad!$B$3,IF(D45=informatieblad!$A$4,informatieblad!$B$4,IF(D45=informatieblad!$A$5,informatieblad!$B$5,""))))))) | BA46: =IF(AY46=BA44,(4*C46),0) -> 0 | BB46: =IF(AZ46=BA44,(4*C46),0) -> 0 | BC46: =IF(AY46=BC44,(4*C46),0) -> 0 | BD46: =IF(AZ46=BC44,(4*C46),0) -> 0
F48: =(B48-D48)/2 -> 0 | G48: =(B48-D48)-F48 -> 0 | H48: =(C48-E48)/2 -> 0 | I48: =(C48-E48)-H48 -> 0 | K48: None | O48: Nr. | P48: m2/pcs | Q48: rounded m2/pcs | R48: m2/pcs | S48: rounded m2/pcs | T48: Purchase price total | U48: Sales price total | V48: Options Duct | Y48: biggest size | Z48: biggest size | AA48: biggest size | AB48: biggest size hypotenusa | AC48: Hypotenusa A1-A2 | AD48: Hypotenusa B1-B2 | AE48: plate thickness | AF48: price /m2 | AG48: price /m2 | AH48: kg/m2 | AI48: kg/pcs | AK48: =informatieblad!$A$6 -> FL20 | AM48: =informatieblad!$A$7 -> FL30 | AO48: =informatieblad!$A$8 -> FL40 | AQ48: =informatieblad!$A$5 -> none | AT48: Lengte | AW48: width | AY48: bolt & nuts | BA48: =informatieblad!$B$3 -> 0 | BB48: =informatieblad!$B$3 -> 0 | BC48: =informatieblad!$B$4 -> 0 | BD48: =informatieblad!$B$4 -> 0
B49: =IF($C50>0,IF(MAX(B48:C48)<informatieblad!$Q$4,informatieblad!$P$3,IF(MAX(B48:C48)>informatieblad!$R$4,informatieblad!$P$5,informatieblad!$P$4)),"") | D49: =IF($C50>0,IF(MAX(D48:E48)<informatieblad!$Q$4,informatieblad!$P$3,IF(MAX(D48:E48)>informatieblad!$R$4,informatieblad!$P$5,informatieblad!$P$4)),"") | F49: =A48&"-"&informatieblad!$B$13&"-"&B48&"-"&C48&"-"&D48&"-"&E48&"-"&F48&"-"&G48&"-"&H48&"-"&I48&"-"&J48&"-"&B49&"-"&G50 -> -RctR-----0-0-0-0---Options None | H49: minimale Lengte | J49: =(IF($C50>0,(IF(240>(MAX(C48-E48,E48-C48,B48-D48,D48-B48))/2*1.732,240,(MAX(C48-E48,E48-C48,B48-D48,D48-B48))/2*1.732)+30+30),"")) | O49: =A48 -> 0 | P49: Luka | Q49: Luka | R49: purchase | S49: purchase | T49: purchase | V49: m2/pcs | W49: purchase | X49: sales | Y49: A1-A2 | Z49: B1-B2 | AC49: A1-A2 | AD49: B1-B2 | AF49: purchase | AG49: sales | AK49: =informatieblad!$A$2 -> FL20 loose | AM49: =informatieblad!$A$3 -> FL30 loose | AO49: =informatieblad!$A$4 -> FL40 loose | AV49: ='UC mounting materials '!$B$10 -> Rail 30x15 | AW49: =IF(AA50<1000,(AA50+100),0)*C50 -> 0 | AY49: type | AZ49: type | BA49: aantal | BB49: aantal | BC49: aantal | BD49: aantal
B50: aantal | E50: =C50*Q50 -> 0 | F50: m2 | G50: Options None | P50: =(((2*(Y50+Z50))*(J48))/1000000) -> 0 | Q50: =((IF(P50<=informatieblad!$I$13,informatieblad!$I$13,IF(P50>=informatieblad!$I$13,P50)))) -> 0.5 | R50: =ROUND((((2*(Y50+Z50))*AB50)/1000000),2) -> 0 | S50: =((IF(R50<=informatieblad!$H$13,informatieblad!$H$13,IF(R50>=informatieblad!$H$13,R50)))) -> 0 | T50: =((S50*AF50)+(S50*W50))*C50 -> 0 | U50: =((Q50*AG50)+(Q50*X50))*C50 -> 0 | V50: =G50 -> Options None | W50: =VLOOKUP(G50,informatieblad!$A$37:$D$41,2,FALSE) -> 0 | X50: =VLOOKUP(G50,informatieblad!$A$37:$D$41,4,FALSE) -> 0 | Y50: =(MAX(B48,D48)) -> 0 | Z50: =(MAX(C48,E48)) -> 0 | AA50: =(MAX(B48:E48)) -> 0 | AB50: =(MAX(AD50,AC50)) -> 0 | AC50: =ROUND((SQRT((((MAX(F48,G48))^2)+(J48^2)))),0) -> 0 | AD50: =ROUND((SQRT((((MAX(H48,I48))^2)+(J48^2)))),0) -> 0 | AE50: =LOOKUP(AA50,informatieblad!$C$27:$C$32,informatieblad!$A$27:$A$32) -> 0.5 | AF50: =VLOOKUP(AE50,informatieblad!$A$27:$M$32,6,FALSE) -> 0 | AG50: =VLOOKUP(AE50,informatieblad!$A$27:$M$32,8,FALSE) -> 45.1248 | AH50: =VLOOKUP(AE50,informatieblad!$A$27:$M$32,13,FALSE) -> 4 | AI50: =ROUND((AH50*S50),1) -> 0 | AK50: =(IF(B49=AK48,((2*B48)+(2*C48)),IF(B49=AK49,((2*B48)+(2*C48)),0)))*C50 -> 0 | AL50: =(IF(D49=AK48,((2*D48)+(2*E48)),IF(D49=AK49,((2*D48)+(2*E48)),0)))*C50 -> 0 | AM50: =(IF(D49=AM48,((2*B48)+(2*C48)),IF(D49=AM49,((2*B48)+(2*C48)),0)))*C50 -> 0 | AN50: =(IF(D49=AM48,((2*D48)+(2*E48)),IF(D49=AM49,((2*D48)+(2*E48)),0)))*C50 -> 0 | AO50: =(IF(B49=AO48,((2*B48)+(2*C48)),IF(B49=AO49,((2*B48)+(2*C48)),0)))*C50 -> 0 | AP50: =(IF(D49=AO48,((2*D48)+(2*E48)),IF(D49=AO49,((2*D48)+(2*E48)),0)))*C50 -> 0 | AQ50: =(IF(B49=AQ48,((2*B48)+(2*C48)),0))*C50 -> 0 | AR50: =(IF(D49=AQ48,((2*D48)+(2*E48)),0))*C50 -> 0 | AT50: =J48*C50 -> 0 | AV50: ='UC mounting materials '!$B$11 -> Rail 41x41 | AW50: =IF(AA50>999,(AA50+100),0)*C50 -> 0 | AY50: =IF(B49=informatieblad!$A$6,informatieblad!$B$6,IF(B49=informatieblad!$A$7,informatieblad!$B$7,IF(B49=informatieblad!$A$8,informatieblad!$B$8,IF(B49=informatieblad!$A$2,informatieblad!$B$2,IF(B49=informatieblad!$A$3,informatieblad!$B$3,IF(B49=informatieblad!$A$4,informatieblad!$B$4,IF(B49=informatieblad!$A$5,informatieblad!$B$5,""))))))) | AZ50: =IF(D49=informatieblad!$A$6,informatieblad!$B$6,IF(D49=informatieblad!$A$7,informatieblad!$B$7,IF(D49=informatieblad!$A$8,informatieblad!$B$8,IF(D49=informatieblad!$A$2,informatieblad!$B$2,IF(D49=informatieblad!$A$3,informatieblad!$B$3,IF(D49=informatieblad!$A$4,informatieblad!$B$4,IF(D49=informatieblad!$A$5,informatieblad!$B$5,""))))))) | BA50: =IF(AY50=BA48,(4*C50),0) -> 0 | BB50: =IF(AZ50=BA48,(4*C50),0) -> 0 | BC50: =IF(AY50=BC48,(4*C50),0) -> 0 | BD50: =IF(AZ50=BC48,(4*C50),0) -> 0
F52: =(B52-D52)/2 -> 0 | G52: =(B52-D52)-F52 -> 0 | H52: =(C52-E52)/2 -> 0 | I52: =(C52-E52)-H52 -> 0 | K52: None | O52: Nr. | P52: m2/pcs | Q52: rounded m2/pcs | R52: m2/pcs | S52: rounded m2/pcs | T52: Purchase price total | U52: Sales price total | V52: Options Duct | Y52: biggest size | Z52: biggest size | AA52: biggest size | AB52: biggest size hypotenusa | AC52: Hypotenusa A1-A2 | AD52: Hypotenusa B1-B2 | AE52: plate thickness | AF52: price /m2 | AG52: price /m2 | AH52: kg/m2 | AI52: kg/pcs | AK52: =informatieblad!$A$6 -> FL20 | AM52: =informatieblad!$A$7 -> FL30 | AO52: =informatieblad!$A$8 -> FL40 | AQ52: =informatieblad!$A$5 -> none | AT52: Lengte | AW52: width | AY52: bolt & nuts | BA52: =informatieblad!$B$3 -> 0 | BB52: =informatieblad!$B$3 -> 0 | BC52: =informatieblad!$B$4 -> 0 | BD52: =informatieblad!$B$4 -> 0
B53: =IF($C54>0,IF(MAX(B52:C52)<informatieblad!$Q$4,informatieblad!$P$3,IF(MAX(B52:C52)>informatieblad!$R$4,informatieblad!$P$5,informatieblad!$P$4)),"") | D53: =IF($C54>0,IF(MAX(D52:E52)<informatieblad!$Q$4,informatieblad!$P$3,IF(MAX(D52:E52)>informatieblad!$R$4,informatieblad!$P$5,informatieblad!$P$4)),"") | F53: =A52&"-"&informatieblad!$B$13&"-"&B52&"-"&C52&"-"&D52&"-"&E52&"-"&F52&"-"&G52&"-"&H52&"-"&I52&"-"&J52&"-"&B53&"-"&G54 -> -RctR-----0-0-0-0---Options None | H53: minimale Lengte | J53: =(IF($C54>0,(IF(240>(MAX(C52-E52,E52-C52,B52-D52,D52-B52))/2*1.732,240,(MAX(C52-E52,E52-C52,B52-D52,D52-B52))/2*1.732)+30+30),"")) | O53: =A52 -> 0 | P53: Luka | Q53: Luka | R53: purchase | S53: purchase | T53: purchase | V53: m2/pcs | W53: purchase | X53: sales | Y53: A1-A2 | Z53: B1-B2 | AC53: A1-A2 | AD53: B1-B2 | AF53: purchase | AG53: sales | AK53: =informatieblad!$A$2 -> FL20 loose | AM53: =informatieblad!$A$3 -> FL30 loose | AO53: =informatieblad!$A$4 -> FL40 loose | AV53: ='UC mounting materials '!$B$10 -> Rail 30x15 | AW53: =IF(AA54<1000,(AA54+100),0)*C54 -> 0 | AY53: type | AZ53: type | BA53: aantal | BB53: aantal | BC53: aantal | BD53: aantal
B54: aantal | E54: =C54*Q54 -> 0 | F54: m2 | G54: Options None | P54: =(((2*(Y54+Z54))*(J52))/1000000) -> 0 | Q54: =((IF(P54<=informatieblad!$I$13,informatieblad!$I$13,IF(P54>=informatieblad!$I$13,P54)))) -> 0.5 | R54: =ROUND((((2*(Y54+Z54))*AB54)/1000000),2) -> 0 | S54: =((IF(R54<=informatieblad!$H$13,informatieblad!$H$13,IF(R54>=informatieblad!$H$13,R54)))) -> 0 | T54: =((S54*AF54)+(S54*W54))*C54 -> 0 | U54: =((Q54*AG54)+(Q54*X54))*C54 -> 0 | V54: =G54 -> Options None | W54: =VLOOKUP(G54,informatieblad!$A$37:$D$41,2,FALSE) -> 0 | X54: =VLOOKUP(G54,informatieblad!$A$37:$D$41,4,FALSE) -> 0 | Y54: =(MAX(B52,D52)) -> 0 | Z54: =(MAX(C52,E52)) -> 0 | AA54: =(MAX(B52:E52)) -> 0 | AB54: =(MAX(AD54,AC54)) -> 0 | AC54: =ROUND((SQRT((((MAX(F52,G52))^2)+(J52^2)))),0) -> 0 | AD54: =ROUND((SQRT((((MAX(H52,I52))^2)+(J52^2)))),0) -> 0 | AE54: =LOOKUP(AA54,informatieblad!$C$27:$C$32,informatieblad!$A$27:$A$32) -> 0.5 | AF54: =VLOOKUP(AE54,informatieblad!$A$27:$M$32,6,FALSE) -> 0 | AG54: =VLOOKUP(AE54,informatieblad!$A$27:$M$32,8,FALSE) -> 45.1248 | AH54: =VLOOKUP(AE54,informatieblad!$A$27:$M$32,13,FALSE) -> 4 | AI54: =ROUND((AH54*S54),1) -> 0 | AK54: =(IF(B53=AK52,((2*B52)+(2*C52)),IF(B53=AK53,((2*B52)+(2*C52)),0)))*C54 -> 0 | AL54: =(IF(D53=AK52,((2*D52)+(2*E52)),IF(D53=AK53,((2*D52)+(2*E52)),0)))*C54 -> 0 | AM54: =(IF(D53=AM52,((2*B52)+(2*C52)),IF(D53=AM53,((2*B52)+(2*C52)),0)))*C54 -> 0 | AN54: =(IF(D53=AM52,((2*D52)+(2*E52)),IF(D53=AM53,((2*D52)+(2*E52)),0)))*C54 -> 0 | AO54: =(IF(B53=AO52,((2*B52)+(2*C52)),IF(B53=AO53,((2*B52)+(2*C52)),0)))*C54 -> 0 | AP54: =(IF(D53=AO52,((2*D52)+(2*E52)),IF(D53=AO53,((2*D52)+(2*E52)),0)))*C54 -> 0 | AQ54: =(IF(B53=AQ52,((2*B52)+(2*C52)),0))*C54 -> 0 | AR54: =(IF(D53=AQ52,((2*D52)+(2*E52)),0))*C54 -> 0 | AT54: =J52*C54 -> 0 | AV54: ='UC mounting materials '!$B$11 -> Rail 41x41 | AW54: =IF(AA54>999,(AA54+100),0)*C54 -> 0 | AY54: =IF(B53=informatieblad!$A$6,informatieblad!$B$6,IF(B53=informatieblad!$A$7,informatieblad!$B$7,IF(B53=informatieblad!$A$8,informatieblad!$B$8,IF(B53=informatieblad!$A$2,informatieblad!$B$2,IF(B53=informatieblad!$A$3,informatieblad!$B$3,IF(B53=informatieblad!$A$4,informatieblad!$B$4,IF(B53=informatieblad!$A$5,informatieblad!$B$5,""))))))) | AZ54: =IF(D53=informatieblad!$A$6,informatieblad!$B$6,IF(D53=informatieblad!$A$7,informatieblad!$B$7,IF(D53=informatieblad!$A$8,informatieblad!$B$8,IF(D53=informatieblad!$A$2,informatieblad!$B$2,IF(D53=informatieblad!$A$3,informatieblad!$B$3,IF(D53=informatieblad!$A$4,informatieblad!$B$4,IF(D53=informatieblad!$A$5,informatieblad!$B$5,""))))))) | BA54: =IF(AY54=BA52,(4*C54),0) -> 0 | BB54: =IF(AZ54=BA52,(4*C54),0) -> 0 | BC54: =IF(AY54=BC52,(4*C54),0) -> 0 | BD54: =IF(AZ54=BC52,(4*C54),0) -> 0
F56: =(B56-D56)/2 -> 0 | G56: =(B56-D56)-F56 -> 0 | H56: =(C56-E56)/2 -> 0 | I56: =(C56-E56)-H56 -> 0 | K56: None | O56: Nr. | P56: m2/pcs | Q56: rounded m2/pcs | R56: m2/pcs | S56: rounded m2/pcs | T56: Purchase price total | U56: Sales price total | V56: Options Duct | Y56: biggest size | Z56: biggest size | AA56: biggest size | AB56: biggest size hypotenusa | AC56: Hypotenusa A1-A3 | AD56: Hypotenusa B1-B3 | AE56: plate thickness | AF56: price /m2 | AG56: price /m2 | AH56: kg/m3 | AI56: kg/pcs | AK56: =informatieblad!$A$6 -> FL20 | AM56: =informatieblad!$A$7 -> FL30 | AO56: =informatieblad!$A$8 -> FL40 | AQ56: =informatieblad!$A$5 -> none | AT56: Lengte | AW56: width | AY56: bolt & nuts | BA56: =informatieblad!$B$3 -> 0 | BB56: =informatieblad!$B$3 -> 0 | BC56: =informatieblad!$B$4 -> 0 | BD56: =informatieblad!$B$4 -> 0
