Workbook
Name Options_Ducts: informatieblad!$A$37:$A$41
Name Options_flanges: informatieblad!$A$2:$A$8
Name Tstukken: #REF!
Name Tstukken_rond: #REF!

Sheet Total
A1: SO nummer | E1: Version 5.0 (verkoop)
A2: PO nummer
A3: Lever datum
A4: Project
A5: Omschrijving
B7: Artikelcode | C7: aantal kanalen | D7: Luka m2 totaal | E7: Bruto verkoopprijs Totaal
G8: https://www.econox.nl/nl_NL/page/1873/rechthoekige-luchtkanalen/
A9: =informatieblad!D12 -> Rechte Kanalen (RctD)
A10: ='Rechte Kanalen'!I17 -> None | B10: ='Rechte Kanalen'!E22 -> -RctD------Options None | C10: ='Rechte Kanalen'!C23 -> 0 | D10: ='Rechte Kanalen'!O23*'Rechte Kanalen'!C23 -> 0 | E10: ='Rechte Kanalen'!S23 -> 0
A11: ='Rechte Kanalen'!I21 -> None | B11: ='Rechte Kanalen'!E26 -> -RctD------Options None | C11: ='Rechte Kanalen'!C27 -> 0 | D11: ='Rechte Kanalen'!O27*'Rechte Kanalen'!C27 -> 0 | E11: ='Rechte Kanalen'!S27 -> 0
A12: ='Rechte Kanalen'!I25 -> None | B12: ='Rechte Kanalen'!E30 -> -RctD------Options None | C12: ='Rechte Kanalen'!C31 -> 0 | D12: ='Rechte Kanalen'!O31*'Rechte Kanalen'!C31 -> 0 | E12: ='Rechte Kanalen'!S31 -> 0
A13: ='Rechte Kanalen'!I29 -> None | B13: ='Rechte Kanalen'!E34 -> -RctD------Options None | C13: ='Rechte Kanalen'!C35 -> 0 | D13: ='Rechte Kanalen'!O35*'Rechte Kanalen'!C35 -> 0 | E13: ='Rechte Kanalen'!S35 -> 0
A14: ='Rechte Kanalen'!I33 -> None | B14: ='Rechte Kanalen'!E38 -> -RctD------Options None | C14: ='Rechte Kanalen'!C39 -> 0 | D14: ='Rechte Kanalen'!O39*'Rechte Kanalen'!C39 -> 0 | E14: ='Rechte Kanalen'!S39 -> 0
A15: ='Rechte Kanalen'!I25 -> None | B15: ='Rechte Kanalen'!E42 -> -RctD------Options None | C15: ='Rechte Kanalen'!C43 -> 0 | D15: ='Rechte Kanalen'!O43*'Rechte Kanalen'!C43 -> 0 | E15: ='Rechte Kanalen'!S43 -> 0
A16: ='Rechte Kanalen'!I37 -> None | B16: ='Rechte Kanalen'!E46 -> -RctD------Options None | C16: ='Rechte Kanalen'!C47 -> 0 | D16: ='Rechte Kanalen'!O47*'Rechte Kanalen'!C47 -> 0 | E16: ='Rechte Kanalen'!S47 -> 0
A17: ='Rechte Kanalen'!I41 -> None | B17: ='Rechte Kanalen'!E50 -> -RctD------Options None | C17: ='Rechte Kanalen'!C51 -> 0 | D17: ='Rechte Kanalen'!O51*'Rechte Kanalen'!C51 -> 0 | E17: ='Rechte Kanalen'!S51 -> 0
A18: ='Rechte Kanalen'!I45 -> None | B18: ='Rechte Kanalen'!E54 -> -RctD------Options None | C18: ='Rechte Kanalen'!C55 -> 0 | D18: ='Rechte Kanalen'!O55*'Rechte Kanalen'!C55 -> 0 | E18: ='Rechte Kanalen'!S55 -> 0
A19: ='Rechte Kanalen'!I49 -> None | B19: ='Rechte Kanalen'!E58 -> -RctD------Options None | C19: ='Rechte Kanalen'!C59 -> 0 | D19: ='Rechte Kanalen'!O59*'Rechte Kanalen'!C59 -> 0 | E19: ='Rechte Kanalen'!S59 -> 0
A20: ='Rechte Kanalen'!I53 -> None | B20: ='Rechte Kanalen'!E62 -> -RctD------Options None | C20: ='Rechte Kanalen'!C63 -> 0 | D20: ='Rechte Kanalen'!O63*'Rechte Kanalen'!C63 -> 0 | E20: ='Rechte Kanalen'!S63 -> 0
A21: ='Rechte Kanalen'!I57 -> None | B21: ='Rechte Kanalen'!E66 -> -RctD------Options None | C21: ='Rechte Kanalen'!C67 -> 0 | D21: ='Rechte Kanalen'!O67*'Rechte Kanalen'!C67 -> 0 | E21: ='Rechte Kanalen'!S67 -> 0
A22: ='Rechte Kanalen'!I61 -> None | B22: ='Rechte Kanalen'!E70 -> -RctD------Options None | C22: ='Rechte Kanalen'!C71 -> 0 | D22: ='Rechte Kanalen'!O71*'Rechte Kanalen'!C71 -> 0 | E22: ='Rechte Kanalen'!S71 -> 0
A23: ='Rechte Kanalen'!I65 -> None | B23: ='Rechte Kanalen'!E74 -> -RctD------Options None | C23: ='Rechte Kanalen'!C75 -> 0 | D23: ='Rechte Kanalen'!O75*'Rechte Kanalen'!C75 -> 0 | E23: ='Rechte Kanalen'!S75 -> 0
A24: ='Rechte Kanalen'!I69 -> None | B24: ='Rechte Kanalen'!E78 -> -RctD------Options None | C24: ='Rechte Kanalen'!C79 -> 0 | D24: ='Rechte Kanalen'!O79*'Rechte Kanalen'!C79 -> 0 | E24: ='Rechte Kanalen'!S79 -> 0
A25: ='Rechte Kanalen'!I73 -> None | B25: ='Rechte Kanalen'!E82 -> -RctD------Options None | C25: ='Rechte Kanalen'!C83 -> 0 | D25: ='Rechte Kanalen'!O83*'Rechte Kanalen'!C83 -> 0 | E25: ='Rechte Kanalen'!S83 -> 0
A26: ='Rechte Kanalen'!I77 -> None | B26: ='Rechte Kanalen'!E86 -> -RctD------Options None | C26: ='Rechte Kanalen'!C87 -> 0 | D26: ='Rechte Kanalen'!O87*'Rechte Kanalen'!C87 -> 0 | E26: ='Rechte Kanalen'!S87 -> 0
A27: ='Rechte Kanalen'!I81 -> None | B27: ='Rechte Kanalen'!E90 -> -RctD------Options None | C27: ='Rechte Kanalen'!C91 -> 0 | D27: ='Rechte Kanalen'!O91*'Rechte Kanalen'!C91 -> 0 | E27: ='Rechte Kanalen'!S91 -> 0
A28: ='Rechte Kanalen'!I85 -> None | B28: ='Rechte Kanalen'!E94 -> -RctD------Options None | C28: ='Rechte Kanalen'!C95 -> 0 | D28: ='Rechte Kanalen'!O95*'Rechte Kanalen'!C95 -> 0 | E28: ='Rechte Kanalen'!S95 -> 0
A29: ='Rechte Kanalen'!I89 -> None | B29: ='Rechte Kanalen'!E98 -> -RctD------Options None | C29: ='Rechte Kanalen'!C99 -> 0 | D29: ='Rechte Kanalen'!O99*'Rechte Kanalen'!C99 -> 0 | E29: ='Rechte Kanalen'!S99 -> 0
A30: ='Rechte Kanalen'!I93 -> None | B30: ='Rechte Kanalen'!E102 -> -RctD------Options None | C30: ='Rechte Kanalen'!C103 -> 0 | D30: ='Rechte Kanalen'!O103*'Rechte Kanalen'!C103 -> 0 | E30: ='Rechte Kanalen'!S103 -> 0
A31: ='Rechte Kanalen'!I97 -> None | B31: ='Rechte Kanalen'!E106 -> -RctD------Options None | C31: ='Rechte Kanalen'!C107 -> 0 | D31: ='Rechte Kanalen'!O107*'Rechte Kanalen'!C107 -> 0 | E31: ='Rechte Kanalen'!S107 -> 0
A32: ='Rechte Kanalen'!I101 -> None | B32: ='Rechte Kanalen'!E110 -> -RctD------Options None | C32: ='Rechte Kanalen'!C111 -> 0 | D32: ='Rechte Kanalen'!O111*'Rechte Kanalen'!C111 -> 0 | E32: ='Rechte Kanalen'!S111 -> 0
A33: ='Rechte Kanalen'!I105 -> None | B33: ='Rechte Kanalen'!E114 -> -RctD------Options None | C33: ='Rechte Kanalen'!C115 -> 0 | D33: ='Rechte Kanalen'!O115*'Rechte Kanalen'!C115 -> 0 | E33: ='Rechte Kanalen'!S115 -> 0
A34: ='Rechte Kanalen'!I109 -> None | B34: ='Rechte Kanalen'!E118 -> -RctD------Options None | C34: ='Rechte Kanalen'!C119 -> 0 | D34: ='Rechte Kanalen'!O119*'Rechte Kanalen'!C119 -> 0 | E34: ='Rechte Kanalen'!S119 -> 0
A35: ='Rechte Kanalen'!I113 -> None | B35: ='Rechte Kanalen'!E122 -> -RctD------Options None | C35: ='Rechte Kanalen'!C123 -> 0 | D35: ='Rechte Kanalen'!O123*'Rechte Kanalen'!C123 -> 0 | E35: ='Rechte Kanalen'!S123 -> 0
A36: ='Rechte Kanalen'!I117 -> None | B36: ='Rechte Kanalen'!E126 -> -RctD------Options None | C36: ='Rechte Kanalen'!C127 -> 0 | D36: ='Rechte Kanalen'!O127*'Rechte Kanalen'!C127 -> 0 | E36: ='Rechte Kanalen'!S127 -> 0
A37: ='Rechte Kanalen'!I121 -> None | B37: ='Rechte Kanalen'!E130 -> -RctD------Options None | C37: ='Rechte Kanalen'!C131 -> 0 | D37: ='Rechte Kanalen'!O131*'Rechte Kanalen'!C131 -> 0 | E37: ='Rechte Kanalen'!S131 -> 0
A38: ='Rechte Kanalen'!I125 -> None | B38: ='Rechte Kanalen'!E134 -> -RctD------Options None | C38: ='Rechte Kanalen'!C135 -> 0 | D38: ='Rechte Kanalen'!O135*'Rechte Kanalen'!C135 -> 0 | E38: ='Rechte Kanalen'!S135 -> 0
A39: ='Rechte Kanalen'!I129 -> None | B39: ='Rechte Kanalen'!E138 -> -RctD------Options None | C39: ='Rechte Kanalen'!C139 -> 0 | D39: ='Rechte Kanalen'!O139*'Rechte Kanalen'!C139 -> 0 | E39: ='Rechte Kanalen'!S139 -> 0
A40: =informatieblad!D13 -> Verloopstukken (RctR)
A41: =Verloopstukken!K20 -> None | B41: =Verloopstukken!F21 -> -RctR-----0-0-0-0---Options None | C41: =Verloopstukken!C22 -> 0 | D41: =Verloopstukken!Q22*Verloopstukken!C22 -> 0 | E41: =Verloopstukken!U22 -> 0
...

Sheet Rechte Kanalen
M1: =informatieblad!F12&" "&informatieblad!D12 -> Total aantal of Rechte Kanalen (RctD) | R1: =C23+C27+C31+C35+C39+C43+C47+C51+C55+C59+C61+C65+C69+C75+C79+C83+C87+C91+C95+C99+C103+C107+C111+C115+C119+C123+C127+C131+C135+C139 -> 0
M2: =informatieblad!F13 -> Total purchase price | R2: =R23+R27+R31+R35+R39+R43+R47+R51+R55+R59+R63+R67+R71+R75+R79+R83+R87+R91+R95+R99+R103+R107+R111+R115+R119+R123+R127+R131+R135+R139 -> 0
M3: =informatieblad!F14 -> Total sales price | R3: =S23+S27+S35+S39+S43+S47+S51+S55+S59+S63+S67+S71+S75+S79+S83+S87+S91+S95+S99+S103+S107+S111+S115+S119+S123+S127+S131+S135+S139 -> 0
H4: =informatieblad!D12 -> Rechte Kanalen (RctD)
F9: Minimale Lengte 100mm
F10: Maximale Lengte 1500mm
A16: Nr. | B16: A | C16: B | D16: Lengte | I16: Opmerkingen
A17: VB. | B17: 1000 | C17: 250 | D17: 1000 | I17: None
B18: FL30 | C18: FL30 | E18: VB.-RctD-1000-250-1000-FL30-FL30-Options None
B19: aantal | C19: 1 | D19: 2.5 | E19: m2 | F19: Options None
I21: None | N21: m2/pcs | O21: rounded m2/pcs | P21: m2/pcs | Q21: rounded m2/pcs | R21: Purchase price total | S21: Sales price total | T21: Options Duct | W21: price /m2 | X21: price /m2 | Z21: biggest size | AA21: plate thickness | AB21: price /m2 | AC21: price /m2 | AD21: price /m2 | AE21: price /m2 | AF21: kg/m2 | AG21: kg/pcs | AI21: =informatieblad!$A$6 -> FL20 | AK21: =informatieblad!$A$7 -> FL30 | AM21: =informatieblad!$A$8 -> FL40 | AO21: =informatieblad!$A$5 -> none | AR21: Lengte | AU21: width | AW21: bolt & nuts | AY21: =informatieblad!$B$3 -> 0 | AZ21: =informatieblad!$B$3 -> 0 | BA21: =informatieblad!$B$4 -> 0 | BB21: =informatieblad!$B$4 -> 0
B22: =IF($C23>0,IF(MAX(B21:C21)<informatieblad!$Q$4,informatieblad!$P$3,IF(MAX(B21:C21)>informatieblad!$R$4,informatieblad!$P$5,informatieblad!$P$4)),"") | C22: =IF($C23>0,IF(MAX(B21:C21)<informatieblad!$Q$4,informatieblad!$P$3,IF(MAX(B21:C21)>informatieblad!$R$4,informatieblad!$P$5,informatieblad!$P$4)),"") | E22: =A21&"-"&informatieblad!$B$12&"-"&B21&"-"&C21&"-"&D21&"-"&B22&"-"&C22&"-"&F23 -> -RctD------Options None | M22: =A21 -> 0 | N22: Luka | O22: Luka | P22: purchase | Q22: purchase | R22: purchase | T22: m2/pcs | U22: purchase | V22: sales | W22: sales fittings | X22: purchase ducts | Z22: A1-A2-A3-B | AB22: purchase fittings | AC22: sales fittings | AD22: purchase ducts | AE22: sales ducts | AI22: =informatieblad!$A$2 -> FL20 loose | AK22: =informatieblad!$A$3 -> FL30 loose | AM22: =informatieblad!$A$4 -> FL40 loose | AT22: ='UC mounting materials '!$B$10 -> Rail 30x15 | AU22: =IF(Z23<1000,(Z23+100),0)*C23 -> 0 | AW22: type | AX22: type | AY22: aantal | AZ22: aantal | BA22: aantal | BB22: aantal
B23: aantal | D23: =C23*O23 -> 0 | E23: m2 | F23: Options None | N23: =(((2*(B21+C21))*D21)/1000000) -> 0 | O23: =((IF(N23<=informatieblad!$I$12,informatieblad!$I$12,IF(N23>=informatieblad!$I$12,N23)))) -> 0.5 | P23: =(((2*B21)+(2*C21))*D21)/1000000 -> 0 | Q23: =((IF(P23<=informatieblad!$H$12,informatieblad!$H$12,IF(P23>=informatieblad!$H$12,P23)))) -> 0 | R23: =((Q23*X23)+(Q23*U23))*C23 -> 0 | S23: =((O23*W23)+(O23*V23))*C23 -> 0 | T23: =F23 -> Options None | U23: =VLOOKUP(F23,informatieblad!$A$37:$D$41,2,FALSE) -> 0 | V23: =VLOOKUP(F23,informatieblad!$A$37:$D$41,4,FALSE) -> 0 | W23: =((IF(D21<=900,AC23,IF(D21>=900,AE23)))) -> 45.1248 | X23: =((IF(D21<=900,AB23,IF(D21>=900,AD23)))) -> 0 | Z23: =(MAX(B21:C21)) -> 0 | AA23: =LOOKUP(Z23,informatieblad!$C$27:$C$32,informatieblad!$A$27:$A$32) -> 0.5 | AB23: =VLOOKUP(AA23,informatieblad!$A$27:$M$32,6,FALSE) -> 0 | AC23: =VLOOKUP(AA23,informatieblad!$A$27:$M$32,8,FALSE) -> 45.1248 | AD23: =VLOOKUP(AA23,informatieblad!$A$27:$M$32,9,FALSE) -> 0 | AE23: =VLOOKUP(AA23,informatieblad!$A$27:$M$32,11,FALSE) -> 32.4632 | AF23: =VLOOKUP(AA23,informatieblad!$A$27:$M$32,13,FALSE) -> 4 | AG23: =ROUND((AF23*P23),1) -> 0 | AI23: =(IF(B22=AI21,((2*B21)+(2*C21)),IF(B22=AI22,((2*B21)+(2*C21)),0)))*C23 -> 0 | AJ23: =(IF(C22=AI21,((2*B21)+(2*C21)),IF(C22=AI22,((2*B21)+(2*C21)),0)))*C23 -> 0 | AK23: =(IF(B22=AK21,((2*B21)+(2*C21)),IF(B22=AK22,((2*B21)+(2*C21)),0)))*C23 -> 0 | AL23: =(IF(C22=AK21,((2*B21)+(2*C21)),IF(C22=AK22,((2*B21)+(2*C21)),0)))*C23 -> 0 | AM23: =(IF(B22=AM21,((2*B21)+(2*C21)),IF(B22=AM22,((2*B21)+(2*C21)),0)))*C23 -> 0 | AN23: =(IF(C22=AM21,((2*B21)+(2*C21)),IF(C22=AM22,((2*B21)+(2*C21)),0)))*C23 -> 0 | AO23: =(IF(B22=AO21,((2*B21)+(2*C21)),0))*C23 -> 0 | AP23: =(IF(C22=AO21,((2*B21)+(2*C21)),0))*C23 -> 0 | AR23: =D21*C23 -> 0 | AT23: ='UC mounting materials '!$B$11 -> Rail 41x41 | AU23: =IF(Z23>999,(Z23+100),0)*C23 -> 0 | AW23: =IF(B22=informatieblad!$A$6,informatieblad!$B$6,IF(B22=informatieblad!$A$7,informatieblad!$B$7,IF(B22=informatieblad!$A$8,informatieblad!$B$8,IF(B22=informatieblad!$A$2,informatieblad!$B$2,IF(B22=informatieblad!$A$3,informatieblad!$B$3,IF(B22=informatieblad!$A$4,informatieblad!$B$4,IF(B22=informatieblad!$A$5,informatieblad!$B$5,""))))))) | AX23: =IF(C22=informatieblad!$A$6,informatieblad!$B$6,IF(C22=informatieblad!$A$7,informatieblad!$B$7,IF(C22=informatieblad!$A$8,informatieblad!$B$8,IF(C22=informatieblad!$A$2,informatieblad!$B$2,IF(C22=informatieblad!$A$3,informatieblad!$B$3,IF(C22=informatieblad!$A$4,informatieblad!$B$4,IF(C22=informatieblad!$A$5,informatieblad!$B$5,""))))))) | AY23: =IF(AW23=AY21,(4*C23),0) -> 0 | AZ23: =IF(AX23=AY21,(4*C23),0) -> 0 | BA23: =IF(AW23=BA21,(4*C23),0) -> 0 | BB23: =IF(AX23=BA21,(4*C23),0) -> 0
I25: None | M25: Nr. | N25: m2/pcs | O25: rounded m2/pcs | P25: m2/pcs | Q25: rounded m2/pcs | R25: Purchase price total | S25: Sales price total | T25: Options Duct | W25: price /m2 | X25: price /m2 | Z25: biggest size | AA25: plate thickness | AB25: price /m2 | AC25: price /m2 | AD25: price /m2 | AE25: price /m2 | AF25: kg/m2 | AG25: kg/pcs | AI25: =informatieblad!$A$6 -> FL20 | AK25: =informatieblad!$A$7 -> FL30 | AM25: =informatieblad!$A$8 -> FL40 | AO25: =informatieblad!$A$5 -> none | AR25: Lengte | AU25: width | AW25: bolt & nuts | AY25: =informatieblad!$B$3 -> 0 | AZ25: =informatieblad!$B$3 -> 0 | BA25: =informatieblad!$B$4 -> 0 | BB25: =informatieblad!$B$4 -> 0
B26: =IF($C27>0,IF(MAX(B25:C25)<informatieblad!$Q$4,informatieblad!$P$3,IF(MAX(B25:C25)>informatieblad!$R$4,informatieblad!$P$5,informatieblad!$P$4)),"") | C26: =IF($C27>0,IF(MAX(B25:C25)<informatieblad!$Q$4,informatieblad!$P$3,IF(MAX(B25:C25)>informatieblad!$R$4,informatieblad!$P$5,informatieblad!$P$4)),"") | E26: =A25&"-"&informatieblad!$B$12&"-"&B25&"-"&C25&"-"&D25&"-"&B26&"-"&C26&"-"&F27 -> -RctD------Options None | M26: =A25 -> 0 | N26: Luka | O26: Luka | P26: purchase | Q26: purchase | R26: purchase | T26: m2/pcs | U26: purchase | V26: sales | W26: sales fittings | X26: purchase ducts | Z26: A1-A2-A3-B | AB26: purchase fittings | AC26: sales fittings | AD26: purchase ducts | AE26: sales ducts | AI26: =informatieblad!$A$2 -> FL20 loose | AK26: =informatieblad!$A$3 -> FL30 loose | AM26: =informatieblad!$A$4 -> FL40 loose | AT26: ='UC mounting materials '!$B$10 -> Rail 30x15 | AU26: =IF(Z27<1000,(Z27+100),0)*C27 -> 0 | AW26: type | AX26: type | AY26: aantal | AZ26: aantal | BA26: aantal | BB26: aantal
B27: aantal | D27: =C27*O27 -> 0 | E27: m2 | F27: Options None | N27: =(((2*(B25+C25))*D25)/1000000) -> 0 | O27: =((IF(N27<=informatieblad!$I$12,informatieblad!$I$12,IF(N27>=informatieblad!$I$12,N27)))) -> 0.5 | P27: =(((2*B25)+(2*C25))*D25)/1000000 -> 0 | Q27: =((IF(P27<=informatieblad!$H$12,informatieblad!$H$12,IF(P27>=informatieblad!$H$12,P27)))) -> 0 | R27: =((Q27*X27)+(Q27*U27))*C27 -> 0 | S27: =((O27*W27)+(O27*V27))*C27 -> 0 | T27: =F27 -> Options None | U27: =VLOOKUP(F27,informatieblad!$A$37:$D$41,2,FALSE) -> 0 | V27: =VLOOKUP(F27,informatieblad!$A$37:$D$41,4,FALSE) -> 0 | W27: =((IF(D25<=900,AC27,IF(D25>=900,AE27)))) -> 45.1248 | X27: =((IF(D25<=900,AB27,IF(D25>=900,AD27)))) -> 0 | Z27: =(MAX(B25:C25)) -> 0 | AA27: =LOOKUP(Z27,informatieblad!$C$27:$C$32,informatieblad!$A$27:$A$32) -> 0.5 | AB27: =VLOOKUP(AA27,informatieblad!$A$27:$M$32,6,FALSE) -> 0 | AC27: =VLOOKUP(AA27,informatieblad!$A$27:$M$32,8,FALSE) -> 45.1248 | AD27: =VLOOKUP(AA27,informatieblad!$A$27:$M$32,9,FALSE) -> 0 | AE27: =VLOOKUP(AA27,informatieblad!$A$27:$M$32,11,FALSE) -> 32.4632 | AF27: =VLOOKUP(AA27,informatieblad!$A$27:$M$32,13,FALSE) -> 4 | AG27: =ROUND((AF27*P27),1) -> 0 | AI27: =(IF(B26=AI25,((2*B25)+(2*C25)),IF(B26=AI26,((2*B25)+(2*C25)),0)))*C27 -> 0 | AJ27: =(IF(C26=AI25,((2*B25)+(2*C25)),IF(C26=AI26,((2*B25)+(2*C25)),0)))*C27 -> 0 | AK27: =(IF(B26=AK25,((2*B25)+(2*C25)),IF(B26=AK26,((2*B25)+(2*C25)),0)))*C27 -> 0 | AL27: =(IF(C26=AK25,((2*B25)+(2*C25)),IF(C26=AK26,((2*B25)+(2*C25)),0)))*C27 -> 0 | AM27: =(IF(B26=AM25,((2*B25)+(2*C25)),IF(B26=AM26,((2*B25)+(2*C25)),0)))*C27 -> 0 | AN27: =(IF(C26=AM25,((2*B25)+(2*C25)),IF(C26=AM26,((2*B25)+(2*C25)),0)))*C27 -> 0 | AO27: =(IF(B26=AO25,((2*B25)+(2*C25)),0))*C27 -> 0 | AP27: =(IF(C26=AO25,((2*B25)+(2*C25)),0))*C27 -> 0 | AR27: =D25*C27 -> 0 | AT27: ='UC mounting materials '!$B$11 -> Rail 41x41 | AU27: =IF(Z27>999,(Z27+100),0)*C27 -> 0 | AW27: =IF(B26=informatieblad!$A$6,informatieblad!$B$6,IF(B26=informatieblad!$A$7,informatieblad!$B$7,IF(B26=informatieblad!$A$8,informatieblad!$B$8,IF(B26=informatieblad!$A$2,informatieblad!$B$2,IF(B26=informatieblad!$A$3,informatieblad!$B$3,IF(B26=informatieblad!$A$4,informatieblad!$B$4,IF(B26=informatieblad!$A$5,informatieblad!$B$5,""))))))) | AX27: =IF(C26=informatieblad!$A$6,informatieblad!$B$6,IF(C26=informatieblad!$A$7,informatieblad!$B$7,IF(C26=informatieblad!$A$8,informatieblad!$B$8,IF(C26=informatieblad!$A$2,informatieblad!$B$2,IF(C26=informatieblad!$A$3,informatieblad!$B$3,IF(C26=informatieblad!$A$4,informatieblad!$B$4,IF(C26=informatieblad!$A$5,informatieblad!$B$5,""))))))) | AY27: =IF(AW27=AY25,(4*C27),0) -> 0 | AZ27: =IF(AX27=AY25,(4*C27),0) -> 0 | BA27: =IF(AW27=BA25,(4*C27),0) -> 0 | BB27: =IF(AX27=BA25,(4*C27),0) -> 0
I29: None | M29: Nr. | N29: m2/pcs | O29: rounded m2/pcs | P29: m2/pcs | Q29: rounded m2/pcs | R29: Purchase price total | S29: Sales price total | T29: Options Duct | W29: price /m2 | X29: price /m2 | Z29: biggest size | AA29: plate thickness | AB29: price /m2 | AC29: price /m2 | AD29: price /m2 | AE29: price /m2 | AF29: kg/m2 | AG29: kg/pcs | AI29: =informatieblad!$A$6 -> FL20 | AK29: =informatieblad!$A$7 -> FL30 | AM29: =informatieblad!$A$8 -> FL40 | AO29: =informatieblad!$A$5 -> none | AR29: Lengte | AU29: width | AW29: bolt & nuts | AY29: =informatieblad!$B$3 -> 0 | AZ29: =informatieblad!$B$3 -> 0 | BA29: =informatieblad!$B$4 -> 0 | BB29: =informatieblad!$B$4 -> 0
B30: =IF($C31>0,IF(MAX(B29:C29)<informatieblad!$Q$4,informatieblad!$P$3,IF(MAX(B29:C29)>informatieblad!$R$4,informatieblad!$P$5,informatieblad!$P$4)),"") | C30: =IF($C31>0,IF(MAX(B29:C29)<informatieblad!$Q$4,informatieblad!$P$3,IF(MAX(B29:C29)>informatieblad!$R$4,informatieblad!$P$5,informatieblad!$P$4)),"") | E30: =A29&"-"&informatieblad!$B$12&"-"&B29&"-"&C29&"-"&D29&"-"&B30&"-"&C30&"-"&F31 -> -RctD------Options None | M30: =A29 -> 0 | N30: Luka | O30: Luka | P30: purchase | Q30: purchase | R30: purchase | T30: m2/pcs | U30: purchase | V30: sales | W30: sales fittings | X30: purchase ducts | Z30: A1-A2-A3-B | AB30: purchase fittings | AC30: sales fittings | AD30: purchase ducts | AE30: sales ducts | AI30: =informatieblad!$A$2 -> FL20 loose | AK30: =informatieblad!$A$3 -> FL30 loose | AM30: =informatieblad!$A$4 -> FL40 loose | AT30: ='UC mounting materials '!$B$10 -> Rail 30x15 | AU30: =IF(Z31<1000,(Z31+100),0)*C31 -> 0 | AW30: type | AX30: type | AY30: aantal | AZ30: aantal | BA30: aantal | BB30: aantal
B31: aantal | D31: =C31*O31 -> 0 | E31: m2 | F31: Options None | N31: =(((2*(B29+C29))*D29)/1000000) -> 0 | O31: =((IF(N31<=informatieblad!$I$12,informatieblad!$I$12,IF(N31>=informatieblad!$I$12,N31)))) -> 0.5 | P31: =(((2*B29)+(2*C29))*D29)/1000000 -> 0 | Q31: =((IF(P31<=informatieblad!$H$12,informatieblad!$H$12,IF(P31>=informatieblad!$H$12,P31)))) -> 0 | R31: =((Q31*X31)+(Q31*U31))*C31 -> 0 | S31: =((O31*W31)+(O31*V31))*C31 -> 0 | T31: =F31 -> Options None | U31: =VLOOKUP(F31,informatieblad!$A$37:$D$41,2,FALSE) -> 0 | V31: =VLOOKUP(F31,informatieblad!$A$37:$D$41,4,FALSE) -> 0 | W31: =((IF(D29<=900,AC31,IF(D29>=900,AE31)))) -> 45.1248 | X31: =((IF(D29<=900,AB31,IF(D29>=900,AD31)))) -> 0 | Z31: =(MAX(B29:C29)) -> 0 | AA31: =LOOKUP(Z31,informatieblad!$C$27:$C$32,informatieblad!$A$27:$A$32) -> 0.5 | AB31: =VLOOKUP(AA31,informatieblad!$A$27:$M$32,6,FALSE) -> 0 | AC31: =VLOOKUP(AA31,informatieblad!$A$27:$M$32,8,FALSE) -> 45.1248 | AD31: =VLOOKUP(AA31,informatieblad!$A$27:$M$32,9,FALSE) -> 0 | AE31: =VLOOKUP(AA31,informatieblad!$A$27:$M$32,11,FALSE) -> 32.4632 | AF31: =VLOOKUP(AA31,informatieblad!$A$27:$M$32,13,FALSE) -> 4 | AG31: =ROUND((AF31*P31),1) -> 0 | AI31: =(IF(B30=AI29,((2*B29)+(2*C29)),IF(B30=AI30,((2*B29)+(2*C29)),0)))*C31 -> 0 | AJ31: =(IF(C30=AI29,((2*B29)+(2*C29)),IF(C30=AI30,((2*B29)+(2*C29)),0)))*C31 -> 0 | AK31: =(IF(B30=AK29,((2*B29)+(2*C29)),IF(B30=AK30,((2*B29)+(2*C29)),0)))*C31 -> 0 | AL31: =(IF(C30=AK29,((2*B29)+(2*C29)),IF(C30=AK30,((2*B29)+(2*C29)),0)))*C31 -> 0 | AM31: =(IF(B30=AM29,((2*B29)+(2*C29)),IF(B30=AM30,((2*B29)+(2*C29)),0)))*C31 -> 0 | AN31: =(IF(C30=AM29,((2*B29)+(2*C29)),IF(C30=AM30,((2*B29)+(2*C29)),0)))*C31 -> 0 | AO31: =(IF(B30=AO29,((2*B29)+(2*C29)),0))*C31 -> 0 | AP31: =(IF(C30=AO29,((2*B29)+(2*C29)),0))*C31 -> 0 | AR31: =D29*C31 -> 0 | AT31: ='UC mounting materials '!$B$11 -> Rail 41x41 | AU31: =IF(Z31>999,(Z31+100),0)*C31 -> 0 | AW31: =IF(B30=informatieblad!$A$6,informatieblad!$B$6,IF(B30=informatieblad!$A$7,informatieblad!$B$7,IF(B30=informatieblad!$A$8,informatieblad!$B$8,IF(B30=informatieblad!$A$2,informatieblad!$B$2,IF(B30=informatieblad!$A$3,informatieblad!$B$3,IF(B30=informatieblad!$A$4,informatieblad!$B$4,IF(B30=informatieblad!$A$5,informatieblad!$B$5,""))))))) | AX31: =IF(C30=informatieblad!$A$6,informatieblad!$B$6,IF(C30=informatieblad!$A$7,informatieblad!$B$7,IF(C30=informatieblad!$A$8,informatieblad!$B$8,IF(C30=informatieblad!$A$2,informatieblad!$B$2,IF(C30=informatieblad!$A$3,informatieblad!$B$3,IF(C30=informatieblad!$A$4,informatieblad!$B$4,IF(C30=informatieblad!$A$5,informatieblad!$B$5,""))))))) | AY31: =IF(AW31=AY29,(4*C31),0) -> 0 | AZ31: =IF(AX31=AY29,(4*C31),0) -> 0 | BA31: =IF(AW31=BA29,(4*C31),0) -> 0 | BB31: =IF(AX31=BA29,(4*C31),0) -> 0
I33: None | M33: Nr. | N33: m2/pcs | O33: rounded m2/pcs | P33: m2/pcs | Q33: rounded m2/pcs | R33: Purchase price total | S33: Sales price total | T33: Options Duct | W33: price /m2 | X33: price /m2 | Z33: biggest size | AA33: plate thickness | AB33: price /m2 | AC33: price /m2 | AD33: price /m2 | AE33: price /m2 | AF33: kg/m2 | AG33: kg/pcs | AI33: =informatieblad!$A$6 -> FL20 | AK33: =informatieblad!$A$7 -> FL30 | AM33: =informatieblad!$A$8 -> FL40 | AO33: =informatieblad!$A$5 -> none | AR33: Lengte | AU33: width | AW33: bolt & nuts | AY33: =informatieblad!$B$3 -> 0 | AZ33: =informatieblad!$B$3 -> 0 | BA33: =informatieblad!$B$4 -> 0 | BB33: =informatieblad!$B$4 -> 0
B34: =IF($C35>0,IF(MAX(B33:C33)<informatieblad!$Q$4,informatieblad!$P$3,IF(MAX(B33:C33)>informatieblad!$R$4,informatieblad!$P$5,informatieblad!$P$4)),"") | C34: =IF($C35>0,IF(MAX(B33:C33)<informatieblad!$Q$4,informatieblad!$P$3,IF(MAX(B33:C33)>informatieblad!$R$4,informatieblad!$P$5,informatieblad!$P$4)),"") | E34: =A33&"-"&informatieblad!$B$12&"-"&B33&"-"&C33&"-"&D33&"-"&B34&"-"&C34&"-"&F35 -> -RctD------Options None | M34: =A33 -> 0 | N34: Luka | O34: Luka | P34: purchase | Q34: purchase | R34: purchase | T34: m2/pcs | U34: purchase | V34: sales | W34: sales fittings | X34: purchase ducts | Z34: A1-A2-A3-B | AB34: purchase fittings | AC34: sales fittings | AD34: purchase ducts | AE34: sales ducts | AI34: =informatieblad!$A$2 -> FL20 loose | AK34: =informatieblad!$A$3 -> FL30 loose | AM34: =informatieblad!$A$4 -> FL40 loose | AT34: ='UC mounting materials '!$B$10 -> Rail 30x15 | AU34: =IF(Z35<1000,(Z35+100),0)*C35 -> 0 | AW34: type | AX34: type | AY34: aantal | AZ34: aantal | BA34: aantal | BB34: aantal
B35: aantal | D35: =C35*O35 -> 0 | E35: m2 | F35: Options None | N35: =(((2*(B33+C33))*D33)/1000000) -> 0 | O35: =((IF(N35<=informatieblad!$I$12,informatieblad!$I$12,IF(N35>=informatieblad!$I$12,N35)))) -> 0.5 | P35: =(((2*B33)+(2*C33))*D33)/1000000 -> 0 | Q35: =((IF(P35<=informatieblad!$H$12,informatieblad!$H$12,IF(P35>=informatieblad!$H$12,P35)))) -> 0 | R35: =((Q35*X35)+(Q35*U35))*C35 -> 0 | S35: =((O35*W35)+(O35*V35))*C35 -> 0 | T35: =F35 -> Options None | U35: =VLOOKUP(F35,informatieblad!$A$37:$D$41,2,FALSE) -> 0 | V35: =VLOOKUP(F35,informatieblad!$A$37:$D$41,4,FALSE) -> 0 | W35: =((IF(D33<=900,AC35,IF(D33>=900,AE35)))) -> 45.1248 | X35: =((IF(D33<=900,AB35,IF(D33>=900,AD35)))) -> 0 | Z35: =(MAX(B33:C33)) -> 0 | AA35: =LOOKUP(Z35,informatieblad!$C$27:$C$32,informatieblad!$A$27:$A$32) -> 0.5 | AB35: =VLOOKUP(AA35,informatieblad!$A$27:$M$32,6,FALSE) -> 0 | AC35: =VLOOKUP(AA35,informatieblad!$A$27:$M$32,8,FALSE) -> 45.1248 | AD35: =VLOOKUP(AA35,informatieblad!$A$27:$M$32,9,FALSE) -> 0 | AE35: =VLOOKUP(AA35,informatieblad!$A$27:$M$32,11,FALSE) -> 32.4632 | AF35: =VLOOKUP(AA35,informatieblad!$A$27:$M$32,13,FALSE) -> 4 | AG35: =ROUND((AF35*P35),1) -> 0 | AI35: =(IF(B34=AI33,((2*B33)+(2*C33)),IF(B34=AI34,((2*B33)+(2*C33)),0)))*C35 -> 0 | AJ35: =(IF(C34=AI33,((2*B33)+(2*C33)),IF(C34=AI34,((2*B33)+(2*C33)),0)))*C35 -> 0 | AK35: =(IF(B34=AK33,((2*B33)+(2*C33)),IF(B34=AK34,((2*B33)+(2*C33)),0)))*C35 -> 0 | AL35: =(IF(C34=AK33,((2*B33)+(2*C33)),IF(C34=AK34,((2*B33)+(2*C33)),0)))*C35 -> 0 | AM35: =(IF(B34=AM33,((2*B33)+(2*C33)),IF(B34=AM34,((2*B33)+(2*C33)),0)))*C35 -> 0 | AN35: =(IF(C34=AM33,((2*B33)+(2*C33)),IF(C34=AM34,((2*B33)+(2*C33)),0)))*C35 -> 0 | AO35: =(IF(B34=AO33,((2*B33)+(2*C33)),0))*C35 -> 0 | AP35: =(IF(C34=AO33,((2*B33)+(2*C33)),0))*C35 -> 0 | AR35: =D33*C35 -> 0 | AT35: ='UC mounting materials '!$B$11 -> Rail 41x41 | AU35: =IF(Z35>999,(Z35+100),0)*C35 -> 0 | AW35: =IF(B34=informatieblad!$A$6,informatieblad!$B$6,IF(B34=informatieblad!$A$7,informatieblad!$B$7,IF(B34=informatieblad!$A$8,informatieblad!$B$8,IF(B34=informatieblad!$A$2,informatieblad!$B$2,IF(B34=informatieblad!$A$3,informatieblad!$B$3,IF(B34=informatieblad!$A$4,informatieblad!$B$4,IF(B34=informatieblad!$A$5,informatieblad!$B$5,""))))))) | AX35: =IF(C34=informatieblad!$A$6,informatieblad!$B$6,IF(C34=informatieblad!$A$7,informatieblad!$B$7,IF(C34=informatieblad!$A$8,informatieblad!$B$8,IF(C34=informatieblad!$A$2,informatieblad!$B$2,IF(C34=informatieblad!$A$3,informatieblad!$B$3,IF(C34=informatieblad!$A$4,informatieblad!$B$4,IF(C34=informatieblad!$A$5,informatieblad!$B$5,""))))))) | AY35: =IF(AW35=AY33,(4*C35),0) -> 0 | AZ35: =IF(AX35=AY33,(4*C35),0) -> 0 | BA35: =IF(AW35=BA33,(4*C35),0) -> 0 | BB35: =IF(AX35=BA33,(4*C35),0) -> 0
I37: None | M37: Nr. | N37: m2/pcs | O37: rounded m2/pcs | P37: m2/pcs | Q37: rounded m2/pcs | R37: Purchase price total | S37: Sales price total | T37: Options Duct | W37: price /m2 | X37: price /m2 | Z37: biggest size | AA37: plate thickness | AB37: price /m2 | AC37: price /m2 | AD37: price /m2 | AE37: price /m2 | AF37: kg/m2 | AG37: kg/pcs | AI37: =informatieblad!$A$6 -> FL20 | AK37: =informatieblad!$A$7 -> FL30 | AM37: =informatieblad!$A$8 -> FL40 | AO37: =informatieblad!$A$5 -> none | AR37: Lengte | AU37: width | AW37: bolt & nuts | AY37: =informatieblad!$B$3 -> 0 | AZ37: =informatieblad!$B$3 -> 0 | BA37: =informatieblad!$B$4 -> 0 | BB37: =informatieblad!$B$4 -> 0
B38: =IF($C39>0,IF(MAX(B37:C37)<informatieblad!$Q$4,informatieblad!$P$3,IF(MAX(B37:C37)>informatieblad!$R$4,informatieblad!$P$5,informatieblad!$P$4)),"") | C38: =IF($C39>0,IF(MAX(B37:C37)<informatieblad!$Q$4,informatieblad!$P$3,IF(MAX(B37:C37)>informatieblad!$R$4,informatieblad!$P$5,informatieblad!$P$4)),"") | E38: =A37&"-"&informatieblad!$B$12&"-"&B37&"-"&C37&"-"&D37&"-"&B38&"-"&C38&"-"&F39 -> -RctD------Options None | M38: =A37 -> 0 | N38: Luka | O38: Luka | P38: purchase | Q38: purchase | R38: purchase | T38: m2/pcs | U38: purchase | V38: sales | W38: sales fittings | X38: purchase ducts | Z38: A1-A2-A3-B | AB38: purchase fittings | AC38: sales fittings | AD38: purchase ducts | AE38: sales ducts | AI38: =informatieblad!$A$2 -> FL20 loose | AK38: =informatieblad!$A$3 -> FL30 loose | AM38: =informatieblad!$A$4 -> FL40 loose | AT38: ='UC mounting materials '!$B$10 -> Rail 30x15 | AU38: =IF(Z39<1000,(Z39+100),0)*C39 -> 0 | AW38: type | AX38: type | AY38: aantal | AZ38: aantal | BA38: aantal | BB38: aantal
B39: aantal | D39: =C39*O39 -> 0 | E39: m2 | F39: Options None | N39: =(((2*(B37+C37))*D37)/1000000) -> 0 | O39: =((IF(N39<=informatieblad!$I$12,informatieblad!$I$12,IF(N39>=informatieblad!$I$12,N39)))) -> 0.5 | P39: =(((2*B37)+(2*C37))*D37)/1000000 -> 0 | Q39: =((IF(P39<=informatieblad!$H$12,informatieblad!$H$12,IF(P39>=informatieblad!$H$12,P39)))) -> 0 | R39: =((Q39*X39)+(Q39*U39))*C39 -> 0 | S39: =((O39*W39)+(O39*V39))*C39 -> 0 | T39: =F39 -> Options None | U39: =VLOOKUP(F39,informatieblad!$A$37:$D$41,2,FALSE) -> 0 | V39: =VLOOKUP(F39,informatieblad!$A$37:$D$41,4,FALSE) -> 0 | W39: =((IF(D37<=900,AC39,IF(D37>=900,AE39)))) -> 45.1248 | X39: =((IF(D37<=900,AB39,IF(D37>=900,AD39)))) -> 0 | Z39: =(MAX(B37:C37)) -> 0 | AA39: =LOOKUP(Z39,informatieblad!$C$27:$C$32,informatieblad!$A$27:$A$32) -> 0.5 | AB39: =VLOOKUP(AA39,informatieblad!$A$27:$M$32,6,FALSE) -> 0 | AC39: =VLOOKUP(AA39,informatieblad!$A$27:$M$32,8,FALSE) -> 45.1248 | AD39: =VLOOKUP(AA39,informatieblad!$A$27:$M$32,9,FALSE) -> 0 | AE39: =VLOOKUP(AA39,informatieblad!$A$27:$M$32,11,FALSE) -> 32.4632 | AF39: =VLOOKUP(AA39,informatieblad!$A$27:$M$32,13,FALSE) -> 4 | AG39: =ROUND((AF39*P39),1) -> 0 | AI39: =(IF(B38=AI37,((2*B37)+(2*C37)),IF(B38=AI38,((2*B37)+(2*C37)),0)))*C39 -> 0 | AJ39: =(IF(C38=AI37,((2*B37)+(2*C37)),IF(C38=AI38,((2*B37)+(2*C37)),0)))*C39 -> 0 | AK39: =(IF(B38=AK37,((2*B37)+(2*C37)),IF(B38=AK38,((2*B37)+(2*C37)),0)))*C39 -> 0 | AL39: =(IF(C38=AK37,((2*B37)+(2*C37)),IF(C38=AK38,((2*B37)+(2*C37)),0)))*C39 -> 0 | AM39: =(IF(B38=AM37,((2*B37)+(2*C37)),IF(B38=AM38,((2*B37)+(2*C37)),0)))*C39 -> 0 | AN39: =(IF(C38=AM37,((2*B37)+(2*C37)),IF(C38=AM38,((2*B37)+(2*C37)),0)))*C39 -> 0 | AO39: =(IF(B38=AO37,((2*B37)+(2*C37)),0))*C39 -> 0 | AP39: =(IF(C38=AO37,((2*B37)+(2*C37)),0))*C39 -> 0 | AR39: =D37*C39 -> 0 | AT39: ='UC mounting materials '!$B$11 -> Rail 41x41 | AU39: =IF(Z39>999,(Z39+100),0)*C39 -> 0 | AW39: =IF(B38=informatieblad!$A$6,informatieblad!$B$6,IF(B38=informatieblad!$A$7,informatieblad!$B$7,IF(B38=informatieblad!$A$8,informatieblad!$B$8,IF(B38=informatieblad!$A$2,informatieblad!$B$2,IF(B38=informatieblad!$A$3,informatieblad!$B$3,IF(B38=informatieblad!$A$4,informatieblad!$B$4,IF(B38=informatieblad!$A$5,informatieblad!$B$5,""))))))) | AX39: =IF(C38=informatieblad!$A$6,informatieblad!$B$6,IF(C38=informatieblad!$A$7,informatieblad!$B$7,IF(C38=informatieblad!$A$8,informatieblad!$B$8,IF(C38=informatieblad!$A$2,informatieblad!$B$2,IF(C38=informatieblad!$A$3,informatieblad!$B$3,IF(C38=informatieblad!$A$4,informatieblad!$B$4,IF(C38=informatieblad!$A$5,informatieblad!$B$5,""))))))) | AY39: =IF(AW39=AY37,(4*C39),0) -> 0 | AZ39: =IF(AX39=AY37,(4*C39),0) -> 0 | BA39: =IF(AW39=BA37,(4*C39),0) -> 0 | BB39: =IF(AX39=BA37,(4*C39),0) -> 0
I41: None | M41: Nr. | N41: m2/pcs | O41: rounded m2/pcs | P41: m2/pcs | Q41: rounded m2/pcs | R41: Purchase price total | S41: Sales price total | T41: Options Duct | W41: price /m2 | X41: price /m2 | Z41: biggest size | AA41: plate thickness | AB41: price /m2 | AC41: price /m2 | AD41: price /m2 | AE41: price /m2 | AF41: kg/m2 | AG41: kg/pcs | AI41: =informatieblad!$A$6 -> FL20 | AK41: =informatieblad!$A$7 -> FL30 | AM41: =informatieblad!$A$8 -> FL40 | AO41: =informatieblad!$A$5 -> none | AR41: Lengte | AU41: width | AW41: bolt & nuts | AY41: =informatieblad!$B$3 -> 0 | AZ41: =informatieblad!$B$3 -> 0 | BA41: =informatieblad!$B$4 -> 0 | BB41: =informatieblad!$B$4 -> 0
B42: =IF($C43>0,IF(MAX(B41:C41)<informatieblad!$Q$4,informatieblad!$P$3,IF(MAX(B41:C41)>informatieblad!$R$4,informatieblad!$P$5,informatieblad!$P$4)),"") | C42: =IF($C43>0,IF(MAX(B41:C41)<informatieblad!$Q$4,informatieblad!$P$3,IF(MAX(B41:C41)>informatieblad!$R$4,informatieblad!$P$5,informatieblad!$P$4)),"") | E42: =A41&"-"&informatieblad!$B$12&"-"&B41&"-"&C41&"-"&D41&"-"&B42&"-"&C42&"-"&F43 -> -RctD------Options None | M42: =A41 -> 0 | N42: Luka | O42: Luka | P42: purchase | Q42: purchase | R42: purchase | T42: m2/pcs | U42: purchase | V42: sales | W42: sales fittings | X42: purchase ducts | Z42: A1-A2-A3-B | AB42: purchase fittings | AC42: sales fittings | AD42: purchase ducts | AE42: sales ducts | AI42: =informatieblad!$A$2 -> FL20 loose | AK42: =informatieblad!$A$3 -> FL30 loose | AM42: =informatieblad!$A$4 -> FL40 loose | AT42: ='UC mounting materials '!$B$10 -> Rail 30x15 | AU42: =IF(Z43<1000,(Z43+100),0)*C43 -> 0 | AW42: type | AX42: type | AY42: aantal | AZ42: aantal | BA42: aantal | BB42: aantal
B43: aantal | D43: =C43*O43 -> 0 | E43: m2 | F43: Options None | N43: =(((2*(B41+C41))*D41)/1000000) -> 0 | O43: =((IF(N43<=informatieblad!$I$12,informatieblad!$I$12,IF(N43>=informatieblad!$I$12,N43)))) -> 0.5 | P43: =(((2*B41)+(2*C41))*D41)/1000000 -> 0 | Q43: =((IF(P43<=informatieblad!$H$12,informatieblad!$H$12,IF(P43>=informatieblad!$H$12,P43)))) -> 0 | R43: =((Q43*X43)+(Q43*U43))*C43 -> 0 | S43: =((O43*W43)+(O43*V43))*C43 -> 0 | T43: =F43 -> Options None | U43: =VLOOKUP(F43,informatieblad!$A$37:$D$41,2,FALSE) -> 0 | V43: =VLOOKUP(F43,informatieblad!$A$37:$D$41,4,FALSE) -> 0 | W43: =((IF(D41<=900,AC43,IF(D41>=900,AE43)))) -> 45.1248 | X43: =((IF(D41<=900,AB43,IF(D41>=900,AD43)))) -> 0 | Z43: =(MAX(B41:C41)) -> 0 | AA43: =LOOKUP(Z43,informatieblad!$C$27:$C$32,informatieblad!$A$27:$A$32) -> 0.5 | AB43: =VLOOKUP(AA43,informatieblad!$A$27:$M$32,6,FALSE) -> 0 | AC43: =VLOOKUP(AA43,informatieblad!$A$27:$M$32,8,FALSE) -> 45.1248 | AD43: =VLOOKUP(AA43,informatieblad!$A$27:$M$32,9,FALSE) -> 0 | AE43: =VLOOKUP(AA43,informatieblad!$A$27:$M$32,11,FALSE) -> 32.4632 | AF43: =VLOOKUP(AA43,informatieblad!$A$27:$M$32,13,FALSE) -> 4 | AG43: =ROUND((AF43*P43),1) -> 0 | AI43: =(IF(B42=AI41,((2*B41)+(2*C41)),IF(B42=AI42,((2*B41)+(2*C41)),0)))*C43 -> 0 | AJ43: =(IF(C42=AI41,((2*B41)+(2*C41)),IF(C42=AI42,((2*B41)+(2*C41)),0)))*C43 -> 0 | AK43: =(IF(B42=AK41,((2*B41)+(2*C41)),IF(B42=AK42,((2*B41)+(2*C41)),0)))*C43 -> 0 | AL43: =(IF(C42=AK41,((2*B41)+(2*C41)),IF(C42=AK42,((2*B41)+(2*C41)),0)))*C43 -> 0 | AM43: =(IF(B42=AM41,((2*B41)+(2*C41)),IF(B42=AM42,((2*B41)+(2*C41)),0)))*C43 -> 0 | AN43: =(IF(C42=AM41,((2*B41)+(2*C41)),IF(C42=AM42,((2*B41)+(2*C41)),0)))*C43 -> 0 | AO43: =(IF(B42=AO41,((2*B41)+(2*C41)),0))*C43 -> 0 | AP43: =(IF(C42=AO41,((2*B41)+(2*C41)),0))*C43 -> 0 | AR43: =D41*C43 -> 0 | AT43: ='UC mounting materials '!$B$11 -> Rail 41x41 | AU43: =IF(Z43>999,(Z43+100),0)*C43 -> 0 | AW43: =IF(B42=informatieblad!$A$6,informatieblad!$B$6,IF(B42=informatieblad!$A$7,informatieblad!$B$7,IF(B42=informatieblad!$A$8,informatieblad!$B$8,IF(B42=informatieblad!$A$2,informatieblad!$B$2,IF(B42=informatieblad!$A$3,informatieblad!$B$3,IF(B42=informatieblad!$A$4,informatieblad!$B$4,IF(B42=informatieblad!$A$5,informatieblad!$B$5,""))))))) | AX43: =IF(C42=informatieblad!$A$6,informatieblad!$B$6,IF(C42=informatieblad!$A$7,informatieblad!$B$7,IF(C42=informatieblad!$A$8,informatieblad!$B$8,IF(C42=informatieblad!$A$2,informatieblad!$B$2,IF(C42=informatieblad!$A$3,informatieblad!$B$3,IF(C42=informatieblad!$A$4,informatieblad!$B$4,IF(C42=informatieblad!$A$5,informatieblad!$B$5,""))))))) | AY43: =IF(AW43=AY41,(4*C43),0) -> 0 | AZ43: =IF(AX43=AY41,(4*C43),0) -> 0 | BA43: =IF(AW43=BA41,(4*C43),0) -> 0 | BB43: =IF(AX43=BA41,(4*C43),0) -> 0
I45: None | M45: Nr. | N45: m2/pcs | O45: rounded m2/pcs | P45: m2/pcs | Q45: rounded m2/pcs | R45: Purchase price total | S45: Sales price total | T45: Options Duct | W45: price /m2 | X45: price /m2 | Z45: biggest size | AA45: plate thickness | AB45: price /m2 | AC45: price /m2 | AD45: price /m2 | AE45: price /m2 | AF45: kg/m2 | AG45: kg/pcs | AI45: =informatieblad!$A$6 -> FL20 | AK45: =informatieblad!$A$7 -> FL30 | AM45: =informatieblad!$A$8 -> FL40 | AO45: =informatieblad!$A$5 -> none | AR45: Lengte | AU45: width | AW45: bolt & nuts | AY45: =informatieblad!$B$3 -> 0 | AZ45: =informatieblad!$B$3 -> 0 | BA45: =informatieblad!$B$4 -> 0 | BB45: =informatieblad!$B$4 -> 0
B46: =IF($C47>0,IF(MAX(B45:C45)<informatieblad!$Q$4,informatieblad!$P$3,IF(MAX(B45:C45)>informatieblad!$R$4,informatieblad!$P$5,informatieblad!$P$4)),"") | C46: =IF($C47>0,IF(MAX(B45:C45)<informatieblad!$Q$4,informatieblad!$P$3,IF(MAX(B45:C45)>informatieblad!$R$4,informatieblad!$P$5,informatieblad!$P$4)),"") | E46: =A45&"-"&informatieblad!$B$12&"-"&B45&"-"&C45&"-"&D45&"-"&B46&"-"&C46&"-"&F47 -> -RctD------Options None | M46: =A45 -> 0 | N46: Luka | O46: Luka | P46: purchase | Q46: purchase | R46: purchase | T46: m2/pcs | U46: purchase | V46: sales | W46: sales fittings | X46: purchase ducts | Z46: A1-A2-A3-B | AB46: purchase fittings | AC46: sales fittings | AD46: purchase ducts | AE46: sales ducts | AI46: =informatieblad!$A$2 -> FL20 loose | AK46: =informatieblad!$A$3 -> FL30 loose | AM46: =informatieblad!$A$4 -> FL40 loose | AT46: ='UC mounting materials '!$B$10 -> Rail 30x15 | AU46: =IF(Z47<1000,(Z47+100),0)*C47 -> 0 | AW46: type | AX46: type | AY46: aantal | AZ46: aantal | BA46: aantal | BB46: aantal
B47: aantal | D47: =C47*O47 -> 0 | E47: m2 | F47: Options None | N47: =(((2*(B45+C45))*D45)/1000000) -> 0 | O47: =((IF(N47<=informatieblad!$I$12,informatieblad!$I$12,IF(N47>=informatieblad!$I$12,N47)))) -> 0.5 | P47: =(((2*B45)+(2*C45))*D45)/1000000 -> 0 | Q47: =((IF(P47<=informatieblad!$H$12,informatieblad!$H$12,IF(P47>=informatieblad!$H$12,P47)))) -> 0 | R47: =((Q47*X47)+(Q47*U47))*C47 -> 0 | S47: =((O47*W47)+(O47*V47))*C47 -> 0 | T47: =F47 -> Options None | U47: =VLOOKUP(F47,informatieblad!$A$37:$D$41,2,FALSE) -> 0 | V47: =VLOOKUP(F47,informatieblad!$A$37:$D$41,4,FALSE) -> 0 | W47: =((IF(D45<=900,AC47,IF(D45>=900,AE47)))) -> 45.1248 | X47: =((IF(D45<=900,AB47,IF(D45>=900,AD47)))) -> 0 | Z47: =(MAX(B45:C45)) -> 0 | AA47: =LOOKUP(Z47,informatieblad!$C$27:$C$32,informatieblad!$A$27:$A$32) -> 0.5 | AB47: =VLOOKUP(AA47,informatieblad!$A$27:$M$32,6,FALSE) -> 0 | AC47: =VLOOKUP(AA47,informatieblad!$A$27:$M$32,8,FALSE) -> 45.1248 | AD47: =VLOOKUP(AA47,informatieblad!$A$27:$M$32,9,FALSE) -> 0 | AE47: =VLOOKUP(AA47,informatieblad!$A$27:$M$32,11,FALSE) -> 32.4632 | AF47: =VLOOKUP(AA47,informatieblad!$A$27:$M$32,13,FALSE) -> 4 | AG47: =ROUND((AF47*P47),1) -> 0 | AI47: =(IF(B46=AI45,((2*B45)+(2*C45)),IF(B46=AI46,((2*B45)+(2*C45)),0)))*C47 -> 0 | AJ47: =(IF(C46=AI45,((2*B45)+(2*C45)),IF(C46=AI46,((2*B45)+(2*C45)),0)))*C47 -> 0 | AK47: =(IF(B46=AK45,((2*B45)+(2*C45)),IF(B46=AK46,((2*B45)+(2*C45)),0)))*C47 -> 0 | AL47: =(IF(C46=AK45,((2*B45)+(2*C45)),IF(C46=AK46,((2*B45)+(2*C45)),0)))*C47 -> 0 | AM47: =(IF(B46=AM45,((2*B45)+(2*C45)),IF(B46=AM46,((2*B45)+(2*C45)),0)))*C47 -> 0 | AN47: =(IF(C46=AM45,((2*B45)+(2*C45)),IF(C46=AM46,((2*B45)+(2*C45)),0)))*C47 -> 0 | AO47: =(IF(B46=AO45,((2*B45)+(2*C45)),0))*C47 -> 0 | AP47: =(IF(C46=AO45,((2*B45)+(2*C45)),0))*C47 -> 0 | AR47: =D45*C47 -> 0 | AT47: ='UC mounting materials '!$B$11 -> Rail 41x41 | AU47: =IF(Z47>999,(Z47+100),0)*C47 -> 0 | AW47: =IF(B46=informatieblad!$A$6,informatieblad!$B$6,IF(B46=informatieblad!$A$7,informatieblad!$B$7,IF(B46=informatieblad!$A$8,informatieblad!$B$8,IF(B46=informatieblad!$A$2,informatieblad!$B$2,IF(B46=informatieblad!$A$3,informatieblad!$B$3,IF(B46=informatieblad!$A$4,informatieblad!$B$4,IF(B46=informatieblad!$A$5,informatieblad!$B$5,""))))))) | AX47: =IF(C46=informatieblad!$A$6,informatieblad!$B$6,IF(C46=informatieblad!$A$7,informatieblad!$B$7,IF(C46=informatieblad!$A$8,informatieblad!$B$8,IF(C46=informatieblad!$A$2,informatieblad!$B$2,IF(C46=informatieblad!$A$3,informatieblad!$B$3,IF(C46=informatieblad!$A$4,informatieblad!$B$4,IF(C46=informatieblad!$A$5,informatieblad!$B$5,""))))))) | AY47: =IF(AW47=AY45,(4*C47),0) -> 0 | AZ47: =IF(AX47=AY45,(4*C47),0) -> 0 | BA47: =IF(AW47=BA45,(4*C47),0) -> 0 | BB47: =IF(AX47=BA45,(4*C47),0) -> 0
I49: None | M49: Nr. | N49: m2/pcs | O49: rounded m2/pcs | P49: m2/pcs | Q49: rounded m2/pcs | R49: Purchase price total | S49: Sales price total | T49: Options Duct | W49: price /m2 | X49: price /m2 | Z49: biggest size | AA49: plate thickness | AB49: price /m2 | AC49: price /m2 | AD49: price /m2 | AE49: price /m2 | AF49: kg/m2 | AG49: kg/pcs | AI49: =informatieblad!$A$6 -> FL20 | AK49: =informatieblad!$A$7 -> FL30 | AM49: =informatieblad!$A$8 -> FL40 | AO49: =informatieblad!$A$5 -> none | AR49: Lengte | AU49: width | AW49: bolt & nuts | AY49: =informatieblad!$B$3 -> 0 | AZ49: =informatieblad!$B$3 -> 0 | BA49: =informatieblad!$B$4 -> 0 | BB49: =informatieblad!$B$4 -> 0
B50: =IF($C51>0,IF(MAX(B49:C49)<informatieblad!$Q$4,informatieblad!$P$3,IF(MAX(B49:C49)>informatieblad!$R$4,informatieblad!$P$5,informatieblad!$P$4)),"") | C50: =IF($C51>0,IF(MAX(B49:C49)<informatieblad!$Q$4,informatieblad!$P$3,IF(MAX(B49:C49)>informatieblad!$R$4,informatieblad!$P$5,informatieblad!$P$4)),"") | E50: =A49&"-"&informatieblad!$B$12&"-"&B49&"-"&C49&"-"&D49&"-"&B50&"-"&C50&"-"&F51 -> -RctD------Options None | M50: =A49 -> 0 | N50: Luka | O50: Luka | P50: purchase | Q50: purchase | R50: purchase | T50: m2/pcs | U50: purchase | V50: sales | W50: sales fittings | X50: purchase ducts | Z50: A1-A2-A3-B | AB50: purchase fittings | AC50: sales fittings | AD50: purchase ducts | AE50: sales ducts | AI50: =informatieblad!$A$2 -> FL20 loose | AK50: =informatieblad!$A$3 -> FL30 loose | AM50: =informatieblad!$A$4 -> FL40 loose | AT50: ='UC mounting materials '!$B$10 -> Rail 30x15 | AU50: =IF(Z51<1000,(Z51+100),0)*C51 -> 0 | AW50: type | AX50: type | AY50: aantal | AZ50: aantal | BA50: aantal | BB50: aantal
B51: aantal | D51: =C51*O51 -> 0 | E51: m2 | F51: Options None | N51: =(((2*(B49+C49))*D49)/1000000) -> 0 | O51: =((IF(N51<=informatieblad!$I$12,informatieblad!$I$12,IF(N51>=informatieblad!$I$12,N51)))) -> 0.5 | P51: =(((2*B49)+(2*C49))*D49)/1000000 -> 0 | Q51: =((IF(P51<=informatieblad!$H$12,informatieblad!$H$12,IF(P51>=informatieblad!$H$12,P51)))) -> 0 | R51: =((Q51*X51)+(Q51*U51))*C51 -> 0 | S51: =((O51*W51)+(O51*V51))*C51 -> 0 | T51: =F51 -> Options None | U51: =VLOOKUP(F51,informatieblad!$A$37:$D$41,2,FALSE) -> 0 | V51: =VLOOKUP(F51,informatieblad!$A$37:$D$41,4,FALSE) -> 0 | W51: =((IF(D49<=900,AC51,IF(D49>=900,AE51)))) -> 45.1248 | X51: =((IF(D49<=900,AB51,IF(D49>=900,AD51)))) -> 0 | Z51: =(MAX(B49:C49)) -> 0 | AA51: =LOOKUP(Z51,informatieblad!$C$27:$C$32,informatieblad!$A$27:$A$32) -> 0.5 | AB51: =VLOOKUP(AA51,informatieblad!$A$27:$M$32,6,FALSE) -> 0 | AC51: =VLOOKUP(AA51,informatieblad!$A$27:$M$32,8,FALSE) -> 45.1248 | AD51: =VLOOKUP(AA51,informatieblad!$A$27:$M$32,9,FALSE) -> 0 | AE51: =VLOOKUP(AA51,informatieblad!$A$27:$M$32,11,FALSE) -> 32.4632 | AF51: =VLOOKUP(AA51,informatieblad!$A$27:$M$32,13,FALSE) -> 4 | AG51: =ROUND((AF51*P51),1) -> 0 | AI51: =(IF(B50=AI49,((2*B49)+(2*C49)),IF(B50=AI50,((2*B49)+(2*C49)),0)))*C51 -> 0 | AJ51: =(IF(C50=AI49,((2*B49)+(2*C49)),IF(C50=AI50,((2*B49)+(2*C49)),0)))*C51 -> 0 | AK51: =(IF(B50=AK49,((2*B49)+(2*C49)),IF(B50=AK50,((2*B49)+(2*C49)),0)))*C51 -> 0 | AL51: =(IF(C50=AK49,((2*B49)+(2*C49)),IF(C50=AK50,((2*B49)+(2*C49)),0)))*C51 -> 0 | AM51: =(IF(B50=AM49,((2*B49)+(2*C49)),IF(B50=AM50,((2*B49)+(2*C49)),0)))*C51 -> 0 | AN51: =(IF(C50=AM49,((2*B49)+(2*C49)),IF(C50=AM50,((2*B49)+(2*C49)),0)))*C51 -> 0 | AO51: =(IF(B50=AO49,((2*B49)+(2*C49)),0))*C51 -> 0 | AP51: =(IF(C50=AO49,((2*B49)+(2*C49)),0))*C51 -> 0 | AR51: =D49*C51 -> 0 | AT51: ='UC mounting materials '!$B$11 -> Rail 41x41 | AU51: =IF(Z51>999,(Z51+100),0)*C51 -> 0 | AW51: =IF(B50=informatieblad!$A$6,informatieblad!$B$6,IF(B50=informatieblad!$A$7,informatieblad!$B$7,IF(B50=informatieblad!$A$8,informatieblad!$B$8,IF(B50=informatieblad!$A$2,informatieblad!$B$2,IF(B50=informatieblad!$A$3,informatieblad!$B$3,IF(B50=informatieblad!$A$4,informatieblad!$B$4,IF(B50=informatieblad!$A$5,informatieblad!$B$5,""))))))) | AX51: =IF(C50=informatieblad!$A$6,informatieblad!$B$6,IF(C50=informatieblad!$A$7,informatieblad!$B$7,IF(C50=informatieblad!$A$8,informatieblad!$B$8,IF(C50=informatieblad!$A$2,informatieblad!$B$2,IF(C50=informatieblad!$A$3,informatieblad!$B$3,IF(C50=informatieblad!$A$4,informatieblad!$B$4,IF(C50=informatieblad!$A$5,informatieblad!$B$5,""))))))) | AY51: =IF(AW51=AY49,(4*C51),0) -> 0 | AZ51: =IF(AX51=AY49,(4*C51),0) -> 0 | BA51: =IF(AW51=BA49,(4*C51),0) -> 0 | BB51: =IF(AX51=BA49,(4*C51),0) -> 0
I53: None | M53: Nr. | N53: m2/pcs | O53: rounded m2/pcs | P53: m2/pcs | Q53: rounded m2/pcs | R53: Purchase price total | S53: Sales price total | T53: Options Duct | W53: price /m2 | X53: price /m2 | Z53: biggest size | AA53: plate thickness | AB53: price /m2 | AC53: price /m2 | AD53: price /m2 | AE53: price /m2 | AF53: kg/m2 | AG53: kg/pcs | AI53: =informatieblad!$A$6 -> FL20 | AK53: =informatieblad!$A$7 -> FL30 | AM53: =informatieblad!$A$8 -> FL40 | AO53: =informatieblad!$A$5 -> none | AR53: Lengte | AU53: width | AW53: bolt & nuts | AY53: =informatieblad!$B$3 -> 0 | AZ53: =informatieblad!$B$3 -> 0 | BA53: =informatieblad!$B$4 -> 0 | BB53: =informatieblad!$B$4 -> 0
B54: =IF($C55>0,IF(MAX(B53:C53)<informatieblad!$Q$4,informatieblad!$P$3,IF(MAX(B53:C53)>informatieblad!$R$4,informatieblad!$P$5,informatieblad!$P$4)),"") | C54: =IF($C55>0,IF(MAX(B53:C53)<informatieblad!$Q$4,informatieblad!$P$3,IF(MAX(B53:C53)>informatieblad!$R$4,informatieblad!$P$5,informatieblad!$P$4)),"") | E54: =A53&"-"&informatieblad!$B$12&"-"&B53&"-"&C53&"-"&D53&"-"&B54&"-"&C54&"-"&F55 -> -RctD------Options None | M54: =A53 -> 0 | N54: Luka | O54: Luka | P54: purchase | Q54: purchase | R54: purchase | T54: m2/pcs | U54: purchase | V54: sales | W54: sales fittings | X54: purchase ducts | Z54: A1-A2-A3-B | AB54: purchase fittings | AC54: sales fittings | AD54: purchase ducts | AE54: sales ducts | AI54: =informatieblad!$A$2 -> FL20 loose | AK54: =informatieblad!$A$3 -> FL30 loose | AM54: =informatieblad!$A$4 -> FL40 loose | AT54: ='UC mounting materials '!$B$10 -> Rail 30x15 | AU54: =IF(Z55<1000,(Z55+100),0)*C55 -> 0 | AW54: type | AX54: type | AY54: aantal | AZ54: aantal | BA54: aantal | BB54: aantal
B55: aantal | D55: =C55*O55 -> 0 | E55: m2 | F55: Options None | N55: =(((2*(B53+C53))*D53)/1000000) -> 0 | O55: =((IF(N55<=informatieblad!$I$12,informatieblad!$I$12,IF(N55>=informatieblad!$I$12,N55)))) -> 0.5 | P55: =(((2*B53)+(2*C53))*D53)/1000000 -> 0 | Q55: =((IF(P55<=informatieblad!$H$12,informatieblad!$H$12,IF(P55>=informatieblad!$H$12,P55)))) -> 0 | R55: =((Q55*X55)+(Q55*U55))*C55 -> 0 | S55: =((O55*W55)+(O55*V55))*C55 -> 0 | T55: =F55 -> Options None | U55: =VLOOKUP(F55,informatieblad!$A$37:$D$41,2,FALSE) -> 0 | V55: =VLOOKUP(F55,informatieblad!$A$37:$D$41,4,FALSE) -> 0 | W55: =((IF(D53<=900,AC55,IF(D53>=900,AE55)))) -> 45.1248 | X55: =((IF(D53<=900,AB55,IF(D53>=900,AD55)))) -> 0 | Z55: =(MAX(B53:C53)) -> 0 | AA55: =LOOKUP(Z55,informatieblad!$C$27:$C$32,informatieblad!$A$27:$A$32) -> 0.5 | AB55: =VLOOKUP(AA55,informatieblad!$A$27:$M$32,6,FALSE) -> 0 | AC55: =VLOOKUP(AA55,informatieblad!$A$27:$M$32,8,FALSE) -> 45.1248 | AD55: =VLOOKUP(AA55,informatieblad!$A$27:$M$32,9,FALSE) -> 0 | AE55: =VLOOKUP(AA55,informatieblad!$A$27:$M$32,11,FALSE) -> 32.4632 | AF55: =VLOOKUP(AA55,informatieblad!$A$27:$M$32,13,FALSE) -> 4 | AG55: =ROUND((AF55*P55),1) -> 0 | AI55: =(IF(B54=AI53,((2*B53)+(2*C53)),IF(B54=AI54,((2*B53)+(2*C53)),0)))*C55 -> 0 | AJ55: =(IF(C54=AI53,((2*B53)+(2*C53)),IF(C54=AI54,((2*B53)+(2*C53)),0)))*C55 -> 0 | AK55: =(IF(B54=AK53,((2*B53)+(2*C53)),IF(B54=AK54,((2*B53)+(2*C53)),0)))*C55 -> 0 | AL55: =(IF(C54=AK53,((2*B53)+(2*C53)),IF(C54=AK54,((2*B53)+(2*C53)),0)))*C55 -> 0 | AM55: =(IF(B54=AM53,((2*B53)+(2*C53)),IF(B54=AM54,((2*B53)+(2*C53)),0)))*C55 -> 0 | AN55: =(IF(C54=AM53,((2*B53)+(2*C53)),IF(C54=AM54,((2*B53)+(2*C53)),0)))*C55 -> 0 | AO55: =(IF(B54=AO53,((2*B53)+(2*C53)),0))*C55 -> 0 | AP55: =(IF(C54=AO53,((2*B53)+(2*C53)),0))*C55 -> 0 | AR55: =D53*C55 -> 0 | AT55: ='UC mounting materials '!$B$11 -> Rail 41x41 | AU55: =IF(Z55>999,(Z55+100),0)*C55 -> 0 | AW55: =IF(B54=informatieblad!$A$6,informatieblad!$B$6,IF(B54=informatieblad!$A$7,informatieblad!$B$7,IF(B54=informatieblad!$A$8,informatieblad!$B$8,IF(B54=informatieblad!$A$2,informatieblad!$B$2,IF(B54=informatieblad!$A$3,informatieblad!$B$3,IF(B54=informatieblad!$A$4,informatieblad!$B$4,IF(B54=informatieblad!$A$5,informatieblad!$B$5,""))))))) | AX55: =IF(C54=informatieblad!$A$6,informatieblad!$B$6,IF(C54=informatieblad!$A$7,informatieblad!$B$7,IF(C54=informatieblad!$A$8,informatieblad!$B$8,IF(C54=informatieblad!$A$2,informatieblad!$B$2,IF(C54=informatieblad!$A$3,informatieblad!$B$3,IF(C54=informatieblad!$A$4,informatieblad!$B$4,IF(C54=informatieblad!$A$5,informatieblad!$B$5,""))))))) | AY55: =IF(AW55=AY53,(4*C55),0) -> 0 | AZ55: =IF(AX55=AY53,(4*C55),0) -> 0 | BA55: =IF(AW55=BA53,(4*C55),0) -> 0 | BB55: =IF(AX55=BA53,(4*C55),0) -> 0
I57: None | M57: Nr. | N57: m2/pcs | O57: rounded m2/pcs | P57: m2/pcs | Q57: rounded m2/pcs | R57: Purchase price total | S57: Sales price total | T57: Options Duct | W57: price /m2 | X57: price /m2 | Z57: biggest size | AA57: plate thickness | AB57: price /m2 | AC57: price /m2 | AD57: price /m2 | AE57: price /m2 | AF57: kg/m2 | AG57: kg/pcs | AI57: =informatieblad!$A$6 -> FL20 | AK57: =informatieblad!$A$7 -> FL30 | AM57: =informatieblad!$A$8 -> FL40 | AO57: =informatieblad!$A$5 -> none | AR57: Lengte | AU57: width | AW57: bolt & nuts | AY57: =informatieblad!$B$3 -> 0 | AZ57: =informatieblad!$B$3 -> 0 | BA57: =informatieblad!$B$4 -> 0 | BB57: =informatieblad!$B$4 -> 0
B58: =IF($C59>0,IF(MAX(B57:C57)<informatieblad!$Q$4,informatieblad!$P$3,IF(MAX(B57:C57)>informatieblad!$R$4,informatieblad!$P$5,informatieblad!$P$4)),"") | C58: =IF($C59>0,IF(MAX(B57:C57)<informatieblad!$Q$4,informatieblad!$P$3,IF(MAX(B57:C57)>informatieblad!$R$4,informatieblad!$P$5,informatieblad!$P$4)),"") | E58: =A57&"-"&informatieblad!$B$12&"-"&B57&"-"&C57&"-"&D57&"-"&B58&"-"&C58&"-"&F59 -> -RctD------Options None | M58: =A57 -> 0 | N58: Luka | O58: Luka | P58: purchase | Q58: purchase | R58: purchase | T58: m2/pcs | U58: purchase | V58: sales | W58: sales fittings | X58: purchase ducts | Z58: A1-A2-A3-B | AB58: purchase fittings | AC58: sales fittings | AD58: purchase ducts | AE58: sales ducts | AI58: =informatieblad!$A$2 -> FL20 loose | AK58: =informatieblad!$A$3 -> FL30 loose | AM58: =informatieblad!$A$4 -> FL40 loose | AT58: ='UC mounting materials '!$B$10 -> Rail 30x15 | AU58: =IF(Z59<1000,(Z59+100),0)*C59 -> 0 | AW58: type | AX58: type | AY58: aantal | AZ58: aantal | BA58: aantal | BB58: aantal
B59: aantal | D59: =C59*O59 -> 0 | E59: m2 | F59: Options None | N59: =(((2*(B57+C57))*D57)/1000000) -> 0 | O59: =((IF(N59<=informatieblad!$I$12,informatieblad!$I$12,IF(N59>=informatieblad!$I$12,N59)))) -> 0.5 | P59: =(((2*B57)+(2*C57))*D57)/1000000 -> 0 | Q59: =((IF(P59<=informatieblad!$H$12,informatieblad!$H$12,IF(P59>=informatieblad!$H$12,P59)))) -> 0 | R59: =((Q59*X59)+(Q59*U59))*C59 -> 0 | S59: =((O59*W59)+(O59*V59))*C59 -> 0 | T59: =F59 -> Options None | U59: =VLOOKUP(F59,informatieblad!$A$37:$D$41,2,FALSE) -> 0 | V59: =VLOOKUP(F59,informatieblad!$A$37:$D$41,4,FALSE) -> 0 | W59: =((IF(D57<=900,AC59,IF(D57>=900,AE59)))) -> 45.1248 | X59: =((IF(D57<=900,AB59,IF(D57>=900,AD59)))) -> 0 | Z59: =(MAX(B57:C57)) -> 0 | AA59: =LOOKUP(Z59,informatieblad!$C$27:$C$32,informatieblad!$A$27:$A$32) -> 0.5 | AB59: =VLOOKUP(AA59,informatieblad!$A$27:$M$32,6,FALSE) -> 0 | AC59: =VLOOKUP(AA59,informatieblad!$A$27:$M$32,8,FALSE) -> 45.1248 | AD59: =VLOOKUP(AA59,informatieblad!$A$27:$M$32,9,FALSE) -> 0 | AE59: =VLOOKUP(AA59,informatieblad!$A$27:$M$32,11,FALSE) -> 32.4632 | AF59: =VLOOKUP(AA59,informatieblad!$A$27:$M$32,13,FALSE) -> 4 | AG59: =ROUND((AF59*P59),1) -> 0 | AI59: =(IF(B58=AI57,((2*B57)+(2*C57)),IF(B58=AI58,((2*B57)+(2*C57)),0)))*C59 -> 0 | AJ59: =(IF(C58=AI57,((2*B57)+(2*C57)),IF(C58=AI58,((2*B57)+(2*C57)),0)))*C59 -> 0 | AK59: =(IF(B58=AK57,((2*B57)+(2*C57)),IF(B58=AK58,((2*B57)+(2*C57)),0)))*C59 -> 0 | AL59: =(IF(C58=AK57,((2*B57)+(2*C57)),IF(C58=AK58,((2*B57)+(2*C57)),0)))*C59 -> 0 | AM59: =(IF(B58=AM57,((2*B57)+(2*C57)),IF(B58=AM58,((2*B57)+(2*C57)),0)))*C59 -> 0 | AN59: =(IF(C58=AM57,((2*B57)+(2*C57)),IF(C58=AM58,((2*B57)+(2*C57)),0)))*C59 -> 0 | AO59: =(IF(B58=AO57,((2*B57)+(2*C57)),0))*C59 -> 0 | AP59: =(IF(C58=AO57,((2*B57)+(2*C57)),0))*C59 -> 0 | AR59: =D57*C59 -> 0 | AT59: ='UC mounting materials '!$B$11 -> Rail 41x41 | AU59: =IF(Z59>999,(Z59+100),0)*C59 -> 0 | AW59: =IF(B58=informatieblad!$A$6,informatieblad!$B$6,IF(B58=informatieblad!$A$7,informatieblad!$B$7,IF(B58=informatieblad!$A$8,informatieblad!$B$8,IF(B58=informatieblad!$A$2,informatieblad!$B$2,IF(B58=informatieblad!$A$3,informatieblad!$B$3,IF(B58=informatieblad!$A$4,informatieblad!$B$4,IF(B58=informatieblad!$A$5,informatieblad!$B$5,""))))))) | AX59: =IF(C58=informatieblad!$A$6,informatieblad!$B$6,IF(C58=informatieblad!$A$7,informatieblad!$B$7,IF(C58=informatieblad!$A$8,informatieblad!$B$8,IF(C58=informatieblad!$A$2,informatieblad!$B$2,IF(C58=informatieblad!$A$3,informatieblad!$B$3,IF(C58=informatieblad!$A$4,informatieblad!$B$4,IF(C58=informatieblad!$A$5,informatieblad!$B$5,""))))))) | AY59: =IF(AW59=AY57,(4*C59),0) -> 0 | AZ59: =IF(AX59=AY57,(4*C59),0) -> 0 | BA59: =IF(AW59=BA57,(4*C59),0) -> 0 | BB59: =IF(AX59=BA57,(4*C59),0) -> 0
...

Sheet Verloopstukken
O1: =informatieblad!F12&" "&informatieblad!D13 -> Total aantal of Verloopstukken (RctR) | T1: =C22+C26+C30+C34+C38+C42+C46+C50+C54+C58+C62+C66+C70+C74+C78+C82+C86+C90+C94+C98+C102+C106+C110+C114+C118+C122+C126+C130+C134+C136 -> 0
O2: =informatieblad!F13 -> Total purchase price | T2: =T22+T26+T30+T34+T38+T42+T46+T50+T54+T58+T62+T66+T70+T74+T78+T82+T86+T90+T94+T98+T102+T106+T110+T114+T118+T122+T126+T130+T134+T138 -> 0
O3: =informatieblad!F14 -> Total sales price | T3: =U22+U26+U30+U34+U38+U42+U46+U50+U54+U58+U62+U66+U70+U74+U78+U82+U86+U90+U94+U98+U102+U106+U110+U114+U118+U122+U126+U130+U134+U138 -> 0
J4: =informatieblad!D13 -> Verloopstukken (RctR)
A15: Nr. | B15: A1 | C15: B1 | D15: A2 | E15: B2 | F15: C | G15: D | H15: E | I15: F | J15: Lengte | K15: Opmerkingen
A16: VB. | B16: 1000 | C16: 500 | D16: 600 | E16: 350 | F16: 200 | G16: 200 | H16: 75 | I16: 75 | J16: 406 | K16: None
B17: FL30 | D17: FL20 | F17: VB.-RctR-1000-500-600-350-200-200-75-75-406-FL30-FL20 | H17: minimale Lengte | J17: 406
B18: aantal | C18: 1 | E18: 1.2 | F18: m2 | G18: Options None
F20: =(B20-D20)/2 -> 0 | G20: =(B20-D20)-F20 -> 0 | H20: =(C20-E20)/2 -> 0 | I20: =(C20-E20)-H20 -> 0 | K20: None | O20: Nr. | P20: m2/pcs | Q20: rounded m2/pcs | R20: m2/pcs | S20: rounded m2/pcs | T20: Purchase price total | U20: Sales price total | V20: Options Duct | Y20: biggest size | Z20: biggest size | AA20: biggest size | AB20: biggest size hypotenusa | AC20: Hypotenusa A1-A2 | AD20: Hypotenusa B1-B2 | AE20: plate thickness | AF20: price /m2 | AG20: price /m2 | AH20: kg/m2 | AI20: kg/pcs | AK20: =informatieblad!$A$6 -> FL20 | AM20: =informatieblad!$A$7 -> FL30 | AO20: =informatieblad!$A$8 -> FL40 | AQ20: =informatieblad!$A$5 -> none | AT20: Lengte | AW20: width | AY20: bolt & nuts | BA20: =informatieblad!$B$3 -> 0 | BB20: =informatieblad!$B$3 -> 0 | BC20: =informatieblad!$B$4 -> 0 | BD20: =informatieblad!$B$4 -> 0
B21: =IF($C22>0,IF(MAX(B20:C20)<informatieblad!$Q$4,informatieblad!$P$3,IF(MAX(B20:C20)>informatieblad!$R$4,informatieblad!$P$5,informatieblad!$P$4)),"") | D21: =IF($C22>0,IF(MAX(D20:E20)<informatieblad!$Q$4,informatieblad!$P$3,IF(MAX(D20:E20)>informatieblad!$R$4,informatieblad!$P$5,informatieblad!$P$4)),"") | F21: =A20&"-"&informatieblad!$B$13&"-"&B20&"-"&C20&"-"&D20&"-"&E20&"-"&F20&"-"&G20&"-"&H20&"-"&I20&"-"&J20&"-"&B21&"-"&G22 -> -RctR-----0-0-0-0---Options None | H21: minimale Lengte | J21: =(IF($C22>0,(IF(240>(MAX(C20-E20,E20-C20,B20-D20,D20-B20))/2*1.732,240,(MAX(C20-E20,E20-C20,B20-D20,D20-B20))/2*1.732)+30+30),"")) | O21: =A20 -> 0 | P21: Luka | Q21: Luka | R21: purchase | S21: purchase | T21: purchase | V21: m2/pcs | W21: purchase | X21: sales | Y21: A1-A2 | Z21: B1-B2 | AC21: A1-A2 | AD21: B1-B2 | AF21: purchase | AG21: sales | AK21: =informatieblad!$A$2 -> FL20 loose | AM21: =informatieblad!$A$3 -> FL30 loose | AO21: =informatieblad!$A$4 -> FL40 loose | AV21: ='UC mounting materials '!$B$10 -> Rail 30x15 | AW21: =IF(AA22<1000,(AA22+100),0)*C22 -> 0 | AY21: type | AZ21: type | BA21: aantal | BB21: aantal | BC21: aantal | BD21: aantal
B22: aantal | E22: =C22*Q22 -> 0 | F22: m2 | G22: Options None | P22: =(((2*(Y22+Z22))*(J20))/1000000) -> 0 | Q22: =((IF(P22<=informatieblad!$I$13,informatieblad!$I$13,IF(P22>=informatieblad!$I$13,P22)))) -> 0.5 | R22: =ROUND((((2*(Y22+Z22))*AB22)/1000000),2) -> 0 | S22: =((IF(R22<=informatieblad!$H$13,informatieblad!$H$13,IF(R22>=informatieblad!$H$13,R22)))) -> 0 | T22: =((S22*AF22)+(S22*W22))*C22 -> 0 | U22: =((Q22*AG22)+(Q22*X22))*C22 -> 0 | V22: =G22 -> Options None | W22: =VLOOKUP(G22,informatieblad!$A$37:$D$41,2,FALSE) -> 0 | X22: =VLOOKUP(G22,informatieblad!$A$37:$D$41,4,FALSE) -> 0 | Y22: =(MAX(B20,D20)) -> 0 | Z22: =(MAX(C20,E20)) -> 0 | AA22: =(MAX(B20:E20)) -> 0 | AB22: =(MAX(AD22,AC22)) -> 0 | AC22: =ROUND((SQRT((((MAX(F20,G20))^2)+(J20^2)))),0) -> 0 | AD22: =ROUND((SQRT((((MAX(H20,I20))^2)+(J20^2)))),0) -> 0 | AE22: =LOOKUP(AA22,informatieblad!$C$27:$C$32,informatieblad!$A$27:$A$32) -> 0.5 | AF22: =VLOOKUP(AE22,informatieblad!$A$27:$M$32,6,FALSE) -> 0 | AG22: =VLOOKUP(AE22,informatieblad!$A$27:$M$32,8,FALSE) -> 45.1248 | AH22: =VLOOKUP(AE22,informatieblad!$A$27:$M$32,13,FALSE) -> 4 | AI22: =ROUND((AH22*S22),1) -> 0 | AK22: =(IF(B21=AK20,((2*B20)+(2*C20)),IF(B21=AK21,((2*B20)+(2*C20)),0)))*C22 -> 0 | AL22: =(IF(D21=AK20,((2*D20)+(2*E20)),IF(D21=AK21,((2*D20)+(2*E20)),0)))*C22 -> 0 | AM22: =(IF(D21=AM20,((2*B20)+(2*C20)),IF(D21=AM21,((2*B20)+(2*C20)),0)))*C22 -> 0 | AN22: =(IF(D21=AM20,((2*D20)+(2*E20)),IF(D21=AM21,((2*D20)+(2*E20)),0)))*C22 -> 0 | AO22: =(IF(B21=AO20,((2*B20)+(2*C20)),IF(B21=AO21,((2*B20)+(2*C20)),0)))*C22 -> 0 | AP22: =(IF(D21=AO20,((2*D20)+(2*E20)),IF(D21=AO21,((2*D20)+(2*E20)),0)))*C22 -> 0 | AQ22: =(IF(B21=AQ20,((2*B20)+(2*C20)),0))*C22 -> 0 | AR22: =(IF(D21=AQ20,((2*D20)+(2*E20)),0))*C22 -> 0 | AT22: =J20*C22 -> 0 | AV22: ='UC mounting materials '!$B$11 -> Rail 41x41 | AW22: =IF(AA22>999,(AA22+100),0)*C22 -> 0 | AY22: =IF(B21=informatieblad!$A$6,informatieblad!$B$6,IF(B21=informatieblad!$A$7,informatieblad!$B$7,IF(B21=informatieblad!$A$8,informatieblad!$B$8,IF(B21=informatieblad!$A$2,informatieblad!$B$2,IF(B21=informatieblad!$A$3,informatieblad!$B$3,IF(B21=informatieblad!$A$4,informatieblad!$B$4,IF(B21=informatieblad!$A$5,informatieblad!$B$5,""))))))) | AZ22: =IF(D21=informatieblad!$A$6,informatieblad!$B$6,IF(D21=informatieblad!$A$7,informatieblad!$B$7,IF(D21=informatieblad!$A$8,informatieblad!$B$8,IF(D21=informatieblad!$A$2,informatieblad!$B$2,IF(D21=informatieblad!$A$3,informatieblad!$B$3,IF(D21=informatieblad!$A$4,informatieblad!$B$4,IF(D21=informatieblad!$A$5,informatieblad!$B$5,""))))))) | BA22: =IF(AY22=BA20,(4*C22),0) -> 0 | BB22: =IF(AZ22=BA20,(4*C22),0) -> 0 | BC22: =IF(AY22=BC20,(4*C22),0) -> 0 | BD22: =IF(AZ22=BC20,(4*C22),0) -> 0
F24: =(B24-D24)/2 -> 0 | G24: =(B24-D24)-F24 -> 0 | H24: =(C24-E24)/2 -> 0 | I24: =(C24-E24)-H24 -> 0 | K24: None | O24: Nr. | P24: m2/pcs | Q24: rounded m2/pcs | R24: m2/pcs | S24: rounded m2/pcs | T24: Purchase price total | U24: Sales price total | V24: Options Duct | Y24: biggest size | Z24: biggest size | AA24: biggest size | AB24: biggest size hypotenusa | AC24: Hypotenusa A1-A2 | AD24: Hypotenusa B1-B2 | AE24: plate thickness | AF24: price /m2 | AG24: price /m2 | AH24: kg/m2 | AI24: kg/pcs | AK24: =informatieblad!$A$6 -> FL20 | AM24: =informatieblad!$A$7 -> FL30 | AO24: =informatieblad!$A$8 -> FL40 | AQ24: =informatieblad!$A$5 -> none | AT24: Lengte | AW24: width | AY24: bolt & nuts | BA24: =informatieblad!$B$3 -> 0 | BB24: =informatieblad!$B$3 -> 0 | BC24: =informatieblad!$B$4 -> 0 | BD24: =informatieblad!$B$4 -> 0
